BEGIN:VCALENDAR
VERSION:2.0
PRODID:-//The BoZone - ECPv5.12.0//NONSGML v1.0//EN
CALSCALE:GREGORIAN
METHOD:PUBLISH
X-WR-CALNAME:The BoZone
X-ORIGINAL-URL:https://bozone.com
X-WR-CALDESC:Events for The BoZone
BEGIN:VTIMEZONE
TZID:America/Denver
BEGIN:DAYLIGHT
TZOFFSETFROM:-0700
TZOFFSETTO:-0600
TZNAME:MDT
DTSTART:20260308T090000
END:DAYLIGHT
BEGIN:STANDARD
TZOFFSETFROM:-0600
TZOFFSETTO:-0700
TZNAME:MST
DTSTART:20261101T080000
END:STANDARD
END:VTIMEZONE
BEGIN:VEVENT
DTSTART;TZID=America/Denver:20260211T100000
DTEND;TZID=America/Denver:20260211T120000
DTSTAMP:20260422T000310
CREATED:20251228T220007Z
LAST-MODIFIED:20251228T220137Z
UID:304396-1770804000-1770811200@bozone.com
SUMMARY:Educational Program - Symphony Storytime
DESCRIPTION:Feb\n11\n\nWed\n\n\n\n\nEducational Program\n\nSymphony Storytime\n\n\n\n10:15 AM – 11:15 AM UTC-7\n\n\n\nBozeman Public Library\n\n\n\n\nLearn More
URL:https://bozone.com/event/educational-program-symphony-storytime-2/
LOCATION:Bozeman Public Library\, 626 East Main Street\, Bozeman\, MT\, 59715\, United States
CATEGORIES:Music
GEO:45.6785823;-111.0270991
X-APPLE-STRUCTURED-LOCATION;VALUE=URI;X-ADDRESS=Bozeman Public Library 626 East Main Street Bozeman MT 59715 United States;X-APPLE-RADIUS=500;X-TITLE=626 East Main Street:geo:-111.0270991,45.6785823
END:VEVENT
BEGIN:VEVENT
DTSTART;TZID=America/Denver:20260211T111500
DTEND;TZID=America/Denver:20260211T140000
DTSTAMP:20260422T000310
CREATED:20260128T032314Z
LAST-MODIFIED:20260128T032314Z
UID:306492-1770808500-1770818400@bozone.com
SUMMARY:Public Skate
DESCRIPTION:Public Skate- Click here for more information \n\nWednesday\, February 11·11:15am – 2:00pm\n\n\nnotes\n\nCheck-in at Ticket Booth is required prior to skating. \nAdult: $10\nYouth $7\nAges 5 and under: Free \nAdult 11x Punch Card: $100\nAdult Season Pass: $180\nYouth 11x Punch Card: $70\nYouth Season Pass: $125 \nSkate rental: $5 per pair.\nTicket Booth staff will assist with skate r
URL:https://bozone.com/event/public-skate-38/
LOCATION:Ressler Rink – GCF\, Gallatin Fairgrounds\, Bozeman\, MT\, 59715\, United States
CATEGORIES:Sporting Events
GEO:45.689199;-111.037633
X-APPLE-STRUCTURED-LOCATION;VALUE=URI;X-ADDRESS=Ressler Rink – GCF Gallatin Fairgrounds Bozeman MT 59715 United States;X-APPLE-RADIUS=500;X-TITLE=Gallatin Fairgrounds:geo:-111.037633,45.689199
END:VEVENT
BEGIN:VEVENT
DTSTART;TZID=America/Denver:20260211T120000
DTEND;TZID=America/Denver:20260211T130000
DTSTAMP:20260422T000310
CREATED:20260127T205504Z
LAST-MODIFIED:20260127T205504Z
UID:306231-1770811200-1770814800@bozone.com
SUMMARY:WITCHIES\, Chickies\, and Radical “Libbers”: The Women’s Liberation Movement and American GIs
DESCRIPTION:Wednesday\, February 11th\, Noon- 1 p.m. SUB 168\nThroughout the 1960s and into the early 1970s\, a wave of social and racial justice movements swept the United States\, capturing the attention of American citizens both at home and abroad\, including men and women serving in the Vietnam War. One of these countercultural campaigns—the women’s liberation movement—issued a direct challenge to martial masculinity\, a central pillar in the United States’ battle against communism in Vietnam. Join MSU’s Dr. Addison Jensen as she explores American servicemen’s responses to this “crisis of masculinity” through the lens of media and popular culture—mainstream publications such as Playboy\, the GI-produced magazine Grunt Free Press\, and the music of the era.  Dr.  Jensen is currently at work on her manuscript\, Blowing In the Wind: Media\, Counterculture\, and the American Military in Vietnam.
URL:https://bozone.com/event/witchies-chickies-and-radical-libbers-the-womens-liberation-movement-and-american-gis/
LOCATION:MSU – SUB\, 751 W Grant St.\, Bozeman\, MT\, 59715\, United States
CATEGORIES:Lectures
GEO:45.6667557;-111.04981
X-APPLE-STRUCTURED-LOCATION;VALUE=URI;X-ADDRESS=MSU – SUB 751 W Grant St. Bozeman MT 59715 United States;X-APPLE-RADIUS=500;X-TITLE=751 W Grant St.:geo:-111.04981,45.6667557
END:VEVENT
BEGIN:VEVENT
DTSTART;TZID=America/Denver:20260211T160000
DTEND;TZID=America/Denver:20260211T190000
DTSTAMP:20260422T000311
CREATED:20260128T152306Z
LAST-MODIFIED:20260128T152306Z
UID:306698-1770825600-1770836400@bozone.com
SUMMARY:Mathias
DESCRIPTION:Feb\n11\n\n\n\n\n\nMathias\n\n\n\n4:00 PM – 7:00 PM\n\n\n\nDear Josephine Lounge
URL:https://bozone.com/event/mathias-45/
LOCATION:Dear Josephine Lounge – One&Only Moonlight Basin\, 77 Roosevelt Rd\, Big Sky\, MT\, 59716\, United States
CATEGORIES:Music
END:VEVENT
BEGIN:VEVENT
DTSTART;TZID=America/Denver:20260211T160000
DTEND;TZID=America/Denver:20260211T170000
DTSTAMP:20260422T000311
CREATED:20260128T173802Z
LAST-MODIFIED:20260128T173802Z
UID:306878-1770825600-1770829200@bozone.com
SUMMARY:Midweek Eats - Creatively Healthy
DESCRIPTION:Midweek Eats – Creatively Healthy\nWednesday\, February 11: 4:00pm – 5:00pm\n BPL – The Kitchen Table\nAge group:   All Ages\nevent type:  Health & Wellness\, Creative Labs\nJoin Amy Ferguson\, PharmD and Integrative Nutrition Health Coach\, for simple and creative strategies to prepare healthier meals for those you love.
URL:https://bozone.com/event/midweek-eats-creatively-healthy/
LOCATION:Bozeman Public Library\, 626 East Main Street\, Bozeman\, MT\, 59715\, United States
CATEGORIES:Classes,Miscellanea
GEO:45.6785823;-111.0270991
X-APPLE-STRUCTURED-LOCATION;VALUE=URI;X-ADDRESS=Bozeman Public Library 626 East Main Street Bozeman MT 59715 United States;X-APPLE-RADIUS=500;X-TITLE=626 East Main Street:geo:-111.0270991,45.6785823
END:VEVENT
BEGIN:VEVENT
DTSTART;TZID=America/Denver:20260211T160000
DTEND;TZID=America/Denver:20260211T160000
DTSTAMP:20260422T000311
CREATED:20260208T000706Z
LAST-MODIFIED:20260208T000706Z
UID:308097-1770825600-1770825600@bozone.com
SUMMARY:Clothing & Craft Swap - Day 3 of Bozeman Fashion Week
DESCRIPTION:Craft Supply Swap & Clothing Swap with Creative Reuse Montana!\nBring craft supplies and clothing you are ready to part with\, and swap them for new-to-you items at the Craft & Clothing Swap! You are not required to bring items to the swap in order to participate – and if you do choose to bring things to the swap\, please make sure they are in usable & sanitary condition. For this swap\, we are emphasizing self-expression\, upcycling & styling as well as gender affirming clothing and warm gear for winter. If you find garments you are inspired to alter or mend\, you can bring them back for the Mending Workshop on Thursday! \nWednesday\, February 11th\nStudio Wheelhouse\n10 Evergreen Dr\, suite B\, Bozeman\, MT 59715 \n4:00-8:00 PM – Drop-in anytime to swap clothing\, craft supplies\, and more! \nThere will also be workshop events happening at Wheelhouse\, alongside the swap\, throughout the afternoon. If you would like to learn a new craft or just hang out with their amazing community of local artists\, please don’t hesitate to join in! \n5:00-7:00 PM: Stitch around the World – Guided sewing lessons from instructor Red teach a new sewing technique from around the world every Wednesday!\n7:00-8:30PM: Woven Wednesdays – Join Red for their weekly community sewing & stitching circle. All crafts and projects are welcome! \nWhether you come to this workshop as a complete beginner or an experienced seamstress\, all are welcome. Our volunteers will help with your repair or upcycling project to the best of their ability. If you are interested in learning more art techniques to expand your self-expression\, please check out the variety of classes Wheelhouse offers throughout the year! If you are interested in the tools & supplies the studio has to offer during their open studio hours\, you can also learn more about studio access. \nTo maintain a welcoming and accessible environment\, tickets are available on a pay what you can system. We suggest $5 to help us cover the base costs of organization & give back to our volunteers and community. To give more support to our media & organizing team\, or “pay for a neighbor\,” you are welcome to choose a higher ticket price or to make a donation. Tickets are non-refundable. \nYou can get your tickets at the door\, or find them in advance at https://www.bozemanfashionweek.com/event-details/clothing-and-craft-swap
URL:https://bozone.com/event/clothing-craft-swap-day-3-of-bozeman-fashion-week/
LOCATION:Studio Wheelhouse\, 10 Evergreen Drive\, Suite B\, Bozeman\, MT\, 59715\, United States
CATEGORIES:Arts & Theatre,Miscellanea
GEO:45.6956768;-111.0351487
X-APPLE-STRUCTURED-LOCATION;VALUE=URI;X-ADDRESS=Studio Wheelhouse 10 Evergreen Drive Suite B Bozeman MT 59715 United States;X-APPLE-RADIUS=500;X-TITLE=10 Evergreen Drive\, Suite B:geo:-111.0351487,45.6956768
END:VEVENT
BEGIN:VEVENT
DTSTART;TZID=America/Denver:20260211T170000
DTEND;TZID=America/Denver:20260211T170000
DTSTAMP:20260422T000311
CREATED:20260118T214447Z
LAST-MODIFIED:20260118T214447Z
UID:305820-1770829200-1770829200@bozone.com
SUMMARY:Tarot Card Readings by Maisy
DESCRIPTION:Drop into the 1889 Barn and grab a drink at the bar. Maisy will be in the barn and available for readings. Bar opens at 5PM. 12670 Portnell Road in beautiful Gallatin Gateway Montana!
URL:https://bozone.com/event/tarot-card-readings-by-maisy/
LOCATION:1889 Barn\, 12670 Portnell Road\, Bozeman\, MT\, 59718\, United States
CATEGORIES:Arts & Theatre,Miscellanea
GEO:45.574385;-111.1513046
X-APPLE-STRUCTURED-LOCATION;VALUE=URI;X-ADDRESS=1889 Barn 12670 Portnell Road Bozeman MT 59718 United States;X-APPLE-RADIUS=500;X-TITLE=12670 Portnell Road:geo:-111.1513046,45.574385
END:VEVENT
BEGIN:VEVENT
DTSTART;TZID=America/Denver:20260211T173000
DTEND;TZID=America/Denver:20260211T173000
DTSTAMP:20260422T000311
CREATED:20260126T054144Z
LAST-MODIFIED:20260126T054144Z
UID:305953-1770831000-1770831000@bozone.com
SUMMARY:Kyle Austin
DESCRIPTION:Kyle Austin – Bridger Brewing Bozeman
URL:https://bozone.com/event/kyle-austin/
LOCATION:Bridger Brewing – Bozeman\, 1609 S. 11th Avenue\, Bozeman\, MT\, 59715\, United States
CATEGORIES:Music
GEO:45.6623949;-111.0543439
X-APPLE-STRUCTURED-LOCATION;VALUE=URI;X-ADDRESS=Bridger Brewing – Bozeman 1609 S. 11th Avenue Bozeman MT 59715 United States;X-APPLE-RADIUS=500;X-TITLE=1609 S. 11th Avenue:geo:-111.0543439,45.6623949
END:VEVENT
BEGIN:VEVENT
DTSTART;TZID=America/Denver:20260211T180000
DTEND;TZID=America/Denver:20260211T180000
DTSTAMP:20260422T000311
CREATED:20260128T025200Z
LAST-MODIFIED:20260128T025200Z
UID:306484-1770832800-1770832800@bozone.com
SUMMARY:Sam Hall
DESCRIPTION:11th Sam Hall
URL:https://bozone.com/event/sam-hall-3/
LOCATION:AC Hotel Bozeman Downtown\, 110 No. Tracy Ave.\, Bozeman\, MT\, 59715\, United States
CATEGORIES:Music
GEO:45.6807269;-111.0369772
X-APPLE-STRUCTURED-LOCATION;VALUE=URI;X-ADDRESS=AC Hotel Bozeman Downtown 110 No. Tracy Ave. Bozeman MT 59715 United States;X-APPLE-RADIUS=500;X-TITLE=110 No. Tracy Ave.:geo:-111.0369772,45.6807269
END:VEVENT
BEGIN:VEVENT
DTSTART;TZID=America/Denver:20260211T180000
DTEND;TZID=America/Denver:20260211T180000
DTSTAMP:20260422T000311
CREATED:20260208T032003Z
LAST-MODIFIED:20260208T032003Z
UID:308199-1770832800-1770832800@bozone.com
SUMMARY:Tyler James
DESCRIPTION:Tyler James\nWednesday\, February 11\, 2026 \n6:00 PM  8:00 PM \nTune Up 
URL:https://bozone.com/event/tyler-james/
LOCATION:Tune Up Bar\, 24 W Mendenhall St\, Bozeman\, MT\, 59715\, United States
CATEGORIES:Music
GEO:45.6800443;-111.038017
X-APPLE-STRUCTURED-LOCATION;VALUE=URI;X-ADDRESS=Tune Up Bar 24 W Mendenhall St Bozeman MT 59715 United States;X-APPLE-RADIUS=500;X-TITLE=24 W Mendenhall St:geo:-111.038017,45.6800443
END:VEVENT
BEGIN:VEVENT
DTSTART;TZID=America/Denver:20260211T183000
DTEND;TZID=America/Denver:20260211T183000
DTSTAMP:20260422T000311
CREATED:20260117T220734Z
LAST-MODIFIED:20260117T220734Z
UID:305558-1770834600-1770834600@bozone.com
SUMMARY:Science Inquiry Series:  Solar Energy--from Physics to Policy
DESCRIPTION:What has made solar-generated electricity cheaper than all other methods of power generation\, and what does it mean for our energy future? Dr. Erik Grumstrup\, Professor in the MSU Department of Chemistry and Biochemistry\, will explain the fundamental physics of photovoltaic generation and how economic and adjacent technological drivers are leading to unprecedented changes in how our energy needs will be met in the future.
URL:https://bozone.com/event/science-inquiry-series-solar-energy-from-physics-to-policy/
LOCATION:Bozeman Public Library\, 626 East Main Street\, Bozeman\, MT\, 59715\, United States
CATEGORIES:Lectures
GEO:45.6785823;-111.0270991
X-APPLE-STRUCTURED-LOCATION;VALUE=URI;X-ADDRESS=Bozeman Public Library 626 East Main Street Bozeman MT 59715 United States;X-APPLE-RADIUS=500;X-TITLE=626 East Main Street:geo:-111.0270991,45.6785823
END:VEVENT
BEGIN:VEVENT
DTSTART;TZID=America/Denver:20260211T184500
DTEND;TZID=America/Denver:20260211T184500
DTSTAMP:20260422T000311
CREATED:20260127T183713Z
LAST-MODIFIED:20260127T190924Z
UID:306169-1770835500-1770835500@bozone.com
SUMMARY:BFS: All That's Left of You
DESCRIPTION:All That’s Left of YouJordan’s Official Submission – 98th Academy AwardsBFS WINTER FILM SERIES AT RIALTO THEATRE6:45 PM Wednesday\, February 11\n\nVisit Tix Site\n\nDirected by Cherien Dabis | Produced by Mark Ruffalo and Javier Bardem \n\n\nIn the Occupied West Bank of the 1980s\, a Palestinian teenager is swept into a protest that changes the course of his family’s life. Reeling from its aftermath\, his mother\, Hanan\, shares the story that led them to that fateful moment. Spanning seven decades\, this epic drama traces the hopes and heartaches of one uprooted family\, revealing not only the scars of displacement\, but the unbreakable spirit of survival.. In Arabic with subtitles. NR. 145 minutes. NYT Critics Pick.
URL:https://bozone.com/event/bfs-all-thats-left-of-you/
LOCATION:The Rialto\, 10 West Main street\, Bozeman\, MT\, 59715\, United States
CATEGORIES:Movies
GEO:45.6791025;-111.0375983
X-APPLE-STRUCTURED-LOCATION;VALUE=URI;X-ADDRESS=The Rialto 10 West Main street Bozeman MT 59715 United States;X-APPLE-RADIUS=500;X-TITLE=10 West Main street:geo:-111.0375983,45.6791025
END:VEVENT
BEGIN:VEVENT
DTSTART;TZID=America/Denver:20260211T190000
DTEND;TZID=America/Denver:20260211T190000
DTSTAMP:20260422T000311
CREATED:20251230T025540Z
LAST-MODIFIED:20260208T041001Z
UID:305113-1770836400-1770836400@bozone.com
SUMMARY:Trivia in the Pines
DESCRIPTION:Pine Creek Lodge Trivia Night\n\nWed\, Jan 7\, 2026 to \nThru Wed\, Apr 29\, 2026 \n\n\n\n\n\n\n\n\nEvery Wednesday until April 29th\, from 7-9pm. \nTeams from 1-6 people. Entry is $5 per person. \nCurrent Events\, Potpourri\, Name That Tune\, handouts and more. \nNightly prize\, plus a prize for the season long champions. \nWe are first come first serve. We do not accept reservations. Please get there early to ensure you get a table. \nCome on in\, drink beer\, eat dinner\, have some fun and let’s Trivia!
URL:https://bozone.com/event/trivia-in-the-pines-4/
LOCATION:Pine Creek Lodge – LV\, 2496 East River Road\, Livingston\, United States
CATEGORIES:Miscellanea
GEO:45.5076317;-110.5635992
X-APPLE-STRUCTURED-LOCATION;VALUE=URI;X-ADDRESS=Pine Creek Lodge – LV 2496 East River Road Livingston United States;X-APPLE-RADIUS=500;X-TITLE=2496 East River Road:geo:-110.5635992,45.5076317
END:VEVENT
BEGIN:VEVENT
DTSTART;TZID=America/Denver:20260211T190000
DTEND;TZID=America/Denver:20260211T190000
DTSTAMP:20260422T000311
CREATED:20260126T054023Z
LAST-MODIFIED:20260126T054023Z
UID:305954-1770836400-1770836400@bozone.com
SUMMARY:Solar Power for Crops and Cows: Why Montana's Farmers and Ranchers are Embracing Solar
DESCRIPTION:Gallatin Valley Earth Day & League of Women Voters present a panel discussion with three Montana ranchers & a solar installer about why and how ranchers are installing huge solar arrays.\nInstalling solar is easier than you think! Join us to learn how to qualify for the federal tax credit and how a solar PV system can save overhead and operating costs in the short term and long term. An investment for future generations\, that helps families stay on the ranch or farm! \nWednesday\, February 11th\nMuseum of the Rockies & live streamed\n7 pm (MT)\nFREE\nIn person & live streamed (and recorded) \nRegister in advance for this webinar:\nhttps://us02web.zoom.us/webinar/register/WN_3JFHo31BRr2LoryfgTEt5A
URL:https://bozone.com/event/solar-power-for-crops-and-cows-why-montanas-farmers-and-ranchers-are-embracing-solar/
LOCATION:Museum of the Rockies\, 600 W Kagy Blvd\, Bozeman\, MT\, 59718\, United States
CATEGORIES:Lectures
GEO:46.8796822;-110.3625658
X-APPLE-STRUCTURED-LOCATION;VALUE=URI;X-ADDRESS=Museum of the Rockies 600 W Kagy Blvd Bozeman MT 59718 United States;X-APPLE-RADIUS=500;X-TITLE=600 W Kagy Blvd:geo:-110.3625658,46.8796822
END:VEVENT
BEGIN:VEVENT
DTSTART;TZID=America/Denver:20260211T190000
DTEND;TZID=America/Denver:20260211T190000
DTSTAMP:20260422T000312
CREATED:20260128T152655Z
LAST-MODIFIED:20260128T152655Z
UID:306699-1770836400-1770836400@bozone.com
SUMMARY:Adult Swing Wednesdays
DESCRIPTION:Feb\n11\n\n\n\n\n\nAdult Swing Wednesdays\n\nAges 21+\n$15/Person\n$25/Couple\n\n\n\n\n7:00 PM\n\n\n\nThe Westerner
URL:https://bozone.com/event/adult-swing-wednesdays-12/
LOCATION:The Westerner – Gallatin Gateway\, 304 Mill St\, Gallatin Gateway\, MT\, 59730\, United States
CATEGORIES:Classes,Music
GEO:45.5907797;-111.2029969
X-APPLE-STRUCTURED-LOCATION;VALUE=URI;X-ADDRESS=The Westerner – Gallatin Gateway 304 Mill St Gallatin Gateway MT 59730 United States;X-APPLE-RADIUS=500;X-TITLE=304 Mill St:geo:-111.2029969,45.5907797
END:VEVENT
BEGIN:VEVENT
DTSTART;TZID=America/Denver:20260211T190000
DTEND;TZID=America/Denver:20260211T190000
DTSTAMP:20260422T000312
CREATED:20260128T152859Z
LAST-MODIFIED:20260128T152859Z
UID:306701-1770836400-1770836400@bozone.com
SUMMARY:Chandler Huntley
DESCRIPTION:Feb\n11\n\n\n\n\n\nChandler Huntley\n\n\n\n7:00 PM – 9:00 PM\n\n\n\nMontage Alpenglow Lounge
URL:https://bozone.com/event/chandler-huntley-73/
LOCATION:Montage Alpenglow Lounge – Big Sky\, 995 Settlement Trail\, Big Sky\, MT\, 59716\, United States
CATEGORIES:Music
GEO:45.2589401;-111.3686277
X-APPLE-STRUCTURED-LOCATION;VALUE=URI;X-ADDRESS=Montage Alpenglow Lounge – Big Sky 995 Settlement Trail Big Sky MT 59716 United States;X-APPLE-RADIUS=500;X-TITLE=995 Settlement Trail:geo:-111.3686277,45.2589401
END:VEVENT
BEGIN:VEVENT
DTSTART;TZID=America/Denver:20260211T190000
DTEND;TZID=America/Denver:20260211T190000
DTSTAMP:20260422T000312
CREATED:20260210T195236Z
LAST-MODIFIED:20260210T195236Z
UID:310667-1770836400-1770836400@bozone.com
SUMMARY:Jazz Trio
DESCRIPTION:Weekly\, no cover\, Piano Jazz Trio featuring\nMatt Ridgeway on Piano\nGarrett Stannard on Drums\nBridger Himmelspach on Bass
URL:https://bozone.com/event/jazz-trio/
LOCATION:Engine Room Pizza- Livingston\, 113 W Park St\, Livingston\, MT\, 59047\, United States
CATEGORIES:Music
GEO:45.6618581;-110.5616006
X-APPLE-STRUCTURED-LOCATION;VALUE=URI;X-ADDRESS=Engine Room Pizza- Livingston 113 W Park St Livingston MT 59047 United States;X-APPLE-RADIUS=500;X-TITLE=113 W Park St:geo:-110.5616006,45.6618581
END:VEVENT
BEGIN:VEVENT
DTSTART;TZID=America/Denver:20260211T193000
DTEND;TZID=America/Denver:20260211T193000
DTSTAMP:20260422T000312
CREATED:20251128T011653Z
LAST-MODIFIED:20251128T011653Z
UID:302879-1770838200-1770838200@bozone.com
SUMMARY:International Guitar Night 2026
DESCRIPTION:International Guitar Night 2026\n\n\nWED\, FEB 11 at 7:30 PM \nTickets: All Seats $44.75\nCheck out their sound HERE!
URL:https://bozone.com/event/international-guitar-night-2026/
LOCATION:The Ellen Theatre\, 17 W Main\, Bozeman\, MT\, 59715\, United States
CATEGORIES:Music
GEO:45.6794524;-111.037852
X-APPLE-STRUCTURED-LOCATION;VALUE=URI;X-ADDRESS=The Ellen Theatre 17 W Main Bozeman MT 59715 United States;X-APPLE-RADIUS=500;X-TITLE=17 W Main:geo:-111.037852,45.6794524
END:VEVENT
BEGIN:VEVENT
DTSTART;TZID=America/Denver:20260211T200000
DTEND;TZID=America/Denver:20260211T210000
DTSTAMP:20260422T000312
CREATED:20260127T235711Z
LAST-MODIFIED:20260127T235906Z
UID:306369-1770840000-1770843600@bozone.com
SUMMARY:Open Jam
DESCRIPTION:
URL:https://bozone.com/event/open-jam-31/
LOCATION:Murray Bar – Livingston\, 201 W Park St\, Livingston\, United States
CATEGORIES:Music
GEO:45.661755;-110.562305
X-APPLE-STRUCTURED-LOCATION;VALUE=URI;X-ADDRESS=Murray Bar – Livingston 201 W Park St Livingston United States;X-APPLE-RADIUS=500;X-TITLE=201 W Park St:geo:-110.562305,45.661755
END:VEVENT
BEGIN:VEVENT
DTSTART;TZID=America/Denver:20260211T200000
DTEND;TZID=America/Denver:20260211T200000
DTSTAMP:20260422T000312
CREATED:20260201T020014Z
LAST-MODIFIED:20260201T020014Z
UID:307835-1770840000-1770840000@bozone.com
SUMMARY:Brice Ash
DESCRIPTION:11 \n\ \nBrice Ash\nStarting at 8:00pm\nAmericana/ Folk
URL:https://bozone.com/event/brice-ash-11/
LOCATION:Tips Up – Big Sky\, 76 Town Center Ave\, Big Sky\, MT\, 59716\, United States
CATEGORIES:Music
GEO:45.2599334;-111.3070373
X-APPLE-STRUCTURED-LOCATION;VALUE=URI;X-ADDRESS=Tips Up – Big Sky 76 Town Center Ave Big Sky MT 59716 United States;X-APPLE-RADIUS=500;X-TITLE=76 Town Center Ave:geo:-111.3070373,45.2599334
END:VEVENT
BEGIN:VEVENT
DTSTART;TZID=America/Denver:20260211T210000
DTEND;TZID=America/Denver:20260211T210000
DTSTAMP:20260422T000312
CREATED:20260208T032148Z
LAST-MODIFIED:20260208T032148Z
UID:308200-1770843600-1770843600@bozone.com
SUMMARY:Still Fools
DESCRIPTION:Still Fools\nWednesday\, February 11\, 2026 \n9:00 PM  11:00 PM \nTune Up 
URL:https://bozone.com/event/still-fools-13/
LOCATION:Tune Up Bar\, 24 W Mendenhall St\, Bozeman\, MT\, 59715\, United States
CATEGORIES:Music
GEO:45.6800443;-111.038017
X-APPLE-STRUCTURED-LOCATION;VALUE=URI;X-ADDRESS=Tune Up Bar 24 W Mendenhall St Bozeman MT 59715 United States;X-APPLE-RADIUS=500;X-TITLE=24 W Mendenhall St:geo:-111.038017,45.6800443
END:VEVENT
END:VCALENDAR