BEGIN:VCALENDAR
VERSION:2.0
PRODID:-//The BoZone - ECPv5.12.0//NONSGML v1.0//EN
CALSCALE:GREGORIAN
METHOD:PUBLISH
X-WR-CALNAME:The BoZone
X-ORIGINAL-URL:https://bozone.com
X-WR-CALDESC:Events for The BoZone
BEGIN:VTIMEZONE
TZID:America/Denver
BEGIN:DAYLIGHT
TZOFFSETFROM:-0700
TZOFFSETTO:-0600
TZNAME:MDT
DTSTART:20260308T090000
END:DAYLIGHT
BEGIN:STANDARD
TZOFFSETFROM:-0600
TZOFFSETTO:-0700
TZNAME:MST
DTSTART:20261101T080000
END:STANDARD
END:VTIMEZONE
BEGIN:VEVENT
DTSTART;TZID=America/Denver:20260210T090000
DTEND;TZID=America/Denver:20260210T120000
DTSTAMP:20260422T014843
CREATED:20251229T190534Z
LAST-MODIFIED:20251229T190700Z
UID:304847-1770714000-1770724800@bozone.com
SUMMARY:Gallatin County Commission PUBLIC MEETING
DESCRIPTION:10 \nCommission Public Meeting (Quorum)\n9:00am to 12:00pm
URL:https://bozone.com/event/commission-public-meeting-quorum-900am-to-1200pm-2/
LOCATION:Gallatin County Courthouse\, 311 W Main Street\, Bozeman\, United States
CATEGORIES:Miscellanea
GEO:45.6796561;-111.0418263
X-APPLE-STRUCTURED-LOCATION;VALUE=URI;X-ADDRESS=Gallatin County Courthouse 311 W Main Street Bozeman United States;X-APPLE-RADIUS=500;X-TITLE=311 W Main Street:geo:-111.0418263,45.6796561
END:VEVENT
BEGIN:VEVENT
DTSTART;TZID=America/Denver:20260210T120000
DTEND;TZID=America/Denver:20260210T133000
DTSTAMP:20260422T014843
CREATED:20260129T050110Z
LAST-MODIFIED:20260129T050110Z
UID:307274-1770724800-1770730200@bozone.com
SUMMARY:Nutrient Standards Lunch & Learn
DESCRIPTION:Nutrient Standards Lunch & Learn\nTuesday\, February 10·\n12:00 – 1:30pm\n\n\n\nnotes\n\nIn the 2025 Legislative Session\, House Bill 664 repealed numeric nutrient criteria found in Circular DEQ-12A. In October of 2025\, EPA approved the water quality standard change\, making it effective for all DEQ programs. \nJoin the Montana Watershed Coordination Council and the Gallatin Water Collaborative for a virtual Lunch and Learn session at noon on February 10th to learn about DEQ’s implementation of the narrative standard for nutrients\, including what has changed\, what has not\, and what is next. Time will be reserved for Q&A. Please RSVP HERE.\n\n\n\nJoin Zoom Meeting\nID: 87914452599\nPasscode: 229914\n\n\nJoin Zoom Meeting:\nhttps://us02web.zoom.us/j/87914452599?pwd=VuEbl5NkwnOPPCaWxCChE80V4EPnTu.1&jst=2
URL:https://bozone.com/event/nutrient-standards-lunch-learn/
LOCATION:Virtual Event\, Bozeman\, MT\, 59715\, United States
CATEGORIES:Miscellanea
GEO:46.8796822;-110.3625658
END:VEVENT
BEGIN:VEVENT
DTSTART;TZID=America/Denver:20260210T170000
DTEND;TZID=America/Denver:20260210T170000
DTSTAMP:20260422T014844
CREATED:20260126T054154Z
LAST-MODIFIED:20260126T054154Z
UID:305952-1770742800-1770742800@bozone.com
SUMMARY:Cribbage Tournament
DESCRIPTION:$10 Entry feeSingle elimination\n16 player ~ 2 brackets\nWinner shares pot 50/50 with KGLT
URL:https://bozone.com/event/cribbage-tournament-2/
LOCATION:SHINE Beer Sanctuary\, 451 E Main St\, Bozeman\, MT\, 59715\, United States
CATEGORIES:Miscellanea
GEO:45.6797573;-111.0304885
X-APPLE-STRUCTURED-LOCATION;VALUE=URI;X-ADDRESS=SHINE Beer Sanctuary 451 E Main St Bozeman MT 59715 United States;X-APPLE-RADIUS=500;X-TITLE=451 E Main St:geo:-111.0304885,45.6797573
END:VEVENT
BEGIN:VEVENT
DTSTART;TZID=America/Denver:20260210T173000
DTEND;TZID=America/Denver:20260210T173000
DTSTAMP:20260422T014844
CREATED:20260126T224019Z
LAST-MODIFIED:20260126T224019Z
UID:305920-1770744600-1770744600@bozone.com
SUMMARY:Nonfiction Writers Group
DESCRIPTION:Nonfiction Writers Group offers mutual support\, and considerate\, constructive feedback on works in progress. Writers of all nonfiction subgenres\, at every skill level\, are welcome. Come along on Tuesday and give it a try.
URL:https://bozone.com/event/nonfiction-writers-group-16/
LOCATION:Bozeman Public Library\, 626 East Main Street\, Bozeman\, MT\, 59715\, United States
CATEGORIES:Miscellanea
GEO:45.6785823;-111.0270991
X-APPLE-STRUCTURED-LOCATION;VALUE=URI;X-ADDRESS=Bozeman Public Library 626 East Main Street Bozeman MT 59715 United States;X-APPLE-RADIUS=500;X-TITLE=626 East Main Street:geo:-111.0270991,45.6785823
END:VEVENT
BEGIN:VEVENT
DTSTART;TZID=America/Denver:20260210T173000
DTEND;TZID=America/Denver:20260210T173000
DTSTAMP:20260422T014844
CREATED:20260207T235854Z
LAST-MODIFIED:20260207T235854Z
UID:308107-1770744600-1770744600@bozone.com
SUMMARY:Bozeman Field School Open House
DESCRIPTION:Curious if High School could be different?\nSmaller classes? Real world learning? Week long field trips and more? At Bozeman Field School we believe this is High School as it should be. Please join us and see how High School can be different \nTuesday February 10th at 5:30 pm\n2090 Stadium Drive \nParents and students welcome.\nDrinks and light snacks provided.
URL:https://bozone.com/event/bozeman-field-school-open-house/
LOCATION:Bozeman Field School\, 2006 Stadium Drive\, Suite 102\, Bozeman\, MT\, 59715\, United States
CATEGORIES:Classes
GEO:45.7034796;-111.0261014
X-APPLE-STRUCTURED-LOCATION;VALUE=URI;X-ADDRESS=Bozeman Field School 2006 Stadium Drive Suite 102 Bozeman MT 59715 United States;X-APPLE-RADIUS=500;X-TITLE=2006 Stadium Drive\, Suite 102:geo:-111.0261014,45.7034796
END:VEVENT
BEGIN:VEVENT
DTSTART;TZID=America/Denver:20260210T180000
DTEND;TZID=America/Denver:20260210T180000
DTSTAMP:20260422T014844
CREATED:20250427T202355Z
LAST-MODIFIED:20251229T211802Z
UID:288514-1770746400-1770746400@bozone.com
SUMMARY:Last Best Trivia!
DESCRIPTION:Last Best Trivia!
URL:https://bozone.com/event/last-best-trivia/
LOCATION:Last Best Place Brewing Co.\, 605 N. 7th Ave\, Bozeman\, MT\, 59715\, United States
CATEGORIES:Miscellanea
GEO:45.6857672;-111.0466208
X-APPLE-STRUCTURED-LOCATION;VALUE=URI;X-ADDRESS=Last Best Place Brewing Co. 605 N. 7th Ave Bozeman MT 59715 United States;X-APPLE-RADIUS=500;X-TITLE=605 N. 7th Ave:geo:-111.0466208,45.6857672
END:VEVENT
BEGIN:VEVENT
DTSTART;TZID=America/Denver:20260210T180000
DTEND;TZID=America/Denver:20260210T180000
DTSTAMP:20260422T014844
CREATED:20251109T203119Z
LAST-MODIFIED:20251109T203119Z
UID:301837-1770746400-1770746400@bozone.com
SUMMARY:The Elovaters with Shwayze & JARV
DESCRIPTION:The Elovaters for a live in concert performance at The ELM on Tuesday\, February 10\, 2026 with Shwayze & JARV.
URL:https://bozone.com/event/the-elovaters-with-shwayze-jarv/
LOCATION:The Elm\, MT\, United States
CATEGORIES:Music
GEO:45.6847558;-111.0457564
END:VEVENT
BEGIN:VEVENT
DTSTART;TZID=America/Denver:20260210T180000
DTEND;TZID=America/Denver:20260210T180000
DTSTAMP:20260422T014844
CREATED:20251227T032127Z
LAST-MODIFIED:20251227T032127Z
UID:303744-1770746400-1770746400@bozone.com
SUMMARY:February Perfect Pairing Dinner!
DESCRIPTION:This limited dinner series celebrates the art of food and drink through unique theme nights that highlight the best of Ale Works cuisine alongside local craft brews\, ciders\, and spirits.\nEnjoy a multi-course dining experience featuring Chef-inspired plates perfectly paired with exceptional local beverages
URL:https://bozone.com/event/february-perfect-pairing-dinner/
LOCATION:Montana Ale Works\, east Main street\, Bozeman\, MT\, 59718\, United States
CATEGORIES:Miscellanea
GEO:45.6796468;-111.0279541
X-APPLE-STRUCTURED-LOCATION;VALUE=URI;X-ADDRESS=Montana Ale Works east Main street Bozeman MT 59718 United States;X-APPLE-RADIUS=500;X-TITLE=east Main street:geo:-111.0279541,45.6796468
END:VEVENT
BEGIN:VEVENT
DTSTART;TZID=America/Denver:20260210T180000
DTEND;TZID=America/Denver:20260210T180000
DTSTAMP:20260422T014844
CREATED:20260126T054319Z
LAST-MODIFIED:20260126T054319Z
UID:305951-1770746400-1770746400@bozone.com
SUMMARY:More Than Medicine: Understanding the Psychosocial Impact of Cancer
DESCRIPTION:Join us for an exciting night centered around the complexities of cancer that go beyond the physical component. Hear from one of our local experts in the field about the components surrounding a cancer diagnosis within a psychosocial context\, including how this difficult process can affect all of our thoughts and behaviors. FOOD PROVIDED. Sponsored by Cancer Support Community University
URL:https://bozone.com/event/more-than-medicine-understanding-the-psychosocial-impact-of-cancer/
LOCATION:MSU – SUB\, 751 W Grant St.\, Bozeman\, MT\, 59715\, United States
CATEGORIES:Lectures
GEO:45.6667557;-111.04981
X-APPLE-STRUCTURED-LOCATION;VALUE=URI;X-ADDRESS=MSU – SUB 751 W Grant St. Bozeman MT 59715 United States;X-APPLE-RADIUS=500;X-TITLE=751 W Grant St.:geo:-111.04981,45.6667557
END:VEVENT
BEGIN:VEVENT
DTSTART;TZID=America/Denver:20260210T180000
DTEND;TZID=America/Denver:20260210T180000
DTSTAMP:20260422T014844
CREATED:20260128T151959Z
LAST-MODIFIED:20260128T151959Z
UID:306695-1770746400-1770746400@bozone.com
SUMMARY:Tuesday Night Rodeo Club
DESCRIPTION:Feb\n10\n\n\n\n\n\nTuesday Night Rodeo Club\n\n\n\n6:00 PM – 8:00 PM\n\n\n\nHorn and Cantle Saloon
URL:https://bozone.com/event/tuesday-night-rodeo-club-59/
LOCATION:Horn and Cantle Saloon – Big Sky\, 800 Lone Mountain Ranch Rd\, Big Sky\, MT\, 59730\, United States
CATEGORIES:Music
GEO:45.2755088;-111.322818
X-APPLE-STRUCTURED-LOCATION;VALUE=URI;X-ADDRESS=Horn and Cantle Saloon – Big Sky 800 Lone Mountain Ranch Rd Big Sky MT 59730 United States;X-APPLE-RADIUS=500;X-TITLE=800 Lone Mountain Ranch Rd:geo:-111.322818,45.2755088
END:VEVENT
BEGIN:VEVENT
DTSTART;TZID=America/Denver:20260210T180000
DTEND;TZID=America/Denver:20260210T180000
DTSTAMP:20260422T014844
CREATED:20260128T152045Z
LAST-MODIFIED:20260128T152045Z
UID:306696-1770746400-1770746400@bozone.com
SUMMARY:Zander Chovanes
DESCRIPTION:Feb\n10\n\n\n\n\n\nZander Chovanes\n\n\n\n6:00 PM – 9:00 PM\n\n\n\nMoonshack
URL:https://bozone.com/event/zander-chovanes-7/
LOCATION:Moonshack – One&Only Moonlight Basin\, 77 Roosevelt Road\, Big Sky\, MT\, 59716\, United States
CATEGORIES:Music
END:VEVENT
BEGIN:VEVENT
DTSTART;TZID=America/Denver:20260210T180000
DTEND;TZID=America/Denver:20260210T180000
DTSTAMP:20260422T014845
CREATED:20260208T000636Z
LAST-MODIFIED:20260208T000636Z
UID:308099-1770746400-1770746400@bozone.com
SUMMARY:Movie Night with Bad Art Club - Day 2 of Bozeman Fashion Week
DESCRIPTION:Join Bozeman Fashion Week & Bad Art Club for a screening of the iconic film Paris is Burning. Bring your family\, friends\, sketchbook\, or all 3! We will have some crafting supplies & collage materials available if you feel inspired to create while watching the movie.\nRefreshments including popcorn will be available for an optional donation. Proceeds will go to Montana for Palestine to support their efforts in providing aid to families in Gaza. Self-expression goes hand-in-hand with global liberation. \nTuesday\, February 10th\nStudio Wheelhouse\n10 Evergreen Dr\, suite B\, Bozeman\, MT 59715 \n6:00 – Stop in early to chat\, catch up\, and learn more about Studio Wheelhouse + Bad Art Club\n6:30 – Movie will begin!!\n8:00 – Film discussion & reflection\n9:00 – Crafting supplies will be cleaned up\, & we will get some rest before seeing you for the craft & clothing swap at Studio Wheelhouse on Wednesday! \nCome as you please\, or RSVP on our website at https://www.bozemanfashionweek.com/event-details/movie-night
URL:https://bozone.com/event/movie-night-with-bad-art-club-day-2-of-bozeman-fashion-week/
LOCATION:Studio Wheelhouse\, 10 Evergreen Drive\, Suite B\, Bozeman\, MT\, 59715\, United States
CATEGORIES:Movies
GEO:45.6956768;-111.0351487
X-APPLE-STRUCTURED-LOCATION;VALUE=URI;X-ADDRESS=Studio Wheelhouse 10 Evergreen Drive Suite B Bozeman MT 59715 United States;X-APPLE-RADIUS=500;X-TITLE=10 Evergreen Drive\, Suite B:geo:-111.0351487,45.6956768
END:VEVENT
BEGIN:VEVENT
DTSTART;TZID=America/Denver:20260210T190000
DTEND;TZID=America/Denver:20260210T190000
DTSTAMP:20260422T014845
CREATED:20260128T151914Z
LAST-MODIFIED:20260128T151914Z
UID:306694-1770750000-1770750000@bozone.com
SUMMARY:Ryan Kelly
DESCRIPTION:Feb\n10\n\n\n\n\n\nRyan Kelly\n\n\n\n7:00 PM – 9:00 PM\n\n\n\nMontage Alpenglow Lounge
URL:https://bozone.com/event/ryan-kelly-12/
LOCATION:Montage Alpenglow Lounge – Big Sky\, 995 Settlement Trail\, Big Sky\, MT\, 59716\, United States
CATEGORIES:Music
GEO:45.2589401;-111.3686277
X-APPLE-STRUCTURED-LOCATION;VALUE=URI;X-ADDRESS=Montage Alpenglow Lounge – Big Sky 995 Settlement Trail Big Sky MT 59716 United States;X-APPLE-RADIUS=500;X-TITLE=995 Settlement Trail:geo:-111.3686277,45.2589401
END:VEVENT
BEGIN:VEVENT
DTSTART;TZID=America/Denver:20260210T200000
DTEND;TZID=America/Denver:20260210T200000
DTSTAMP:20260422T014845
CREATED:20260128T152157Z
LAST-MODIFIED:20260128T152157Z
UID:306697-1770753600-1770753600@bozone.com
SUMMARY:Tips Up Open Mic Night
DESCRIPTION:Feb\n10\n\n\n\n\n\nTips Up Open Mic Night\n\n\n\n8:00 PM\n\n\n\nTips Up
URL:https://bozone.com/event/tips-up-open-mic-night-13/
LOCATION:Tips Up – Big Sky\, 76 Town Center Ave\, Big Sky\, MT\, 59716\, United States
CATEGORIES:Music
GEO:45.2599334;-111.3070373
X-APPLE-STRUCTURED-LOCATION;VALUE=URI;X-ADDRESS=Tips Up – Big Sky 76 Town Center Ave Big Sky MT 59716 United States;X-APPLE-RADIUS=500;X-TITLE=76 Town Center Ave:geo:-111.3070373,45.2599334
END:VEVENT
BEGIN:VEVENT
DTSTART;TZID=America/Denver:20260210T210000
DTEND;TZID=America/Denver:20260210T210000
DTSTAMP:20260422T014845
CREATED:20260201T025714Z
LAST-MODIFIED:20260201T025714Z
UID:307881-1770757200-1770757200@bozone.com
SUMMARY:My Favorite Thing
DESCRIPTION:Feb\n10\n\n\n\n\nLIVE MUSIC: MY FAVORITE THING
URL:https://bozone.com/event/my-favorite-thing-10/
LOCATION:The Big Sky Waypoint\, 50 Ousel Falls Road\, Big Sky\, MT\, 59716\, United States
CATEGORIES:Music
GEO:45.2600817;-111.3084077
X-APPLE-STRUCTURED-LOCATION;VALUE=URI;X-ADDRESS=The Big Sky Waypoint 50 Ousel Falls Road Big Sky MT 59716 United States;X-APPLE-RADIUS=500;X-TITLE=50 Ousel Falls Road:geo:-111.3084077,45.2600817
END:VEVENT
END:VCALENDAR