BEGIN:VCALENDAR
VERSION:2.0
PRODID:-//The BoZone - ECPv5.12.0//NONSGML v1.0//EN
CALSCALE:GREGORIAN
METHOD:PUBLISH
X-WR-CALNAME:The BoZone
X-ORIGINAL-URL:https://bozone.com
X-WR-CALDESC:Events for The BoZone
BEGIN:VTIMEZONE
TZID:America/Denver
BEGIN:DAYLIGHT
TZOFFSETFROM:-0700
TZOFFSETTO:-0600
TZNAME:MDT
DTSTART:20260308T090000
END:DAYLIGHT
BEGIN:STANDARD
TZOFFSETFROM:-0600
TZOFFSETTO:-0700
TZNAME:MST
DTSTART:20261101T080000
END:STANDARD
END:VTIMEZONE
BEGIN:VEVENT
DTSTART;TZID=America/Denver:20260206T090000
DTEND;TZID=America/Denver:20260206T090000
DTSTAMP:20260422T112814
CREATED:20260126T230334Z
LAST-MODIFIED:20260126T230334Z
UID:305911-1770368400-1770368400@bozone.com
SUMMARY:Virtual Fossil Fridays
DESCRIPTION:******THIS EVENT REPEATS ON THE FOLLOWING DATES:\nFebruary 6\, 20\, 27\nMarch 6\, 13\, 20\, 27\nApril 3\, 10\, 17\, 24\n******\n9-10 a.m.\nFree for all via Zoom \nJoin Outreach Program Manager Ashley Hall and Museum Educator Specialist\, MaggieJo Widdicombe\, via Zoom on most Fridays to dig deeper into paleontology with interviews from international paleontologists\, drawing tutorials\, featured fossil “deep dives”\, and more. Themes vary by week. Bring your curiosity and questions!\nPlease note that themes and episode dates are subject to change or cancellation. \nhttps://mor.ticketapp.org/portal/product/42/events
URL:https://bozone.com/event/virtual-fossil-fridays-9/
LOCATION:Virtual Event\, Bozeman\, MT\, 59715\, United States
CATEGORIES:Classes
GEO:46.8796822;-110.3625658
END:VEVENT
BEGIN:VEVENT
DTSTART;TZID=America/Denver:20260206T110000
DTEND;TZID=America/Denver:20260206T140000
DTSTAMP:20260422T112814
CREATED:20260128T210542Z
LAST-MODIFIED:20260128T210542Z
UID:307015-1770375600-1770386400@bozone.com
SUMMARY:Northern Division Freestyle Competition
DESCRIPTION:NORTHERN DIVISION\nFREESTYLE COMPETITION\nFebruary 7-9\, 2025\nFRIDAY\, FEBRUARY 6\n11 am – 2 pm – Training \n‍ \nSATURDAY\, FEBRUARY 7\n9:00 am lift opens \n9:30-9:45 am course inspection \n10:00-11:00 am course training \n11:00 am –2pm Singles Mogul Contest \n2:30 pm awards at the Mogul course in the finish area \n2:45 pm coaches meeting at the finish area \n‍ \nAthlete party – Location TBD \nSUNDAY\, FEBRUARY 8\n9:00 am lift opens \n9:30-9:45 am course inspection \n10:00-10:45 am course training \n10:50 am single run mogul contest start \n1pm Dual contest start (it will be earlier if we can get through singles) \n3pm awards in the finish area\n‍ \nCompetition Committee\nChief of Competition: Mike Papke\nChief of Course Moguls: Hunter Lacey\nHead Judge: Jordon McMannis\nTechnical Delegate: Mike Papke\nChief of Scoring: Paulette McMannis
URL:https://bozone.com/event/northern-division-freestyle-competition/
LOCATION:Bridger Bowl\, 15795 Bridger Canyon Road\, Bozeman\, MT\, 595715\, United States
CATEGORIES:Sporting Events
GEO:45.6793339;-111.0320593
X-APPLE-STRUCTURED-LOCATION;VALUE=URI;X-ADDRESS=Bridger Bowl 15795 Bridger Canyon Road Bozeman MT 595715 United States;X-APPLE-RADIUS=500;X-TITLE=15795 Bridger Canyon Road:geo:-111.0320593,45.6793339
END:VEVENT
BEGIN:VEVENT
DTSTART;TZID=America/Denver:20260206T111500
DTEND;TZID=America/Denver:20260206T140000
DTSTAMP:20260422T112814
CREATED:20260128T032455Z
LAST-MODIFIED:20260128T032455Z
UID:306495-1770376500-1770386400@bozone.com
SUMMARY:Public Skate
DESCRIPTION:Public Skate- Click here for more information\nFriday\, February 6·11:15am – 2:00pm\n\n\n\nnotes\n\nCheck-in at Ticket Booth is required prior to skating. \nAdult: $10\nYouth $7\nAges 5 and under: Free \nAdult 11x Punch Card: $100\nAdult Season Pass: $180\nYouth 11x Punch Card: $70\nYouth Season Pass: $125 \nSkate rental: $5 per pair.\nTicket Booth staff will assist with skate rentals.\n(No Sticks & Pucks)
URL:https://bozone.com/event/public-skate-41/
LOCATION:Ressler Rink – GCF\, Gallatin Fairgrounds\, Bozeman\, MT\, 59715\, United States
CATEGORIES:Sporting Events
GEO:45.689199;-111.037633
X-APPLE-STRUCTURED-LOCATION;VALUE=URI;X-ADDRESS=Ressler Rink – GCF Gallatin Fairgrounds Bozeman MT 59715 United States;X-APPLE-RADIUS=500;X-TITLE=Gallatin Fairgrounds:geo:-111.037633,45.689199
END:VEVENT
BEGIN:VEVENT
DTSTART;TZID=America/Denver:20260206T130000
DTEND;TZID=America/Denver:20260206T160000
DTSTAMP:20260422T112814
CREATED:20260128T044944Z
LAST-MODIFIED:20260128T044944Z
UID:306654-1770382800-1770393600@bozone.com
SUMMARY:Take A Chance
DESCRIPTION:Feb\n6\n\n\n\n\n\nTake A Chance\n\n\n\n1:00 PM – 4:00 PM\n\n\n\nThe Landing
URL:https://bozone.com/event/take-a-chance-7/
LOCATION:The Landing at One&Only Moonlight Basin\, 108 Roosevelt Road\, Big Sky\, 59716
CATEGORIES:Music
GEO:45.2617806;-111.3080244
X-APPLE-STRUCTURED-LOCATION;VALUE=URI;X-ADDRESS=The Landing at One&Only Moonlight Basin 108 Roosevelt Road Big Sky 59716;X-APPLE-RADIUS=500;X-TITLE=108 Roosevelt Road:geo:-111.3080244,45.2617806
END:VEVENT
BEGIN:VEVENT
DTSTART;TZID=America/Denver:20260206T150000
DTEND;TZID=America/Denver:20260206T180000
DTSTAMP:20260422T112814
CREATED:20251228T025439Z
LAST-MODIFIED:20251228T025439Z
UID:303986-1770390000-1770400800@bozone.com
SUMMARY:Après-Ski DJs
DESCRIPTION:Après-Ski in the Mountain Village Plaza\nFridays\, Saturdays\, & Sundays 3-6 pm\n\n\n\nDance off the ski day with local and guest DJs in the Mountain Village Plaza.
URL:https://bozone.com/event/apres-ski-djs-17/
LOCATION:Mountain Village Plaza – Big Sky\, 50 Big Sky Resort Road\, Big Sky\, MT\, 59716\, United States
CATEGORIES:Music
GEO:45.2857407;-111.4012409
X-APPLE-STRUCTURED-LOCATION;VALUE=URI;X-ADDRESS=Mountain Village Plaza – Big Sky 50 Big Sky Resort Road Big Sky MT 59716 United States;X-APPLE-RADIUS=500;X-TITLE=50 Big Sky Resort Road:geo:-111.4012409,45.2857407
END:VEVENT
BEGIN:VEVENT
DTSTART;TZID=America/Denver:20260206T160000
DTEND;TZID=America/Denver:20260206T160000
DTSTAMP:20260422T112814
CREATED:20260106T234729Z
LAST-MODIFIED:20260129T035323Z
UID:305421-1770393600-1770393600@bozone.com
SUMMARY:Ella Rae Cole
DESCRIPTION:Hailing from the small mountain town of Bozeman\, Montana\, USA. Ella Rae Cole draws inspiration from the vast nature of her home\, as well as the landscape of her inner world of emotion. Her songs of love\, sorrow\, and abstract dreams are intimate in their raw vulnerability\, creating a unique and heartfelt storytelling experience for audiences around the world. Recognizable by her warm\, haunting voice\, guitar plucking in alternate tunings\, Bossa Nova-esque rhythms\, and folk roots\, listeners may be reminded of artists such as Joni Mitchell\, Nick Drake\, and Feist.
URL:https://bozone.com/event/ella-rae-cole-6/
LOCATION:Field and Stream Lodge – Bozeman\, 5 Baxter Lane\, Bozeman\, MT\, 59715\, United States
CATEGORIES:Music
GEO:45.6952242;-111.0479208
X-APPLE-STRUCTURED-LOCATION;VALUE=URI;X-ADDRESS=Field and Stream Lodge – Bozeman 5 Baxter Lane Bozeman MT 59715 United States;X-APPLE-RADIUS=500;X-TITLE=5 Baxter Lane:geo:-111.0479208,45.6952242
END:VEVENT
BEGIN:VEVENT
DTSTART;TZID=America/Denver:20260206T173000
DTEND;TZID=America/Denver:20260206T173000
DTSTAMP:20260422T112815
CREATED:20260128T005340Z
LAST-MODIFIED:20260128T005340Z
UID:306447-1770399000-1770399000@bozone.com
SUMMARY:Chris Bohenek
DESCRIPTION:Chris Bohenek\nFriday\, February 6⋅\n5:30 – 7:30pm
URL:https://bozone.com/event/chris-bohenek-5/
LOCATION:Willies Distillery – Ennis\, 312 E Main Street\, Ennis\, MT\, 59729\, United States
CATEGORIES:Music
GEO:45.3490537;-111.7259957
X-APPLE-STRUCTURED-LOCATION;VALUE=URI;X-ADDRESS=Willies Distillery – Ennis 312 E Main Street Ennis MT 59729 United States;X-APPLE-RADIUS=500;X-TITLE=312 E Main Street:geo:-111.7259957,45.3490537
END:VEVENT
BEGIN:VEVENT
DTSTART;TZID=America/Denver:20260206T180000
DTEND;TZID=America/Denver:20260206T180000
DTSTAMP:20260422T112815
CREATED:20251228T033542Z
LAST-MODIFIED:20251228T033542Z
UID:304070-1770400800-1770400800@bozone.com
SUMMARY:Willy on the Wire
DESCRIPTION:Friday\, Feb 6\, 6-9 PM\nWilly on the Wire\nLive Music — Vista Hall
URL:https://bozone.com/event/willy-on-the-wire-11/
LOCATION:Vista Hall – Big Sky Resort\, 50 Big Sky Resort Rd\, Big Sky\, MT\, 59716\, United States
CATEGORIES:Music
GEO:45.2857407;-111.4012409
X-APPLE-STRUCTURED-LOCATION;VALUE=URI;X-ADDRESS=Vista Hall – Big Sky Resort 50 Big Sky Resort Rd Big Sky MT 59716 United States;X-APPLE-RADIUS=500;X-TITLE=50 Big Sky Resort Rd:geo:-111.4012409,45.2857407
END:VEVENT
BEGIN:VEVENT
DTSTART;TZID=America/Denver:20260206T180000
DTEND;TZID=America/Denver:20260206T180000
DTSTAMP:20260422T112815
CREATED:20260126T054827Z
LAST-MODIFIED:20260126T054827Z
UID:305946-1770400800-1770400800@bozone.com
SUMMARY:The Lazy Owl Stringband
DESCRIPTION:Come see the Lazy Owl String band Live in one of Montana’s last great venues!
URL:https://bozone.com/event/the-lazy-owl-stringband-2/
LOCATION:Pony Bar – Pony\, MT\, 108 Broadway St\, Pony\, MT\, 59747\, United States
CATEGORIES:Music
GEO:45.6574277;-111.895949
X-APPLE-STRUCTURED-LOCATION;VALUE=URI;X-ADDRESS=Pony Bar – Pony MT 108 Broadway St Pony MT 59747 United States;X-APPLE-RADIUS=500;X-TITLE=108 Broadway St:geo:-111.895949,45.6574277
END:VEVENT
BEGIN:VEVENT
DTSTART;TZID=America/Denver:20260206T180000
DTEND;TZID=America/Denver:20260206T180000
DTSTAMP:20260422T112815
CREATED:20260128T045103Z
LAST-MODIFIED:20260128T045103Z
UID:306655-1770400800-1770400800@bozone.com
SUMMARY:Kevin Fabozzi
DESCRIPTION:Feb\n6\n\n\n\n\n\nKevin Fabozzi\n\n\n\n6:00 PM – 8:00 PM\n\n\n\nHorn and Cantle Saloon
URL:https://bozone.com/event/kevin-fabozzi-11/
LOCATION:Horn and Cantle Saloon – Big Sky\, 800 Lone Mountain Ranch Rd\, Big Sky\, MT\, 59730\, United States
CATEGORIES:Music
GEO:45.2755088;-111.322818
X-APPLE-STRUCTURED-LOCATION;VALUE=URI;X-ADDRESS=Horn and Cantle Saloon – Big Sky 800 Lone Mountain Ranch Rd Big Sky MT 59730 United States;X-APPLE-RADIUS=500;X-TITLE=800 Lone Mountain Ranch Rd:geo:-111.322818,45.2755088
END:VEVENT
BEGIN:VEVENT
DTSTART;TZID=America/Denver:20260206T190000
DTEND;TZID=America/Denver:20260206T190000
DTSTAMP:20260422T112815
CREATED:20251109T202938Z
LAST-MODIFIED:20251109T203259Z
UID:301838-1770404400-1770404400@bozone.com
SUMMARY:KT Tunstall
DESCRIPTION:KT Tunstall for a live concert performance at The ELM on Friday\, February 6\, 2026.
URL:https://bozone.com/event/kt-tunstall-at-the-elm/
LOCATION:The Elm\, MT\, United States
CATEGORIES:Music
GEO:45.6847558;-111.0457564
END:VEVENT
BEGIN:VEVENT
DTSTART;TZID=America/Denver:20260206T190000
DTEND;TZID=America/Denver:20260206T190000
DTSTAMP:20260422T112815
CREATED:20251230T034156Z
LAST-MODIFIED:20251230T034156Z
UID:305145-1770404400-1770404400@bozone.com
SUMMARY:Lena Marie Schiffer
DESCRIPTION:
URL:https://bozone.com/event/lena-marie-schiffer/
LOCATION:The Attic – Livingston\, 110 N Main Street\, Livingston\, MT\, 59047\, United States
CATEGORIES:Music
GEO:45.6618949;-110.5601138
X-APPLE-STRUCTURED-LOCATION;VALUE=URI;X-ADDRESS=The Attic – Livingston 110 N Main Street Livingston MT 59047 United States;X-APPLE-RADIUS=500;X-TITLE=110 N Main Street:geo:-110.5601138,45.6618949
END:VEVENT
BEGIN:VEVENT
DTSTART;TZID=America/Denver:20260206T190000
DTEND;TZID=America/Denver:20260206T190000
DTSTAMP:20260422T112815
CREATED:20260117T034104Z
LAST-MODIFIED:20260117T034104Z
UID:305533-1770404400-1770404400@bozone.com
SUMMARY:Kafka's Monkey
DESCRIPTION:Back by popular demand! After an excellent run in October\, Kafka’s Monkey returns to Bozeman—this time presented in our new downtown home\, Tinworks at Rialto. Adapted by Colin Teevan from Franz Kafka’s A Report to an Academy\, this acclaimed one-woman performance offers a gripping exploration of identity\, freedom\, and survival.\nPerformed by Bozeman-based artist Isabel Shaida and directed by Naomi Shafer\, the production has been newly adapted as a site-specific work\, responding to the unique architecture and atmosphere of the historic Rialto Theater. \nPerformance Dates: \nFriday\, February 6 at 7:00 PM\nSaturday\, February 7 at 7:00 PM\nSunday\, February 8 at 2:00 PM \n(The play is 55 minutes long with no intermission)
URL:https://bozone.com/event/kafkas-monkey-4/
LOCATION:The Rialto\, 10 West Main street\, Bozeman\, MT\, 59715\, United States
CATEGORIES:Arts & Theatre
GEO:45.6791025;-111.0375983
X-APPLE-STRUCTURED-LOCATION;VALUE=URI;X-ADDRESS=The Rialto 10 West Main street Bozeman MT 59715 United States;X-APPLE-RADIUS=500;X-TITLE=10 West Main street:geo:-111.0375983,45.6791025
END:VEVENT
BEGIN:VEVENT
DTSTART;TZID=America/Denver:20260206T190000
DTEND;TZID=America/Denver:20260206T190000
DTSTAMP:20260422T112816
CREATED:20260127T192229Z
LAST-MODIFIED:20260127T192229Z
UID:306179-1770404400-1770404400@bozone.com
SUMMARY:The Salt of the Universe: A Literary Concert
DESCRIPTION:http://vergetheater.com \nThe Salt of the Universe: A Literary Concert\n** Friday\, February 6:  7 pm\n** Saturday\, February 7:  3 pm\n————————————————————\nhttps://www.facebook.com/events/1511080726642628?acontext=%7B%22event_action_history%22%3A[%7B%22surface%22%3A%22external_search_engine%22%7D%2C%7B%22mechanism%22%3A%22attachment%22%2C%22surface%22%3A%22newsfeed%22%7D]%2C%22ref_notif_type%22%3Anull%7D \nAward-winning Author Amy Leach will read from The Salt of the Universe and make music with fellow musician/singer songwriters Megan Makeever and Lori Rosolowsky. \n“The Salt of the Universe is an incandescent book that is at once timeless and also exquisitely made for this moment. Its magnificence and effervescent wordplay delight and surprise on every page—in other words\, Amy Leach has gifted us with another stunner of a book.” —Aimee Nezhukumatathil\, author of World of Wonders\nBuy Tickets Here! (https://www.eventbrite.com/e/salt-of-the-universe-a-literary-concert-with-amy-leach-tickets-1980484282803?aff=oddtdtcreator)
URL:https://bozone.com/event/the-salt-of-the-universe-a-literary-concert-2/
LOCATION:Verge Theater – Emerson Suite 107\, 111 S Grande Ave Suite 107\, Bozeman\, MT\, 59715\, United States
CATEGORIES:Arts & Theatre
GEO:45.7025707;-111.0453171
X-APPLE-STRUCTURED-LOCATION;VALUE=URI;X-ADDRESS=Verge Theater – Emerson Suite 107 111 S Grande Ave Suite 107 Bozeman MT 59715 United States;X-APPLE-RADIUS=500;X-TITLE=111 S Grande Ave Suite 107:geo:-111.0453171,45.7025707
END:VEVENT
BEGIN:VEVENT
DTSTART;TZID=America/Denver:20260206T190000
DTEND;TZID=America/Denver:20260206T190000
DTSTAMP:20260422T112816
CREATED:20260129T003114Z
LAST-MODIFIED:20260129T003114Z
UID:307145-1770404400-1770404400@bozone.com
SUMMARY:Chuck Briseno Trio
DESCRIPTION:6 Chuck Briseno Trio
URL:https://bozone.com/event/chuck-briseno-trio/
LOCATION:Old Saloon – Emigrant\, 210 Railroad Lane\, Emigrant\, MT\, 59027\, United States
CATEGORIES:Music
GEO:45.369298;-110.734056
X-APPLE-STRUCTURED-LOCATION;VALUE=URI;X-ADDRESS=Old Saloon – Emigrant 210 Railroad Lane Emigrant MT 59027 United States;X-APPLE-RADIUS=500;X-TITLE=210 Railroad Lane:geo:-110.734056,45.369298
END:VEVENT
BEGIN:VEVENT
DTSTART;TZID=America/Denver:20260206T190000
DTEND;TZID=America/Denver:20260206T220000
DTSTAMP:20260422T112816
CREATED:20260129T024256Z
LAST-MODIFIED:20260129T024256Z
UID:307183-1770404400-1770415200@bozone.com
SUMMARY:Maggie Hickman
DESCRIPTION:
URL:https://bozone.com/event/maggie-hickman-12/
LOCATION:Sacajawea Bar – Three Forks\, 5 N Main\, Three Forks\, United States
CATEGORIES:Music
GEO:45.8953269;-111.5517795
X-APPLE-STRUCTURED-LOCATION;VALUE=URI;X-ADDRESS=Sacajawea Bar – Three Forks 5 N Main Three Forks United States;X-APPLE-RADIUS=500;X-TITLE=5 N Main:geo:-111.5517795,45.8953269
END:VEVENT
BEGIN:VEVENT
DTSTART;TZID=America/Denver:20260206T190000
DTEND;TZID=America/Denver:20260206T190000
DTSTAMP:20260422T112816
CREATED:20260130T031827Z
LAST-MODIFIED:20260130T031827Z
UID:307486-1770404400-1770404400@bozone.com
SUMMARY:Last Best Comedy Presents: Chad & JT
DESCRIPTION:Last Best Comedy Presents: Chad & JT\n\n\nFri\n\,\nFeb\n\n6\n at\n7:00 pm\n\n and\n9:00 pm\n\n\n\nGet Tickets!
URL:https://bozone.com/event/last-best-comedy-presents-chad-jt/
LOCATION:Last Best Comedy\, 321 E Main\, Alley Entrance\, Bozeman\, MT\, 59715\, United States
CATEGORIES:Arts & Theatre
GEO:45.6795226;-111.0321996
X-APPLE-STRUCTURED-LOCATION;VALUE=URI;X-ADDRESS=Last Best Comedy 321 E Main Alley Entrance Bozeman MT 59715 United States;X-APPLE-RADIUS=500;X-TITLE=321 E Main\, Alley Entrance:geo:-111.0321996,45.6795226
END:VEVENT
BEGIN:VEVENT
DTSTART;TZID=America/Denver:20260206T193000
DTEND;TZID=America/Denver:20260206T193000
DTSTAMP:20260422T112816
CREATED:20251229T193914Z
LAST-MODIFIED:20251229T193914Z
UID:304916-1770406200-1770406200@bozone.com
SUMMARY:Bozeman Ice Dogs vs Great Falls
DESCRIPTION:
URL:https://bozone.com/event/bozeman-ice-dogs-vs-great-falls/
LOCATION:Haynes Pavilion – GCF\, 901 N Black\, Bozeman\, United States
CATEGORIES:Sporting Events
GEO:45.6885954;-111.0358461
X-APPLE-STRUCTURED-LOCATION;VALUE=URI;X-ADDRESS=Haynes Pavilion – GCF 901 N Black Bozeman United States;X-APPLE-RADIUS=500;X-TITLE=901 N Black:geo:-111.0358461,45.6885954
END:VEVENT
BEGIN:VEVENT
DTSTART;TZID=America/Denver:20260206T193000
DTEND;TZID=America/Denver:20260206T193000
DTSTAMP:20260422T112816
CREATED:20260131T023359Z
LAST-MODIFIED:20260131T024432Z
UID:307744-1770406200-1770406200@bozone.com
SUMMARY:Symphony Orchestra Concert\, directed by Dr. Tobin Stewart
DESCRIPTION:Friday\, March 6\, 2026\n\n\nSymphony Orchestra Concert\, directed by Dr. Tobin Stewart\n 7:30pm\n Howard Hall Reynolds Recital Hall\, Howard Hall\, room 108\nTICKETS: $15 General\, $5 MSU Student\, PreK-12 FREE
URL:https://bozone.com/event/symphony-orchestra-concert-directed-by-dr-tobin-stewart/
LOCATION:MSU Reynolds Recital Hall\, Bozeman\, United States
CATEGORIES:Music
GEO:45.6769979;-111.0429339
END:VEVENT
BEGIN:VEVENT
DTSTART;TZID=America/Denver:20260206T200000
DTEND;TZID=America/Denver:20260206T200000
DTSTAMP:20260422T112816
CREATED:20251130T012629Z
LAST-MODIFIED:20260129T032609Z
UID:303168-1770408000-1770408000@bozone.com
SUMMARY:- SOLD OUT -  Whitey Morgan and the 78's Damn The Weather Tour  - SOLD OUT -
DESCRIPTION:Friday\, February 6th\nWhitey Morgan and the 78’s Damn The Weather Tour\n\nFebruary 6th\, 2026 at The Westerner \n\n\n\n\n\n\nTickets on sale in \nAge Restricted:21+ \n\n\n\n\n\n\n\n\nFriday\, February 6th | 8:00 pm – 11:00 pm MST\nDoors Open: 7:30 pm\nShow Starts: 8:00 pm\n\n\n\n\nThe Westerner
URL:https://bozone.com/event/whitey-morgan-and-the-78s-damn-the-weather-tour/
LOCATION:The Westerner – Gallatin Gateway\, 304 Mill St\, Gallatin Gateway\, MT\, 59730\, United States
CATEGORIES:Music
GEO:45.5907797;-111.2029969
X-APPLE-STRUCTURED-LOCATION;VALUE=URI;X-ADDRESS=The Westerner – Gallatin Gateway 304 Mill St Gallatin Gateway MT 59730 United States;X-APPLE-RADIUS=500;X-TITLE=304 Mill St:geo:-111.2029969,45.5907797
END:VEVENT
BEGIN:VEVENT
DTSTART;TZID=America/Denver:20260206T200000
DTEND;TZID=America/Denver:20260206T200000
DTSTAMP:20260422T112816
CREATED:20260117T034123Z
LAST-MODIFIED:20260117T034123Z
UID:305546-1770408000-1770408000@bozone.com
SUMMARY:Rocky Mountain Pearls
DESCRIPTION:Frontwoman Lindsay Pearl rolls into The Jump this Friday with The Rocky Mountain Pearls\, serving up boot-stompin’\, skirt-swingin’ country fun in all its unfiltered glory. A Gallatin Valley favorite for nearly a decade\, these country bards know exactly how to knock the crud off your boots\, one swinging two-step at a time. Saddle up and catch the show from 8–11\, because this is how Friday night’s done 🤠🎶
URL:https://bozone.com/event/rocky-mountain-pearls-28/
LOCATION:The Jump\, 75770 Gallatin Rd\, Gallatin Gateway\, MT\, 59730\, United States
CATEGORIES:Music
GEO:45.58333;-111.1969895
X-APPLE-STRUCTURED-LOCATION;VALUE=URI;X-ADDRESS=The Jump 75770 Gallatin Rd Gallatin Gateway MT 59730 United States;X-APPLE-RADIUS=500;X-TITLE=75770 Gallatin Rd:geo:-111.1969895,45.58333
END:VEVENT
BEGIN:VEVENT
DTSTART;TZID=America/Denver:20260206T203000
DTEND;TZID=America/Denver:20260206T203000
DTSTAMP:20260422T112816
CREATED:20251227T031607Z
LAST-MODIFIED:20251227T031607Z
UID:303739-1770409800-1770409800@bozone.com
SUMMARY:Women's Bobcat Hockey
DESCRIPTION:Women’s Bobcat HockeyMSU Bobcats Women’s Hockey vs. University of Wyoming\nFriday\, February 6\n8:30 PM Puck Drop\nTickets start at $5 – tickets.gallatinice.org
URL:https://bozone.com/event/womens-bobcat-hockey-5/
LOCATION:GCF – Gallatin County Fairgrounds – GCF\, 901 N Black\, Bozeman\, United States
CATEGORIES:Sporting Events
GEO:45.6885954;-111.0358461
X-APPLE-STRUCTURED-LOCATION;VALUE=URI;X-ADDRESS=GCF – Gallatin County Fairgrounds – GCF 901 N Black Bozeman United States;X-APPLE-RADIUS=500;X-TITLE=901 N Black:geo:-111.0358461,45.6885954
END:VEVENT
BEGIN:VEVENT
DTSTART;TZID=America/Denver:20260206T210000
DTEND;TZID=America/Denver:20260206T210000
DTSTAMP:20260422T112816
CREATED:20250929T032053Z
LAST-MODIFIED:20260127T210542Z
UID:299022-1770411600-1770411600@bozone.com
SUMMARY:JRs Karaoke
DESCRIPTION:Lil Bit Xtra Entertainment does karaoke every Friday and Saturday Night @ JRs Lounge 9pm they are themed. You can follow us on Facebook for announcements. We have 80s night\, 90s night\, Country Night and a Luau coming up for the month of February.
URL:https://bozone.com/event/jrs-karaoke-7/
LOCATION:JRs Lounge\, 203 W Madison Ave Suite D\, Belgrade\, United States
CATEGORIES:Music
GEO:45.7738898;-111.1835469
X-APPLE-STRUCTURED-LOCATION;VALUE=URI;X-ADDRESS=JRs Lounge 203 W Madison Ave Suite D Belgrade United States;X-APPLE-RADIUS=500;X-TITLE=203 W Madison Ave Suite D:geo:-111.1835469,45.7738898
END:VEVENT
BEGIN:VEVENT
DTSTART;TZID=America/Denver:20260206T210000
DTEND;TZID=America/Denver:20260206T210000
DTSTAMP:20260422T112817
CREATED:20251229T014526Z
LAST-MODIFIED:20251229T014526Z
UID:304558-1770411600-1770411600@bozone.com
SUMMARY:The Dirty Shame
DESCRIPTION:FEBRUARY 6 & 7\, 2026 \nThe Dirty Shame 9pm – Close\n\nOutlaw Country \nKnown for their dynamic sound\, the band blends original songs with classic outlaw country covers. Whether playing their own music or honoring the outlaw greats\, Brandon Hale & The Dirty Shame bring a bold\, authentic vibe to the stage.
URL:https://bozone.com/event/the-dirty-shame-10/
LOCATION:Chico Hot Springs Saloon\, 163 Chico Rd\, Pray\, MT 59065\, Pray\, MT\, 59065\, United States
CATEGORIES:Music
GEO:45.3386251;-110.6922233
X-APPLE-STRUCTURED-LOCATION;VALUE=URI;X-ADDRESS=Chico Hot Springs Saloon 163 Chico Rd Pray MT 59065 Pray MT 59065 United States;X-APPLE-RADIUS=500;X-TITLE=163 Chico Rd\, Pray\, MT 59065:geo:-110.6922233,45.3386251
END:VEVENT
BEGIN:VEVENT
DTSTART;TZID=America/Denver:20260206T210000
DTEND;TZID=America/Denver:20260206T210000
DTSTAMP:20260422T112817
CREATED:20260118T003247Z
LAST-MODIFIED:20260118T003955Z
UID:305742-1770411600-1770411600@bozone.com
SUMMARY:Savannah Wood
DESCRIPTION:6TH Savannah Wood 9-11
URL:https://bozone.com/event/savannah-wood-22/
LOCATION:Bozeman Taproom\, MT\, United States
CATEGORIES:Music
GEO:45.6805431;-111.0325509
END:VEVENT
BEGIN:VEVENT
DTSTART;TZID=America/Denver:20260206T210000
DTEND;TZID=America/Denver:20260206T210000
DTSTAMP:20260422T112817
CREATED:20260127T235502Z
LAST-MODIFIED:20260127T235502Z
UID:306368-1770411600-1770411600@bozone.com
SUMMARY:Jacob Rountree & The Somethings
DESCRIPTION:
URL:https://bozone.com/event/jacob-rountree-the-somethings-4/
LOCATION:Murray Bar – Livingston\, 201 W Park St\, Livingston\, United States
CATEGORIES:Music
GEO:45.661755;-110.562305
X-APPLE-STRUCTURED-LOCATION;VALUE=URI;X-ADDRESS=Murray Bar – Livingston 201 W Park St Livingston United States;X-APPLE-RADIUS=500;X-TITLE=201 W Park St:geo:-110.562305,45.661755
END:VEVENT
BEGIN:VEVENT
DTSTART;TZID=America/Denver:20260206T210000
DTEND;TZID=America/Denver:20260206T210000
DTSTAMP:20260422T112817
CREATED:20260128T045433Z
LAST-MODIFIED:20260128T045433Z
UID:306665-1770411600-1770411600@bozone.com
SUMMARY:Winter Karaoke
DESCRIPTION:Feb\n6\n\n\n\n\n\nWinter Karaoke @ The Waypoint\n\n\n\n9:00 PM\n\n\n\nThe Waypoint
URL:https://bozone.com/event/winter-karaoke/
LOCATION:The Big Sky Waypoint\, 50 Ousel Falls Road\, Big Sky\, MT\, 59716\, United States
CATEGORIES:Music
GEO:45.2600817;-111.3084077
X-APPLE-STRUCTURED-LOCATION;VALUE=URI;X-ADDRESS=The Big Sky Waypoint 50 Ousel Falls Road Big Sky MT 59716 United States;X-APPLE-RADIUS=500;X-TITLE=50 Ousel Falls Road:geo:-111.3084077,45.2600817
END:VEVENT
BEGIN:VEVENT
DTSTART;TZID=America/Denver:20260206T210000
DTEND;TZID=America/Denver:20260206T210000
DTSTAMP:20260422T112817
CREATED:20260129T041700Z
LAST-MODIFIED:20260129T041700Z
UID:307231-1770411600-1770411600@bozone.com
SUMMARY:Sam Hall 
DESCRIPTION:2/6 Sam Hall 
URL:https://bozone.com/event/sam-hall-4/
LOCATION:Haufbrau\, 22 S 8th Avenue\, Bozeman\, United States
CATEGORIES:Music
GEO:45.6786147;-111.047506
X-APPLE-STRUCTURED-LOCATION;VALUE=URI;X-ADDRESS=Haufbrau 22 S 8th Avenue Bozeman United States;X-APPLE-RADIUS=500;X-TITLE=22 S 8th Avenue:geo:-111.047506,45.6786147
END:VEVENT
BEGIN:VEVENT
DTSTART;TZID=America/Denver:20260206T210000
DTEND;TZID=America/Denver:20260206T210000
DTSTAMP:20260422T112817
CREATED:20260129T043401Z
LAST-MODIFIED:20260129T043401Z
UID:307252-1770411600-1770411600@bozone.com
SUMMARY:El Wencho
DESCRIPTION:2/6 El Wencho
URL:https://bozone.com/event/el-wencho-11/
LOCATION:The Filling Station\, 2005 N. Rouse Avenue\, Bozeman\, United States
CATEGORIES:Music
GEO:45.6988202;-111.0319631
X-APPLE-STRUCTURED-LOCATION;VALUE=URI;X-ADDRESS=The Filling Station 2005 N. Rouse Avenue Bozeman United States;X-APPLE-RADIUS=500;X-TITLE=2005 N. Rouse Avenue:geo:-111.0319631,45.6988202
END:VEVENT
BEGIN:VEVENT
DTSTART;TZID=America/Denver:20260206T210000
DTEND;TZID=America/Denver:20260206T210000
DTSTAMP:20260422T112817
CREATED:20260130T031847Z
LAST-MODIFIED:20260130T031847Z
UID:307487-1770411600-1770411600@bozone.com
SUMMARY:Last Best Comedy Presents: Chad & JT
DESCRIPTION:Last Best Comedy Presents: Chad & JT\n\n\nFri\n\,\nFeb\n\n6\n at\n7:00 pm\n\n and\n9:00 pm\n\n\n\nGet Tickets!
URL:https://bozone.com/event/last-best-comedy-presents-chad-jt-2/
LOCATION:Last Best Comedy\, 321 E Main\, Alley Entrance\, Bozeman\, MT\, 59715\, United States
CATEGORIES:Arts & Theatre
GEO:45.6795226;-111.0321996
X-APPLE-STRUCTURED-LOCATION;VALUE=URI;X-ADDRESS=Last Best Comedy 321 E Main Alley Entrance Bozeman MT 59715 United States;X-APPLE-RADIUS=500;X-TITLE=321 E Main\, Alley Entrance:geo:-111.0321996,45.6795226
END:VEVENT
END:VCALENDAR