BEGIN:VCALENDAR
VERSION:2.0
PRODID:-//The BoZone - ECPv5.12.0//NONSGML v1.0//EN
CALSCALE:GREGORIAN
METHOD:PUBLISH
X-WR-CALNAME:The BoZone
X-ORIGINAL-URL:https://bozone.com
X-WR-CALDESC:Events for The BoZone
BEGIN:VTIMEZONE
TZID:America/Denver
BEGIN:DAYLIGHT
TZOFFSETFROM:-0700
TZOFFSETTO:-0600
TZNAME:MDT
DTSTART:20250309T090000
END:DAYLIGHT
BEGIN:STANDARD
TZOFFSETFROM:-0600
TZOFFSETTO:-0700
TZNAME:MST
DTSTART:20251102T080000
END:STANDARD
END:VTIMEZONE
BEGIN:VEVENT
DTSTART;TZID=America/Denver:20251202T090000
DTEND;TZID=America/Denver:20251202T150000
DTSTAMP:20260425T105039
CREATED:20251126T210553Z
LAST-MODIFIED:20251126T210553Z
UID:302659-1764666000-1764687600@bozone.com
SUMMARY:Second Hand Rose "Holiday Store"
DESCRIPTION:BSC Basement: M-F 9am-3pm\n\nAfter coming in the main entrance\, turn right and head towards the fireplace.  There are stairs going down\, right beside the elevator.  We are located between the stairs and the elevator once you get to the lower level. \nWe believe we have the lowest prices in town.  The store has a large selection of kitchenware\, clothing\, bed linens\, crafts\, fabric\, books\, appliances\, winter gear\, shoes\, knick-knacks\, etc. \nWe have carts and wagons downstairs for you to bring us your treasures.  Community donations are only accepted Tuesday-Thursday.  We spend Monday & Friday catching up\, and can’t process donations. \nOur annual “Holiday Store” is open from mid-October – December 15th.  This specialty store is on the main level\, just to the left as you come through the 1st set of glass doors.
URL:https://bozone.com/event/second-hand-rose-holiday-store/2025-12-02/
LOCATION:Bozeman Senior Center\, 807 N Tracy Ave\, Bozeman\, MT\, 59715\, United States
CATEGORIES:Miscellanea
GEO:45.6878636;-111.0378422
X-APPLE-STRUCTURED-LOCATION;VALUE=URI;X-ADDRESS=Bozeman Senior Center 807 N Tracy Ave Bozeman MT 59715 United States;X-APPLE-RADIUS=500;X-TITLE=807 N Tracy Ave:geo:-111.0378422,45.6878636
END:VEVENT
BEGIN:VEVENT
DTSTART;TZID=America/Denver:20251202T110000
DTEND;TZID=America/Denver:20251202T170000
DTSTAMP:20260425T105039
CREATED:20251029T190801Z
LAST-MODIFIED:20251029T190801Z
UID:301406-1764673200-1764694800@bozone.com
SUMMARY:Music Seminar: Student Performance and Composition Recital
DESCRIPTION:Music Seminar: Student Performance and Composition Recital\n 11:00am\n Howard Hall Reynolds Recital Hall\nMusic Seminar – FREE and open to the public
URL:https://bozone.com/event/music-seminar-student-performance-and-composition-recital/
LOCATION:MSU Reynolds Recital Hall\, Bozeman\, United States
CATEGORIES:Music
GEO:45.6769979;-111.0429339
END:VEVENT
BEGIN:VEVENT
DTSTART;TZID=America/Denver:20251202T170000
DTEND;TZID=America/Denver:20251202T170000
DTSTAMP:20260425T105039
CREATED:20250626T002040Z
LAST-MODIFIED:20250825T161843Z
UID:292021-1764694800-1764694800@bozone.com
SUMMARY:Newcomer Orientation
DESCRIPTION:December 2\, 2026 @ 5:00 pm – 6:00 pm  Newcomer Orientation \n\n\nNewcomer Orientation\n3810 Valley Commons Dr\, #6\n\n\nNewcomer Orientation! First Tuesday of each Month 5 PM In Person Not sure how to begin or what the BDC is all about? Join us on the first Tuesday of the month
URL:https://bozone.com/event/newcomer-orientation-7/
LOCATION:Bozeman Dharma Center\, 1019 E Main\, Bozeman\, MT\, 59715\, United States
CATEGORIES:Miscellanea
GEO:45.6803554;-111.0229517
X-APPLE-STRUCTURED-LOCATION;VALUE=URI;X-ADDRESS=Bozeman Dharma Center 1019 E Main Bozeman MT 59715 United States;X-APPLE-RADIUS=500;X-TITLE=1019 E Main:geo:-111.0229517,45.6803554
END:VEVENT
BEGIN:VEVENT
DTSTART;TZID=America/Denver:20251202T173000
DTEND;TZID=America/Denver:20251202T173000
DTSTAMP:20260425T105039
CREATED:20251124T131833Z
LAST-MODIFIED:20251124T131833Z
UID:302224-1764696600-1764696600@bozone.com
SUMMARY:Nonfiction Writers Group
DESCRIPTION:Nonfiction Writers Group offers mutual support\, and considerate\, constructive feedback on works in progress. Writers of all nonfiction subgenres\, at every skill level\, are welcome. Come along on Tuesday and give it a try.
URL:https://bozone.com/event/nonfiction-writers-group-9/
LOCATION:Bozeman Public Library\, 626 East Main Street\, Bozeman\, MT\, 59715\, United States
CATEGORIES:Miscellanea
GEO:45.6785823;-111.0270991
X-APPLE-STRUCTURED-LOCATION;VALUE=URI;X-ADDRESS=Bozeman Public Library 626 East Main Street Bozeman MT 59715 United States;X-APPLE-RADIUS=500;X-TITLE=626 East Main Street:geo:-111.0270991,45.6785823
END:VEVENT
BEGIN:VEVENT
DTSTART;TZID=America/Denver:20251202T180000
DTEND;TZID=America/Denver:20251202T180000
DTSTAMP:20260425T105039
CREATED:20250529T223211Z
LAST-MODIFIED:20251028T011729Z
UID:290770-1764698400-1764698400@bozone.com
SUMMARY:406 Trivia
DESCRIPTION:
URL:https://bozone.com/event/406-trivia-14/
LOCATION:406 Brewing Co. – Manhattan\, 324 E Main St\, Manhattan\, MT\, 59741\, United States
CATEGORIES:Miscellanea
GEO:45.6930354;-111.0344248
X-APPLE-STRUCTURED-LOCATION;VALUE=URI;X-ADDRESS=406 Brewing Co. – Manhattan 324 E Main St Manhattan MT 59741 United States;X-APPLE-RADIUS=500;X-TITLE=324 E Main St:geo:-111.0344248,45.6930354
END:VEVENT
BEGIN:VEVENT
DTSTART;TZID=America/Denver:20251202T193000
DTEND;TZID=America/Denver:20251202T193000
DTSTAMP:20260425T105039
CREATED:20250730T162324Z
LAST-MODIFIED:20250730T162324Z
UID:295029-1764703800-1764703800@bozone.com
SUMMARY:Mannheim Steamroller Christmas
DESCRIPTION:Mannheim Steamroller Christmas\n\n \nDecember 2nd\, 2025
URL:https://bozone.com/event/mannheim-steamroller-christmas/
LOCATION:Brick Breeden Fieldhouse – MSU\, 1 Bobcat Cir\, Bozeman\, MT\, 59715\, United States
CATEGORIES:Miscellanea,Music
GEO:45.6633486;-111.0506591
X-APPLE-STRUCTURED-LOCATION;VALUE=URI;X-ADDRESS=Brick Breeden Fieldhouse – MSU 1 Bobcat Cir Bozeman MT 59715 United States;X-APPLE-RADIUS=500;X-TITLE=1 Bobcat Cir:geo:-111.0506591,45.6633486
END:VEVENT
BEGIN:VEVENT
DTSTART;TZID=America/Denver:20251202T193000
DTEND;TZID=America/Denver:20251202T193000
DTSTAMP:20260425T105039
CREATED:20251029T191122Z
LAST-MODIFIED:20251029T191122Z
UID:301417-1764703800-1764703800@bozone.com
SUMMARY:One O'Clock Jazz Ensemble Concert
DESCRIPTION:One O’Clock Jazz Ensemble Concert\n 7:30pm\n Howard Hall Reynolds Recital Hall\nOne O’Clock Jazz Ensemble Concert – $15 general\, $5 MSU students\, Free PreK-12.
URL:https://bozone.com/event/one-oclock-jazz-ensemble-concert/
LOCATION:MSU Reynolds Recital Hall\, Bozeman\, United States
CATEGORIES:Music
GEO:45.6769979;-111.0429339
END:VEVENT
END:VCALENDAR