BEGIN:VCALENDAR
VERSION:2.0
PRODID:-//The BoZone - ECPv5.12.0//NONSGML v1.0//EN
CALSCALE:GREGORIAN
METHOD:PUBLISH
X-WR-CALNAME:The BoZone
X-ORIGINAL-URL:https://bozone.com
X-WR-CALDESC:Events for The BoZone
BEGIN:VTIMEZONE
TZID:America/Denver
BEGIN:DAYLIGHT
TZOFFSETFROM:-0700
TZOFFSETTO:-0600
TZNAME:MDT
DTSTART:20250309T090000
END:DAYLIGHT
BEGIN:STANDARD
TZOFFSETFROM:-0600
TZOFFSETTO:-0700
TZNAME:MST
DTSTART:20251102T080000
END:STANDARD
END:VTIMEZONE
BEGIN:VEVENT
DTSTART;VALUE=DATE:20250905
DTEND;VALUE=DATE:20250922
DTSTAMP:20260422T104655
CREATED:20250702T181944Z
LAST-MODIFIED:20250702T185823Z
UID:293597-1757030400-1758499199@bozone.com
SUMMARY:Bumblewood Thicket
DESCRIPTION:Bumblewood Thicket will be returning for its 6th year! Bumblewood will be visible to human eyes from September 5th to September 21st. Located amid the winding\, wooded paths of Glen Lake Rotary Park in Bozeman\, the village will contain all new fairy homes and businesses created by talented local artists. \nBumblewood Thicket Fairy Village is self-guided\, free and open to all during park hours of 5am to 11pm. \nGlen Lake Rotary Park
URL:https://bozone.com/event/bumblewood-thicket/
LOCATION:Glen Lake Rotary Park\, 830 Manley Road\, Bozeman\, MT\, 59715\, United States
CATEGORIES:Miscellanea
GEO:45.7069976;-111.0411683
X-APPLE-STRUCTURED-LOCATION;VALUE=URI;X-ADDRESS=Glen Lake Rotary Park 830 Manley Road Bozeman MT 59715 United States;X-APPLE-RADIUS=500;X-TITLE=830 Manley Road:geo:-111.0411683,45.7069976
END:VEVENT
BEGIN:VEVENT
DTSTART;TZID=America/Denver:20250908T170000
DTEND;TZID=America/Denver:20250908T180000
DTSTAMP:20260422T104655
CREATED:20250826T031228Z
LAST-MODIFIED:20250826T031333Z
UID:296614-1757350800-1757354400@bozone.com
SUMMARY:Gallatin Valley Food Bank’s Pop-Up Pantry
DESCRIPTION:Belgrade Mobile Distribution\n\nSeptember 8 @ 4:00 pm – 5:00 pm\n\n\n\nGrab free groceries from Gallatin Valley Food Bank’s Pop-Up Pantry from 4 to 5 pm. \nItems usually include fruits\, vegetables\, bread\, milk\, and frozen meat\, along with pre-packed grocery boxes that include a variety of non-perishables. Items change depending on our supply. \nPeace Lutheran Church 203 Jackrabbit Ln\, Belgrade\, MT 59714
URL:https://bozone.com/event/gallatin-valley-food-banks-pop-up-pantry/
LOCATION:Peace Lutheran Church – Belgrade\, 203 Jackrabbit Road\, Belgrade\, United States
CATEGORIES:Miscellanea
GEO:45.7830791;-111.1855782
X-APPLE-STRUCTURED-LOCATION;VALUE=URI;X-ADDRESS=Peace Lutheran Church – Belgrade 203 Jackrabbit Road Belgrade United States;X-APPLE-RADIUS=500;X-TITLE=203 Jackrabbit Road:geo:-111.1855782,45.7830791
END:VEVENT
BEGIN:VEVENT
DTSTART;TZID=America/Denver:20250908T170000
DTEND;TZID=America/Denver:20250908T170000
DTSTAMP:20260422T104655
CREATED:20250827T210053Z
LAST-MODIFIED:20250827T210053Z
UID:297146-1757350800-1757350800@bozone.com
SUMMARY:The Wyatt Duo
DESCRIPTION:08sep \nLive Music with the Wyatt Duo \n5:00 pm
URL:https://bozone.com/event/the-wyatt-duo-7/
LOCATION:The Riverhouse BBQ & Events – Big Sky\, 45130 Gallatin Road\, Big Sky\, United States
CATEGORIES:Music
GEO:45.2240645;-111.2502422
X-APPLE-STRUCTURED-LOCATION;VALUE=URI;X-ADDRESS=The Riverhouse BBQ & Events – Big Sky 45130 Gallatin Road Big Sky United States;X-APPLE-RADIUS=500;X-TITLE=45130 Gallatin Road:geo:-111.2502422,45.2240645
END:VEVENT
BEGIN:VEVENT
DTSTART;TZID=America/Denver:20250908T180000
DTEND;TZID=America/Denver:20250908T180000
DTSTAMP:20260422T104655
CREATED:20250826T020137Z
LAST-MODIFIED:20250826T020137Z
UID:296536-1757354400-1757354400@bozone.com
SUMMARY:Open Range Duo
DESCRIPTION:
URL:https://bozone.com/event/open-range-duo-5/
LOCATION:Sage Lodge – S of Livingston\, 55 Sage Lodge Drive\, Pray\, MT\, 59065\, United States
CATEGORIES:Music
GEO:45.3597459;-110.7195062
X-APPLE-STRUCTURED-LOCATION;VALUE=URI;X-ADDRESS=Sage Lodge – S of Livingston 55 Sage Lodge Drive Pray MT 59065 United States;X-APPLE-RADIUS=500;X-TITLE=55 Sage Lodge Drive:geo:-110.7195062,45.3597459
END:VEVENT
BEGIN:VEVENT
DTSTART;TZID=America/Denver:20250908T180000
DTEND;TZID=America/Denver:20250908T180000
DTSTAMP:20260422T104655
CREATED:20250827T182843Z
LAST-MODIFIED:20250827T182843Z
UID:297040-1757354400-1757354400@bozone.com
SUMMARY:Brian Stumpf
DESCRIPTION:Sep\n8\n\n\n\n\nBrian Stumpf\n\n\n\n6:00 PM – 8:00 PM\n\n\n\nBunker Deck & Grill
URL:https://bozone.com/event/brian-stumpf-12/
LOCATION:Bunker Deck & Grill\, 2100 Black Otter Rd\, Big Sky\, MT\, 59716\, United States
CATEGORIES:Music
GEO:45.266911;-111.296097
X-APPLE-STRUCTURED-LOCATION;VALUE=URI;X-ADDRESS=Bunker Deck & Grill 2100 Black Otter Rd Big Sky MT 59716 United States;X-APPLE-RADIUS=500;X-TITLE=2100 Black Otter Rd:geo:-111.296097,45.266911
END:VEVENT
BEGIN:VEVENT
DTSTART;TZID=America/Denver:20250908T180000
DTEND;TZID=America/Denver:20250908T180000
DTSTAMP:20260422T104655
CREATED:20250904T211149Z
LAST-MODIFIED:20250904T211149Z
UID:297466-1757354400-1757354400@bozone.com
SUMMARY:Kailey Marie Duo
DESCRIPTION:Monday\, September 8\, 25\nKailey Marie Duo (Sky Shed)
URL:https://bozone.com/event/kailey-marie-duo/
LOCATION:Sky Shed Rooftop Bar @ Kimpton Armory\, 24 W. MENDENHALL ST.\, Bozeman\, MT\, 59715\, United States
CATEGORIES:Music
GEO:45.6800443;-111.0380169
X-APPLE-STRUCTURED-LOCATION;VALUE=URI;X-ADDRESS=Sky Shed Rooftop Bar @ Kimpton Armory 24 W. MENDENHALL ST. Bozeman MT 59715 United States;X-APPLE-RADIUS=500;X-TITLE=24 W. MENDENHALL ST.:geo:-111.0380169,45.6800443
END:VEVENT
BEGIN:VEVENT
DTSTART;TZID=America/Denver:20250908T190000
DTEND;TZID=America/Denver:20250908T190000
DTSTAMP:20260422T104656
CREATED:20250810T032942Z
LAST-MODIFIED:20250810T032942Z
UID:295509-1757358000-1757358000@bozone.com
SUMMARY:Bozeman Symphonic Choir Open Rehearsal
DESCRIPTION:The Bozeman Symphonic Choir will host an Open Rehearsal on Monday\, Sept. 8\, from 7–9 p.m. at Hope Lutheran Church. Singers of all backgrounds—as well as friends\, family\, and community members—are invited to experience a working rehearsal\, explore the season’s repertoire\, and learn about the choir’s rehearsal process.
URL:https://bozone.com/event/bozeman-symphonic-choir-open-rehearsal/
LOCATION:Hope Lutheran Church\, 2152 Graf St\, Bozeman\, United States
CATEGORIES:Music
GEO:45.6481929;-111.0659188
X-APPLE-STRUCTURED-LOCATION;VALUE=URI;X-ADDRESS=Hope Lutheran Church 2152 Graf St Bozeman United States;X-APPLE-RADIUS=500;X-TITLE=2152 Graf St:geo:-111.0659188,45.6481929
END:VEVENT
BEGIN:VEVENT
DTSTART;TZID=America/Denver:20250908T190000
DTEND;TZID=America/Denver:20250908T190000
DTSTAMP:20260422T104656
CREATED:20250827T182607Z
LAST-MODIFIED:20250827T182607Z
UID:297038-1757358000-1757358000@bozone.com
SUMMARY:Tuesday Night Rodeo Club
DESCRIPTION:Sep\n8\n\n\n\n\nTuesday Night Rodeo Club\n\n\n\n7:00 PM – 9:00 PM\n\n\n\nMontage Alpenglow Lounge
URL:https://bozone.com/event/tuesday-night-rodeo-club-29/
LOCATION:Montage Alpenglow Lounge – Big Sky\, 995 Settlement Trail\, Big Sky\, MT\, 59716\, United States
CATEGORIES:Music
GEO:45.2589401;-111.3686277
X-APPLE-STRUCTURED-LOCATION;VALUE=URI;X-ADDRESS=Montage Alpenglow Lounge – Big Sky 995 Settlement Trail Big Sky MT 59716 United States;X-APPLE-RADIUS=500;X-TITLE=995 Settlement Trail:geo:-111.3686277,45.2589401
END:VEVENT
BEGIN:VEVENT
DTSTART;TZID=America/Denver:20250908T190000
DTEND;TZID=America/Denver:20250908T190000
DTSTAMP:20260422T104656
CREATED:20250827T182715Z
LAST-MODIFIED:20250827T182715Z
UID:297039-1757358000-1757358000@bozone.com
SUMMARY:Chandler Huntley
DESCRIPTION:Sep\n8\n\n\n\n\nChandler Huntley\n\n\n\n7:00 PM – 9:00 PM\n\n\n\nHorn and Cantle Saloon
URL:https://bozone.com/event/chandler-huntley-46/
LOCATION:Horn and Cantle Saloon – Big Sky\, 800 Lone Mountain Ranch Rd\, Big Sky\, MT\, 59730\, United States
CATEGORIES:Music
GEO:45.2755088;-111.322818
X-APPLE-STRUCTURED-LOCATION;VALUE=URI;X-ADDRESS=Horn and Cantle Saloon – Big Sky 800 Lone Mountain Ranch Rd Big Sky MT 59730 United States;X-APPLE-RADIUS=500;X-TITLE=800 Lone Mountain Ranch Rd:geo:-111.322818,45.2755088
END:VEVENT
BEGIN:VEVENT
DTSTART;TZID=America/Denver:20250908T200000
DTEND;TZID=America/Denver:20250908T200000
DTSTAMP:20260422T104656
CREATED:20250825T202403Z
LAST-MODIFIED:20250825T202403Z
UID:296441-1757361600-1757361600@bozone.com
SUMMARY:Comedy Mic Night
DESCRIPTION:
URL:https://bozone.com/event/comedy-mic-night/
LOCATION:Eagles Bar\, 316 E Main Street\, Bozeman\, MT\, 59715\, United States
CATEGORIES:Arts & Theatre
GEO:45.6790336;-111.0324891
X-APPLE-STRUCTURED-LOCATION;VALUE=URI;X-ADDRESS=Eagles Bar 316 E Main Street Bozeman MT 59715 United States;X-APPLE-RADIUS=500;X-TITLE=316 E Main Street:geo:-111.0324891,45.6790336
END:VEVENT
BEGIN:VEVENT
DTSTART;TZID=America/Denver:20250908T210000
DTEND;TZID=America/Denver:20250908T210000
DTSTAMP:20260422T104656
CREATED:20250428T000316Z
LAST-MODIFIED:20250827T022852Z
UID:288630-1757365200-1757365200@bozone.com
SUMMARY:American Monday Karaoke
DESCRIPTION:
URL:https://bozone.com/event/alm-karaoke-7/
LOCATION:American Legion – Bozeman\, 225 E Main St.\, Bozeman\, MT\, 59715\, United States
CATEGORIES:Music
GEO:45.6796356;-111.0334576
X-APPLE-STRUCTURED-LOCATION;VALUE=URI;X-ADDRESS=American Legion – Bozeman 225 E Main St. Bozeman MT 59715 United States;X-APPLE-RADIUS=500;X-TITLE=225 E Main St.:geo:-111.0334576,45.6796356
END:VEVENT
END:VCALENDAR