BEGIN:VCALENDAR
VERSION:2.0
PRODID:-//The BoZone - ECPv5.12.0//NONSGML v1.0//EN
CALSCALE:GREGORIAN
METHOD:PUBLISH
X-WR-CALNAME:The BoZone
X-ORIGINAL-URL:https://bozone.com
X-WR-CALDESC:Events for The BoZone
BEGIN:VTIMEZONE
TZID:America/Denver
BEGIN:DAYLIGHT
TZOFFSETFROM:-0700
TZOFFSETTO:-0600
TZNAME:MDT
DTSTART:20250309T090000
END:DAYLIGHT
BEGIN:STANDARD
TZOFFSETFROM:-0600
TZOFFSETTO:-0700
TZNAME:MST
DTSTART:20251102T080000
END:STANDARD
END:VTIMEZONE
BEGIN:VEVENT
DTSTART;TZID=America/Denver:20250612T173000
DTEND;TZID=America/Denver:20250612T173000
DTSTAMP:20260420T023607
CREATED:20250604T164517Z
LAST-MODIFIED:20250604T164517Z
UID:291237-1749749400-1749749400@bozone.com
SUMMARY:Recreational Indoor Pickleball
DESCRIPTION:Come play pickelball in our new indoor gym! We have four courts available to the general public every Tuesday and Thursday. All ages are welcome from 5:30-6:30 and over 14 until 9:00. The Cost is $5 for residents and $7 for non-residents. FREE for under fourteen\, we provide paddles and balls so come have some fun!
URL:https://bozone.com/event/recreational-indoor-pickleball-2/2025-06-12/
LOCATION:Story Mill Community Center\, 600 Bridger Drive\, Bozeman\, 59715
CATEGORIES:Sporting Events
GEO:45.700859;-111.028561
X-APPLE-STRUCTURED-LOCATION;VALUE=URI;X-ADDRESS=Story Mill Community Center 600 Bridger Drive Bozeman 59715;X-APPLE-RADIUS=500;X-TITLE=600 Bridger Drive:geo:-111.028561,45.700859
END:VEVENT
BEGIN:VEVENT
DTSTART;TZID=America/Denver:20250612T180000
DTEND;TZID=America/Denver:20250612T180000
DTSTAMP:20260420T023607
CREATED:20250604T164601Z
LAST-MODIFIED:20250604T164601Z
UID:291241-1749751200-1749751200@bozone.com
SUMMARY:Drink & Draw
DESCRIPTION:Drink & Draw @ Valhalla Meadery 6pm-8pm\nEvery Thursday
URL:https://bozone.com/event/drink-draw-2/2025-06-12/
LOCATION:United States
CATEGORIES:Arts & Theatre,Classes
END:VEVENT
BEGIN:VEVENT
DTSTART;TZID=America/Denver:20250612T183000
DTEND;TZID=America/Denver:20250612T183000
DTSTAMP:20260420T023607
CREATED:20250424T014211Z
LAST-MODIFIED:20250424T014211Z
UID:290697-1749753000-1749753000@bozone.com
SUMMARY:Bunkhouse Trivia
DESCRIPTION:
URL:https://bozone.com/event/bunkhouse-trivia-5__trashed/2025-06-12/
LOCATION:Bunkhouse Brewery\, 7715 Shedhorn Dr\, Unit D\, Bozeman\, MT\, 59718\, United States
CATEGORIES:Miscellanea
GEO:45.6718;-111.184
X-APPLE-STRUCTURED-LOCATION;VALUE=URI;X-ADDRESS=Bunkhouse Brewery 7715 Shedhorn Dr Unit D Bozeman MT 59718 United States;X-APPLE-RADIUS=500;X-TITLE=7715 Shedhorn Dr\, Unit D:geo:-111.184,45.6718
END:VEVENT
BEGIN:VEVENT
DTSTART;TZID=America/Denver:20250612T190000
DTEND;TZID=America/Denver:20250612T190000
DTSTAMP:20260420T023608
CREATED:20250218T010207Z
LAST-MODIFIED:20250218T010207Z
UID:283196-1749754800-1749754800@bozone.com
SUMMARY:Valley View Rodeo
DESCRIPTION:Valley View Rodeo is a rodeo series held throughout the summer months at the Gallatin County Fairgrounds in Bozeman\, Montana. This family-friendly rodeo features roughstock events\, barrel racing\, team roping\, and more!\n2025 Dates: \nJune: 5\, 12\, 26\nJuly: 3\, 4*\, 10\, 24\, 31\nAugust: 14\, 21 & Finals Rodeo 28*\nNRA: June 19 & 20\n3rd Annual MSU Meet the Bobcats Rodeo Team: August 23 \n*Live music after the rodeo on July 4th and August 28th \nVisit us at ValleyViewRodeo.com to learn more!
URL:https://bozone.com/event/valley-view-rodeo/2025-06-12/
LOCATION:GCF – Gallatin County Fairgrounds – GCF\, 901 N Black\, Bozeman\, United States
CATEGORIES:Sporting Events
GEO:45.6885954;-111.0358461
X-APPLE-STRUCTURED-LOCATION;VALUE=URI;X-ADDRESS=GCF – Gallatin County Fairgrounds – GCF 901 N Black Bozeman United States;X-APPLE-RADIUS=500;X-TITLE=901 N Black:geo:-111.0358461,45.6885954
END:VEVENT
END:VCALENDAR