BEGIN:VCALENDAR
VERSION:2.0
PRODID:-//The BoZone - ECPv5.12.0//NONSGML v1.0//EN
CALSCALE:GREGORIAN
METHOD:PUBLISH
X-WR-CALNAME:The BoZone
X-ORIGINAL-URL:https://bozone.com
X-WR-CALDESC:Events for The BoZone
BEGIN:VTIMEZONE
TZID:America/Denver
BEGIN:DAYLIGHT
TZOFFSETFROM:-0700
TZOFFSETTO:-0600
TZNAME:MDT
DTSTART:20250309T090000
END:DAYLIGHT
BEGIN:STANDARD
TZOFFSETFROM:-0600
TZOFFSETTO:-0700
TZNAME:MST
DTSTART:20251102T080000
END:STANDARD
END:VTIMEZONE
BEGIN:VEVENT
DTSTART;TZID=America/Denver:20250511T150000
DTEND;TZID=America/Denver:20250511T150000
DTSTAMP:20260422T104600
CREATED:20241125T133833Z
LAST-MODIFIED:20241125T133833Z
UID:277137-1746975600-1746975600@bozone.com
SUMMARY:Engelbert Humperdinck's  Hansel and Gretel
DESCRIPTION:Embark on a magical adventure the whole family will love in Hansel and Gretel. The Brother Grimm’s famous fairy tale comes to life with Engelbert Humperdinck’s lush orchestration and gorgeous melodies. Featuring the Opera Montana Youth Chorus\, this operatic masterpiece will captivate audiences of all ages. \n  \nHansel and Gretel\nMore Info\n\nThu May 8  –  7:00 PM –  Theatre\nFri May 9  –  7:00 PM –  Theatre\nSat May 10  –  7:00 PM –  Theatre\nSun May 11  –  3:00 PM –  Theatre
URL:https://bozone.com/event/engelbert-humperdincks-hansel-and-gretel-2025-05-11/
LOCATION:The Ellen Theatre\, 17 W Main\, Bozeman\, MT\, 59715\, United States
CATEGORIES:Arts & Theatre
GEO:45.6794524;-111.037852
X-APPLE-STRUCTURED-LOCATION;VALUE=URI;X-ADDRESS=The Ellen Theatre 17 W Main Bozeman MT 59715 United States;X-APPLE-RADIUS=500;X-TITLE=17 W Main:geo:-111.037852,45.6794524
END:VEVENT
BEGIN:VEVENT
DTSTART;TZID=America/Denver:20250511T150000
DTEND;TZID=America/Denver:20250511T170000
DTSTAMP:20260422T104601
CREATED:20250327T233319Z
LAST-MODIFIED:20250327T233319Z
UID:285707-1746975600-1746982800@bozone.com
SUMMARY:Late\, A Cowboy Song
DESCRIPTION:Late\, A Cowboy Song \nMay 9 -8pm\, 10 -8pm\, 11 -3pm \nMay 16 -8pm\, 17 -8pm\, 18 -3pm \nGeneral ticket sales begin on April 4. \nWritten by Sarah Ruhl \nDirected by Kyrie Dawson \n\n\n\n\n\n\n\n\n\n\n\n\n \n\n\n\n\n\n\n\n\n\n\n\n\nAbout the Play: \nLate\, A Cowboy Song follows Crick\, Mary\, and Red as they navigate love\, identity\, and change. Crick and Mary have been together long enough for their relationship to feel stagnant\, yet they follow the expected path—marriage\, a baby\, a life within familiar boundaries. Then Red\, a lady cowboy\, rides into Mary’s world\, offering a glimpse of open spaces and a different way of living. As time accelerates\, sweeping them through the years\, Mary begins to question the life she has built and whether her true path lies outside the city limits. Late\, A Cowboy Song is a lyrical and thought-provoking journey through independence\, gender roles\, and the pace of modern life. \n\nhttps://www.ticketleap.events/events/blue-slipper-theatre
URL:https://bozone.com/event/late-a-cowboy-song-2025-05-11/
LOCATION:Blue Slipper Theatre – Livingston\, 113 East Callender Street\, Livingston\, MT\, 59047\, United States
CATEGORIES:Arts & Theatre
GEO:45.6615548;-110.559691
X-APPLE-STRUCTURED-LOCATION;VALUE=URI;X-ADDRESS=Blue Slipper Theatre – Livingston 113 East Callender Street Livingston MT 59047 United States;X-APPLE-RADIUS=500;X-TITLE=113 East Callender Street:geo:-110.559691,45.6615548
END:VEVENT
END:VCALENDAR