BEGIN:VCALENDAR
VERSION:2.0
PRODID:-//The BoZone - ECPv5.12.0//NONSGML v1.0//EN
CALSCALE:GREGORIAN
METHOD:PUBLISH
X-WR-CALNAME:The BoZone
X-ORIGINAL-URL:https://bozone.com
X-WR-CALDESC:Events for The BoZone
BEGIN:VTIMEZONE
TZID:America/Denver
BEGIN:DAYLIGHT
TZOFFSETFROM:-0700
TZOFFSETTO:-0600
TZNAME:MDT
DTSTART:20250309T090000
END:DAYLIGHT
BEGIN:STANDARD
TZOFFSETFROM:-0600
TZOFFSETTO:-0700
TZNAME:MST
DTSTART:20251102T080000
END:STANDARD
END:VTIMEZONE
BEGIN:VEVENT
DTSTART;TZID=America/Denver:20250326T033000
DTEND;TZID=America/Denver:20250326T033000
DTSTAMP:20260423T173624
CREATED:20250109T011707Z
LAST-MODIFIED:20250109T011707Z
UID:280166-1742959800-1742959800@bozone.com
SUMMARY:International Conference on Regenerative Medicine and Stem Cell Therapy in Rome
DESCRIPTION:We are pleased to announce that the International Conference on Regenerative Medicine and Stem Cell Therapy will be held on March 24-26\, 2025\, Rome\, Italy.\nThis would be one of the leading conferences in the fields of Stem Cells and Regenerative Medicine. The conference aims to gather scholars from all over the world to present the latest research outcomes and advances in relevant fields and provides an ideal environment for making new scientific collaborations.\nThe conference will be organized based on the theme of stem cell innovations in regenerative medications.\nThe main goal of the conference is to showcase the advances and challenges in Regenerative Medicine and Stem Cell Therapy\, in areas such as Cell Adhesion and Migration\, Applications of Stem Cells\, Computational stem cell biology\, Technologies in stem cell research\, Stem cells in regenerative therapies and more. The conference will feature plenary and keynote lectures by eminent experts\, oral and poster presentations by participants\, workshops and exhibitions by sponsors and exhibitors.\nWe look forward to welcoming you to ROME for an unforgettable experience at the International Conference on Regenerative Medicine and Stem Cell Therapy!
URL:https://bozone.com/event/international-conference-on-regenerative-medicine-and-stem-cell-therapy-in-rome-2025-03-26/
LOCATION:Virtual Event\, Bozeman\, MT\, 59715\, United States
CATEGORIES:Classes,Lectures,Miscellanea
GEO:46.8796822;-110.3625658
END:VEVENT
BEGIN:VEVENT
DTSTART;TZID=America/Denver:20250326T070000
DTEND;TZID=America/Denver:20250326T170000
DTSTAMP:20260423T173625
CREATED:20250126T200726Z
LAST-MODIFIED:20250126T200726Z
UID:281165-1742972400-1743008400@bozone.com
SUMMARY:U.S. Biathlon Senior Nationals & Spring Festival
DESCRIPTION:Mar\n27\nto Mar 29\n\n\n\n\nU.S. Biathlon Senior Nationals & Spring Festival presented by Toyota\nSchedule\n\n\nTuesday 3/25: Unofficial Training Day \n\n\nWednesday 3/26: Official Training Day \n\n\nThursday 3/27: Sprint Races \n\n\nFriday 3/28: Mass Start Races & Evening Banquet in Downtown Bozeman \n\n\nSaturday 3/29: Super Sprint Final (seeded based on results of the Mass Start) \n\n\n\nThu\, Mar 27\, 2025  7:00 AM  Sat\, Mar 29\, 2025  5:00 PM \nCrosscut Mountain Sports Center (map)\n\n\nCrosscut is thrilled to be the host of the 2025 U.S. Biathlon Senior Nationals & Spring Festival drawing athletes from around the country including U.S. National Biathlon Team members.
URL:https://bozone.com/event/u-s-biathlon-senior-nationals-spring-festival-2025-03-26/
LOCATION:Crosscut Mountain Sports Center\, 16621 Bridger Canyon Road\, Bozeman\, MT\, 59715\, United States
CATEGORIES:Sporting Events
GEO:45.8278466;-110.8844653
X-APPLE-STRUCTURED-LOCATION;VALUE=URI;X-ADDRESS=Crosscut Mountain Sports Center 16621 Bridger Canyon Road Bozeman MT 59715 United States;X-APPLE-RADIUS=500;X-TITLE=16621 Bridger Canyon Road:geo:-110.8844653,45.8278466
END:VEVENT
BEGIN:VEVENT
DTSTART;TZID=America/Denver:20250326T154500
DTEND;TZID=America/Denver:20250326T170000
DTSTAMP:20260423T173625
CREATED:20250114T212038Z
LAST-MODIFIED:20250114T212038Z
UID:280428-1743003900-1743008400@bozone.com
SUMMARY:MOR After-School: SUE Series (Ages 6-12)
DESCRIPTION:In this new weekday afternoon program\, children will explore the exciting special exhibit from Chicago’s Field Museum\, SUE: The T. rex Experience. Through hands-on learning and 3D paleoart projects\, children will discover the characteristics of T.rex and the other prehistoric species that lived alongside SUE during the Cretaceous Period. Throughout the series\, children will engage in fossil exploration\, create dinosaur dioramas\, and make marine reptile mason jar aquariums. Capacity: 15 participants \nRegister for Wednesday\, February 12 via this link\nRegister for Wednesday\, February 26 via this link\nRegister for Wednesday\, March 12 via this link\nRegister for Wednesday\, March 26 via this link \n3:45 – 5 p.m.\nRedstart Classroom\n$12/member\, $15/non-member
URL:https://bozone.com/event/mor-after-school-sue-series-ages-6-12-2025-03-26/
LOCATION:Museum of the Rockies\, 600 W Kagy Blvd\, Bozeman\, MT\, 59718\, United States
CATEGORIES:Classes
GEO:46.8796822;-110.3625658
X-APPLE-STRUCTURED-LOCATION;VALUE=URI;X-ADDRESS=Museum of the Rockies 600 W Kagy Blvd Bozeman MT 59718 United States;X-APPLE-RADIUS=500;X-TITLE=600 W Kagy Blvd:geo:-110.3625658,46.8796822
END:VEVENT
END:VCALENDAR