BEGIN:VCALENDAR
VERSION:2.0
PRODID:-//The BoZone - ECPv5.12.0//NONSGML v1.0//EN
CALSCALE:GREGORIAN
METHOD:PUBLISH
X-WR-CALNAME:The BoZone
X-ORIGINAL-URL:https://bozone.com
X-WR-CALDESC:Events for The BoZone
BEGIN:VTIMEZONE
TZID:America/Denver
BEGIN:DAYLIGHT
TZOFFSETFROM:-0700
TZOFFSETTO:-0600
TZNAME:MDT
DTSTART:20250309T090000
END:DAYLIGHT
BEGIN:STANDARD
TZOFFSETFROM:-0600
TZOFFSETTO:-0700
TZNAME:MST
DTSTART:20251102T080000
END:STANDARD
END:VTIMEZONE
BEGIN:VEVENT
DTSTART;TZID=America/Denver:20250314T090000
DTEND;TZID=America/Denver:20250314T093000
DTSTAMP:20260420T075943
CREATED:20250110T150335Z
LAST-MODIFIED:20250110T150335Z
UID:280270-1741942800-1741944600@bozone.com
SUMMARY:MoR’s Virtual Fossil Fridays
DESCRIPTION:Love fossils? So do we! Join Outreach Program Manager Ashley Hall on Zoom on most Fridays to explore the evolutionary history of fascinating fossil specimens. Meet paleontologists from around the globe and discover how fossils reveal the story of life on Earth. Bring your curiosity and questions! \nJoin via Zoom\nMost Fridays\, 9 – 9:30 a.m. MST\nFree and open to the public \nhttps://museumoftherockies.org/calendar/virtual-fossil-fridays
URL:https://bozone.com/event/mors-virtual-fossil-fridays-2-2025-03-14/
LOCATION:Virtual Event\, Bozeman\, MT\, 59715\, United States
CATEGORIES:Classes,Lectures,Miscellanea
GEO:46.8796822;-110.3625658
END:VEVENT
BEGIN:VEVENT
DTSTART;TZID=America/Denver:20250314T090000
DTEND;TZID=America/Denver:20250314T093000
DTSTAMP:20260420T075943
CREATED:20250110T150410Z
LAST-MODIFIED:20250110T150410Z
UID:280274-1741942800-1741944600@bozone.com
SUMMARY:MoR’s Virtual Fossil Fridays
DESCRIPTION:Love fossils? So do we! Join Outreach Program Manager Ashley Hall on Zoom on most Fridays to explore the evolutionary history of fascinating fossil specimens. Meet paleontologists from around the globe and discover how fossils reveal the story of life on Earth. Bring your curiosity and questions! \nJoin via Zoom\nMost Fridays\, 9 – 9:30 a.m. MST\nFree and open to the public \nhttps://museumoftherockies.org/calendar/virtual-fossil-fridays
URL:https://bozone.com/event/mors-virtual-fossil-fridays-3-2025-03-14/
LOCATION:Virtual Event\, Bozeman\, MT\, 59715\, United States
CATEGORIES:Classes,Lectures,Miscellanea
GEO:46.8796822;-110.3625658
END:VEVENT
BEGIN:VEVENT
DTSTART;TZID=America/Denver:20250314T090000
DTEND;TZID=America/Denver:20250314T093000
DTSTAMP:20260420T075943
CREATED:20250114T204555Z
LAST-MODIFIED:20250114T204555Z
UID:280405-1741942800-1741944600@bozone.com
SUMMARY:MOR's Virtual Fossil Friday
DESCRIPTION:Most Fridays\, 9 – 9:30 a.m. MST\nFree and open to the public via Zoom\nMarch 7\, 14\, 21\, 28 \nLove fossils? So do we! Join Outreach Program Manager Ashley Hall on Zoom on most Fridays to explore the evolutionary history of fascinating fossil specimens. Meet paleontologists from around the globe and discover how fossils reveal the story of life on Earth. Bring your curiosity and questions! \n  \nVirtual Event \nFor more information: https://museumoftherockies.org/calendar/virtual-fossil-fridays
URL:https://bozone.com/event/mors-virtual-fossil-friday-3-2025-03-14/
LOCATION:Virtual Event\, Bozeman\, MT\, 59715\, United States
CATEGORIES:Miscellanea
GEO:46.8796822;-110.3625658
END:VEVENT
BEGIN:VEVENT
DTSTART;TZID=America/Denver:20250314T180000
DTEND;TZID=America/Denver:20250314T200000
DTSTAMP:20260420T075943
CREATED:20250126T005227Z
LAST-MODIFIED:20250130T205139Z
UID:280920-1741975200-1741982400@bozone.com
SUMMARY:IX Trivia
DESCRIPTION:
URL:https://bozone.com/event/trivia-3-2025-03-14/
LOCATION:Bar IX\, 311 East Main\, Bozeman\, MT\, 59715\, United States
CATEGORIES:Miscellanea
GEO:45.6795478;-111.0327157
X-APPLE-STRUCTURED-LOCATION;VALUE=URI;X-ADDRESS=Bar IX 311 East Main Bozeman MT 59715 United States;X-APPLE-RADIUS=500;X-TITLE=311 East Main:geo:-111.0327157,45.6795478
END:VEVENT
BEGIN:VEVENT
DTSTART;TZID=America/Denver:20250314T200000
DTEND;TZID=America/Denver:20250314T200000
DTSTAMP:20260420T075943
CREATED:20240926T225505Z
LAST-MODIFIED:20240926T225505Z
UID:270677-1741982400-1741982400@bozone.com
SUMMARY:Old Times by Harold Pinter
DESCRIPTION:Old Times by Harold Pinter\n\n Fri & Sat 8:00 PM    Sun 3:00 PM\n\n\n\n\n\n\n\n\n\nIts story features only three characters: Deeley\, Kate and Anna. On the surface\, ‘Old Times’ offers the simple premise that Anna has come from Italy to visit an old friend Kate\, and her husband Deeley in their house by the sea. Yet almost from the beginning there are tensions between the three characters\, and an apparent contest for Kate’s affection. While hostilities are rarely overtly expressed\, the characters seems to be locked in a struggle for power which reaches back in to the past. Through conversations and reminiscences\, their histories and personalities are exposed\, but it seems unlikely that everything we hear is accurate\, particularly as many of the accounts contradict each other. The question arises about whose memories are actually true.
URL:https://bozone.com/event/old-times-by-harold-pinter-2025-03-14/
LOCATION:Blue Slipper Theatre – Livingston\, 113 East Callender Street\, Livingston\, MT\, 59047\, United States
CATEGORIES:Arts & Theatre
GEO:45.6615548;-110.559691
X-APPLE-STRUCTURED-LOCATION;VALUE=URI;X-ADDRESS=Blue Slipper Theatre – Livingston 113 East Callender Street Livingston MT 59047 United States;X-APPLE-RADIUS=500;X-TITLE=113 East Callender Street:geo:-110.559691,45.6615548
END:VEVENT
BEGIN:VEVENT
DTSTART;TZID=America/Denver:20250314T200000
DTEND;TZID=America/Denver:20250314T220000
DTSTAMP:20260420T075943
CREATED:20241124T032748Z
LAST-MODIFIED:20241124T032748Z
UID:276668-1741982400-1741989600@bozone.com
SUMMARY:Public Skate
DESCRIPTION:Public Skate\n\n\n\n\nCheck-in at Ticket Booth is required prior to skating. \nAdult: $10\nYouth $7\nAges 5 and under: Free \nAdult 11x Punch Card: $100\nAdult Season Pass: $180\nYouth 11x Punch Card: $70\nYouth Season Pass: $125 \nSkate rental: $5 per pair.\nTicket Booth staff will assist with skate rentals.\n(No Sticks & Pucks)
URL:https://bozone.com/event/public-skate-7-2025-03-14/
LOCATION:Bottcher Rink – GCF Fairgrounds\, Gallatin Fairgrounds\, Bozeman\, MT\, United States
CATEGORIES:Sporting Events
GEO:45.7291612;-111.0686314
X-APPLE-STRUCTURED-LOCATION;VALUE=URI;X-ADDRESS=Bottcher Rink – GCF Fairgrounds Gallatin Fairgrounds Bozeman MT United States;X-APPLE-RADIUS=500;X-TITLE=Gallatin Fairgrounds:geo:-111.0686314,45.7291612
END:VEVENT
BEGIN:VEVENT
DTSTART;TZID=America/Denver:20250314T220000
DTEND;TZID=America/Denver:20250314T220000
DTSTAMP:20260420T075943
CREATED:20241228T031335Z
LAST-MODIFIED:20250130T210339Z
UID:282327-1741989600-1741989600@bozone.com
SUMMARY:Waypoint Karaoke
DESCRIPTION:WINTER KARAOKE\n\n10:00 PM  11:55 PM\n\n\nThe Waypoint
URL:https://bozone.com/event/karaoke-3-2025-03-14/
LOCATION:The Big Sky Waypoint\, 50 Ousel Falls Road\, Big Sky\, MT\, 59716\, United States
CATEGORIES:Music
GEO:45.2600817;-111.3084077
X-APPLE-STRUCTURED-LOCATION;VALUE=URI;X-ADDRESS=The Big Sky Waypoint 50 Ousel Falls Road Big Sky MT 59716 United States;X-APPLE-RADIUS=500;X-TITLE=50 Ousel Falls Road:geo:-111.3084077,45.2600817
END:VEVENT
END:VCALENDAR