BEGIN:VCALENDAR
VERSION:2.0
PRODID:-//The BoZone - ECPv5.12.0//NONSGML v1.0//EN
CALSCALE:GREGORIAN
METHOD:PUBLISH
X-WR-CALNAME:The BoZone
X-ORIGINAL-URL:https://bozone.com
X-WR-CALDESC:Events for The BoZone
BEGIN:VTIMEZONE
TZID:America/Denver
BEGIN:DAYLIGHT
TZOFFSETFROM:-0700
TZOFFSETTO:-0600
TZNAME:MDT
DTSTART:20250309T090000
END:DAYLIGHT
BEGIN:STANDARD
TZOFFSETFROM:-0600
TZOFFSETTO:-0700
TZNAME:MST
DTSTART:20251102T080000
END:STANDARD
END:VTIMEZONE
BEGIN:VEVENT
DTSTART;TZID=America/Denver:20250305T163000
DTEND;TZID=America/Denver:20250305T163000
DTSTAMP:20260421T150319
CREATED:20250110T164738Z
LAST-MODIFIED:20250110T164738Z
UID:280315-1741192200-1741192200@bozone.com
SUMMARY:Auditions- Beast of Bozeman
DESCRIPTION:Beast of Bozeman is returning for our THIRD year!! Who will be crowned this year’s Beast?!\nAll types of performance art is welcomed to audition (must be family-friendly). No age restrictions.\nAuditions will be held March 3-5 with the final show on Saturday\, April 26.\nRegistration is required to audition. \nSignup here: https://forms.gle/NPSNCjZ8pN2SLfNG6 \nGet your costumes sorted and get ready to dazzle\, darlings. We’ll see you talented people at auditions!
URL:https://bozone.com/event/auditions-beast-of-bozeman-2025-03-05/
LOCATION:Emerson Center for Arts and Culture\, MT\, United States
CATEGORIES:Arts & Theatre,Miscellanea
GEO:46.8796822;-110.3625658
END:VEVENT
END:VCALENDAR