BEGIN:VCALENDAR
VERSION:2.0
PRODID:-//The BoZone - ECPv5.12.0//NONSGML v1.0//EN
CALSCALE:GREGORIAN
METHOD:PUBLISH
X-WR-CALNAME:The BoZone
X-ORIGINAL-URL:https://bozone.com
X-WR-CALDESC:Events for The BoZone
BEGIN:VTIMEZONE
TZID:America/Denver
BEGIN:DAYLIGHT
TZOFFSETFROM:-0700
TZOFFSETTO:-0600
TZNAME:MDT
DTSTART:20250309T090000
END:DAYLIGHT
BEGIN:STANDARD
TZOFFSETFROM:-0600
TZOFFSETTO:-0700
TZNAME:MST
DTSTART:20251102T080000
END:STANDARD
END:VTIMEZONE
BEGIN:VEVENT
DTSTART;TZID=America/Denver:20250207T180000
DTEND;TZID=America/Denver:20250207T200000
DTSTAMP:20260419T091415
CREATED:20250126T005227Z
LAST-MODIFIED:20250130T205136Z
UID:280915-1738951200-1738958400@bozone.com
SUMMARY:IX Trivia
DESCRIPTION:
URL:https://bozone.com/event/trivia-3-2025-02-07/
LOCATION:Bar IX\, 311 East Main\, Bozeman\, MT\, 59715\, United States
CATEGORIES:Miscellanea
GEO:45.6795478;-111.0327157
X-APPLE-STRUCTURED-LOCATION;VALUE=URI;X-ADDRESS=Bar IX 311 East Main Bozeman MT 59715 United States;X-APPLE-RADIUS=500;X-TITLE=311 East Main:geo:-111.0327157,45.6795478
END:VEVENT
BEGIN:VEVENT
DTSTART;TZID=America/Denver:20250207T190000
DTEND;TZID=America/Denver:20250207T190000
DTSTAMP:20260419T091415
CREATED:20240727T222236Z
LAST-MODIFIED:20240727T222236Z
UID:276315-1738954800-1738954800@bozone.com
SUMMARY:Stephen Sondheim's Sweeney Todd
DESCRIPTION:Attend the tale of Sweeney Todd as Stephen Sondheim’s Tony Award-winning thriller makes its professional Bozeman debut. The infamous tale of Fleet Street’s vengeance-seeking barber features razor-sharp lyrics and piping-hot musical drama. This unforgettable theatrical experience will leave you on the edge of your seat.https://www.operamontana.org/show/sweeny-todd
URL:https://bozone.com/event/stephen-sondheims-sweeney-todd/2025-02-07/
LOCATION:The Ellen Theatre\, 17 W Main\, Bozeman\, MT\, 59715\, United States
CATEGORIES:Arts & Theatre
GEO:45.6794524;-111.037852
X-APPLE-STRUCTURED-LOCATION;VALUE=URI;X-ADDRESS=The Ellen Theatre 17 W Main Bozeman MT 59715 United States;X-APPLE-RADIUS=500;X-TITLE=17 W Main:geo:-111.037852,45.6794524
END:VEVENT
BEGIN:VEVENT
DTSTART;TZID=America/Denver:20250207T200000
DTEND;TZID=America/Denver:20250207T220000
DTSTAMP:20260419T091415
CREATED:20241124T032748Z
LAST-MODIFIED:20241124T032748Z
UID:276665-1738958400-1738965600@bozone.com
SUMMARY:Public Skate
DESCRIPTION:Public Skate\n\n\n\n\nCheck-in at Ticket Booth is required prior to skating. \nAdult: $10\nYouth $7\nAges 5 and under: Free \nAdult 11x Punch Card: $100\nAdult Season Pass: $180\nYouth 11x Punch Card: $70\nYouth Season Pass: $125 \nSkate rental: $5 per pair.\nTicket Booth staff will assist with skate rentals.\n(No Sticks & Pucks)
URL:https://bozone.com/event/public-skate-7-2025-02-07/
LOCATION:Bottcher Rink – GCF Fairgrounds\, Gallatin Fairgrounds\, Bozeman\, MT\, United States
CATEGORIES:Sporting Events
GEO:45.7291612;-111.0686314
X-APPLE-STRUCTURED-LOCATION;VALUE=URI;X-ADDRESS=Bottcher Rink – GCF Fairgrounds Gallatin Fairgrounds Bozeman MT United States;X-APPLE-RADIUS=500;X-TITLE=Gallatin Fairgrounds:geo:-111.0686314,45.7291612
END:VEVENT
END:VCALENDAR