BEGIN:VCALENDAR
VERSION:2.0
PRODID:-//The BoZone - ECPv5.12.0//NONSGML v1.0//EN
CALSCALE:GREGORIAN
METHOD:PUBLISH
X-WR-CALNAME:The BoZone
X-ORIGINAL-URL:https://bozone.com
X-WR-CALDESC:Events for The BoZone
BEGIN:VTIMEZONE
TZID:America/Denver
BEGIN:DAYLIGHT
TZOFFSETFROM:-0700
TZOFFSETTO:-0600
TZNAME:MDT
DTSTART:20250309T090000
END:DAYLIGHT
BEGIN:STANDARD
TZOFFSETFROM:-0600
TZOFFSETTO:-0700
TZNAME:MST
DTSTART:20251102T080000
END:STANDARD
END:VTIMEZONE
BEGIN:VEVENT
DTSTART;TZID=America/Denver:20250206T180000
DTEND;TZID=America/Denver:20250206T200000
DTSTAMP:20260421T041706
CREATED:20241126T232900Z
LAST-MODIFIED:20241126T232900Z
UID:277587-1738864800-1738872000@bozone.com
SUMMARY:Drink + Draw
DESCRIPTION:Thursdays\, we have our Drink + Draw from 6:00 to 8:00.
URL:https://bozone.com/event/drink-draw-2025-02-06/
LOCATION:MT\, United States
CATEGORIES:Arts & Theatre,Classes
END:VEVENT
BEGIN:VEVENT
DTSTART;TZID=America/Denver:20250206T180000
DTEND;TZID=America/Denver:20250206T180000
DTSTAMP:20260421T041706
CREATED:20241229T214342Z
LAST-MODIFIED:20250130T205153Z
UID:279785-1738864800-1738864800@bozone.com
SUMMARY:Bunkhouse Trivia
DESCRIPTION:
URL:https://bozone.com/event/trivia-2-2025-02-06/
LOCATION:Bunkhouse Brewery\, 7715 Shedhorn Dr\, Unit D\, Bozeman\, MT\, 59718\, United States
CATEGORIES:Miscellanea
GEO:45.6718;-111.184
X-APPLE-STRUCTURED-LOCATION;VALUE=URI;X-ADDRESS=Bunkhouse Brewery 7715 Shedhorn Dr Unit D Bozeman MT 59718 United States;X-APPLE-RADIUS=500;X-TITLE=7715 Shedhorn Dr\, Unit D:geo:-111.184,45.6718
END:VEVENT
BEGIN:VEVENT
DTSTART;TZID=America/Denver:20250206T190000
DTEND;TZID=America/Denver:20250206T190000
DTSTAMP:20260421T041706
CREATED:20240727T222236Z
LAST-MODIFIED:20240727T222236Z
UID:276314-1738868400-1738868400@bozone.com
SUMMARY:Stephen Sondheim's Sweeney Todd
DESCRIPTION:Attend the tale of Sweeney Todd as Stephen Sondheim’s Tony Award-winning thriller makes its professional Bozeman debut. The infamous tale of Fleet Street’s vengeance-seeking barber features razor-sharp lyrics and piping-hot musical drama. This unforgettable theatrical experience will leave you on the edge of your seat.https://www.operamontana.org/show/sweeny-todd
URL:https://bozone.com/event/stephen-sondheims-sweeney-todd/2025-02-06/
LOCATION:The Ellen Theatre\, 17 W Main\, Bozeman\, MT\, 59715\, United States
CATEGORIES:Arts & Theatre
GEO:45.6794524;-111.037852
X-APPLE-STRUCTURED-LOCATION;VALUE=URI;X-ADDRESS=The Ellen Theatre 17 W Main Bozeman MT 59715 United States;X-APPLE-RADIUS=500;X-TITLE=17 W Main:geo:-111.037852,45.6794524
END:VEVENT
BEGIN:VEVENT
DTSTART;TZID=America/Denver:20250206T190000
DTEND;TZID=America/Denver:20250206T190000
DTSTAMP:20260421T041706
CREATED:20241125T205606Z
LAST-MODIFIED:20250130T210425Z
UID:280865-1738868400-1738868400@bozone.com
SUMMARY:Grey Dog Karaoke
DESCRIPTION:Thursday @ 7pm – Karaoke
URL:https://bozone.com/event/karaoke-2-2025-02-06/
LOCATION:Grey Dog Bar\, 34 N Bozeman Ave\, Bozeman\, MT\, 58715\, United States
CATEGORIES:Music
GEO:45.6800908;-111.0342181
X-APPLE-STRUCTURED-LOCATION;VALUE=URI;X-ADDRESS=Grey Dog Bar 34 N Bozeman Ave Bozeman MT 58715 United States;X-APPLE-RADIUS=500;X-TITLE=34 N Bozeman Ave:geo:-111.0342181,45.6800908
END:VEVENT
BEGIN:VEVENT
DTSTART;TZID=America/Denver:20250206T193000
DTEND;TZID=America/Denver:20250206T193000
DTSTAMP:20260421T041706
CREATED:20241229T214946Z
LAST-MODIFIED:20241229T214946Z
UID:279796-1738870200-1738870200@bozone.com
SUMMARY:Vintage Swing Dancing
DESCRIPTION:
URL:https://bozone.com/event/vintage-swing-dancing-2025-02-06/
LOCATION:La Brasserie\, 31 S Willson\, Bozeman\, MT\, 59715\, United States
CATEGORIES:Classes,Miscellanea,Music
GEO:45.6785474;-111.0390433
X-APPLE-STRUCTURED-LOCATION;VALUE=URI;X-ADDRESS=La Brasserie 31 S Willson Bozeman MT 59715 United States;X-APPLE-RADIUS=500;X-TITLE=31 S Willson:geo:-111.0390433,45.6785474
END:VEVENT
END:VCALENDAR