BEGIN:VCALENDAR
VERSION:2.0
PRODID:-//The BoZone - ECPv5.12.0//NONSGML v1.0//EN
CALSCALE:GREGORIAN
METHOD:PUBLISH
X-WR-CALNAME:The BoZone
X-ORIGINAL-URL:https://bozone.com
X-WR-CALDESC:Events for The BoZone
BEGIN:VTIMEZONE
TZID:America/Denver
BEGIN:DAYLIGHT
TZOFFSETFROM:-0700
TZOFFSETTO:-0600
TZNAME:MDT
DTSTART:20250309T090000
END:DAYLIGHT
BEGIN:STANDARD
TZOFFSETFROM:-0600
TZOFFSETTO:-0700
TZNAME:MST
DTSTART:20251102T080000
END:STANDARD
END:VTIMEZONE
BEGIN:VEVENT
DTSTART;TZID=America/Denver:20250124T090000
DTEND;TZID=America/Denver:20250124T090000
DTSTAMP:20260422T063902
CREATED:20241218T011929Z
LAST-MODIFIED:20241218T011929Z
UID:278224-1737709200-1737709200@bozone.com
SUMMARY:MoR's Virtual Fossil Fridays
DESCRIPTION:Most Fridays\, 9 – 9:30 a.m. MST\nFree and open to the public via Zoom\nJanuary 10\, 17\, 24\, 31 \nLove fossils? So do we! Join Outreach Program Manager Ashley Hall on Zoom on most Fridays to explore the evolutionary history of fascinating fossil specimens. Meet paleontologists from around the globe and discover how fossils reveal the story of life on Earth. Bring your curiosity and questions! \nFor more information: https://museumoftherockies.org/calendar/virtual-fossil-fridays
URL:https://bozone.com/event/mors-virtual-fossil-fridays-2025-01-24/
LOCATION:Virtual Event\, Bozeman\, MT\, 59715\, United States
CATEGORIES:Classes
GEO:46.8796822;-110.3625658
END:VEVENT
BEGIN:VEVENT
DTSTART;TZID=America/Denver:20250124T090000
DTEND;TZID=America/Denver:20250124T093000
DTSTAMP:20260422T063902
CREATED:20250114T204311Z
LAST-MODIFIED:20250114T204311Z
UID:280398-1737709200-1737711000@bozone.com
SUMMARY:MOR's Virtual Fossil Friday
DESCRIPTION:Most Fridays\, 9 – 9:30 a.m. MST\nFree and open to the public via Zoom\nJanuary 10\, 17\, 24\, 31 \nLove fossils? So do we! Join Outreach Program Manager Ashley Hall on Zoom on most Fridays to explore the evolutionary history of fascinating fossil specimens. Meet paleontologists from around the globe and discover how fossils reveal the story of life on Earth. Bring your curiosity and questions! \n  \nVirtual Event \nFor more information: https://museumoftherockies.org/calendar/virtual-fossil-fridays
URL:https://bozone.com/event/mors-virtual-fossil-friday-2025-01-24/
LOCATION:Virtual Event\, Bozeman\, MT\, 59715\, United States
CATEGORIES:Miscellanea
GEO:46.8796822;-110.3625658
END:VEVENT
BEGIN:VEVENT
DTSTART;TZID=America/Denver:20250124T160000
DTEND;TZID=America/Denver:20250124T180000
DTSTAMP:20260422T063902
CREATED:20241230T205101Z
LAST-MODIFIED:20241230T205101Z
UID:279995-1737734400-1737741600@bozone.com
SUMMARY:Mathias
DESCRIPTION:Mathias
URL:https://bozone.com/event/mathias-2025-01-24/
LOCATION:Sage Lodge – S of Livingston\, 55 Sage Lodge Drive\, Pray\, MT\, 59065\, United States
CATEGORIES:Music
GEO:45.3597459;-110.7195062
X-APPLE-STRUCTURED-LOCATION;VALUE=URI;X-ADDRESS=Sage Lodge – S of Livingston 55 Sage Lodge Drive Pray MT 59065 United States;X-APPLE-RADIUS=500;X-TITLE=55 Sage Lodge Drive:geo:-110.7195062,45.3597459
END:VEVENT
BEGIN:VEVENT
DTSTART;TZID=America/Denver:20250124T210000
DTEND;TZID=America/Denver:20250124T210000
DTSTAMP:20260422T063902
CREATED:20241112T002218Z
LAST-MODIFIED:20241112T002218Z
UID:276092-1737752400-1737752400@bozone.com
SUMMARY:Millennial Trivia
DESCRIPTION:Swing by Ponderosa Social for Millennial themed trivia every Friday night at 9pm!\nPrizes for the top 3 teams\, as well as delicious craft cocktails\, late night bites until midnight\, and late night happy hour starting at 10pm!\nThis is a recurring event\, year round.\nPh# (406) 577-8650\nhttps://ponderosamt.com
URL:https://bozone.com/event/millennial-trivia-2025-01-24/
LOCATION:Ponderosa Social Club\, 515 W Aspen\, Bozeman\, MT\, 59715\, United States
CATEGORIES:Miscellanea
GEO:45.687753;-111.0446275
X-APPLE-STRUCTURED-LOCATION;VALUE=URI;X-ADDRESS=Ponderosa Social Club 515 W Aspen Bozeman MT 59715 United States;X-APPLE-RADIUS=500;X-TITLE=515 W Aspen:geo:-111.0446275,45.687753
END:VEVENT
BEGIN:VEVENT
DTSTART;TZID=America/Denver:20250124T210000
DTEND;TZID=America/Denver:20250124T210000
DTSTAMP:20260422T063902
CREATED:20241228T024124Z
LAST-MODIFIED:20250114T233205Z
UID:279278-1737752400-1737752400@bozone.com
SUMMARY:Funky Moto
DESCRIPTION:Funky Moto\n\nFriday\nJan 17\, 2025
URL:https://bozone.com/event/funky-moto-2025-01-24/
LOCATION:Tune Up Bar\, 24 W Mendenhall St\, Bozeman\, MT\, 59715\, United States
CATEGORIES:Music
GEO:45.6800443;-111.038017
X-APPLE-STRUCTURED-LOCATION;VALUE=URI;X-ADDRESS=Tune Up Bar 24 W Mendenhall St Bozeman MT 59715 United States;X-APPLE-RADIUS=500;X-TITLE=24 W Mendenhall St:geo:-111.038017,45.6800443
END:VEVENT
END:VCALENDAR