BEGIN:VCALENDAR
VERSION:2.0
PRODID:-//The BoZone - ECPv5.12.0//NONSGML v1.0//EN
CALSCALE:GREGORIAN
METHOD:PUBLISH
X-WR-CALNAME:The BoZone
X-ORIGINAL-URL:https://bozone.com
X-WR-CALDESC:Events for The BoZone
BEGIN:VTIMEZONE
TZID:America/Denver
BEGIN:DAYLIGHT
TZOFFSETFROM:-0700
TZOFFSETTO:-0600
TZNAME:MDT
DTSTART:20240310T090000
END:DAYLIGHT
BEGIN:STANDARD
TZOFFSETFROM:-0600
TZOFFSETTO:-0700
TZNAME:MST
DTSTART:20241103T080000
END:STANDARD
END:VTIMEZONE
BEGIN:VEVENT
DTSTART;TZID=America/Denver:20241228T090000
DTEND;TZID=America/Denver:20241228T120000
DTSTAMP:20260425T081820
CREATED:20240926T215102Z
LAST-MODIFIED:20240926T215102Z
UID:270627-1735376400-1735387200@bozone.com
SUMMARY:Winter Farmers' Market
DESCRIPTION:A Farmers’ Market almost every Saturday\, 9am-noon\, at the Fairgrounds! Free admission to pick up fresh veggies\, meats\, cheese\, coffee\, hot breakfast\, and more from your favorite local farmers every week! Visit https://www.bozemanwinterfarmersmarket.com for this year’s schedule and for more information!
URL:https://bozone.com/event/winter-farmers-market-2024-12-28/
LOCATION:GCF – Gallatin County Fairgrounds – GCF\, 901 N Black\, Bozeman\, United States
CATEGORIES:Miscellanea
GEO:45.6885954;-111.0358461
X-APPLE-STRUCTURED-LOCATION;VALUE=URI;X-ADDRESS=GCF – Gallatin County Fairgrounds – GCF 901 N Black Bozeman United States;X-APPLE-RADIUS=500;X-TITLE=901 N Black:geo:-111.0358461,45.6885954
END:VEVENT
BEGIN:VEVENT
DTSTART;TZID=America/Denver:20241228T120000
DTEND;TZID=America/Denver:20241228T134500
DTSTAMP:20260425T081820
CREATED:20241025T194123Z
LAST-MODIFIED:20241025T194123Z
UID:276674-1735387200-1735393500@bozone.com
SUMMARY:Public Skate
DESCRIPTION:Public Skate\n\n\n\n\nCheck-in at Ticket Booth is required prior to skating. \nAdult: $10\nYouth $7\nAges 5 and under: Free \nAdult 11x Punch Card: $100\nAdult Season Pass: $180\nYouth 11x Punch Card: $70\nYouth Season Pass: $125 \nSkate rental: $5 per pair.\nTicket Booth staff will assist with skate rentals.\n(No Sticks & Pucks)
URL:https://bozone.com/event/public-skate-4-2024-12-28/
LOCATION:Ressler Rink – GCF\, Gallatin Fairgrounds\, Bozeman\, MT\, 59715\, United States
CATEGORIES:Sporting Events
GEO:45.689199;-111.037633
X-APPLE-STRUCTURED-LOCATION;VALUE=URI;X-ADDRESS=Ressler Rink – GCF Gallatin Fairgrounds Bozeman MT 59715 United States;X-APPLE-RADIUS=500;X-TITLE=Gallatin Fairgrounds:geo:-111.037633,45.689199
END:VEVENT
BEGIN:VEVENT
DTSTART;TZID=America/Denver:20241228T140000
DTEND;TZID=America/Denver:20241228T140000
DTSTAMP:20260425T081820
CREATED:20241028T222004Z
LAST-MODIFIED:20241028T222004Z
UID:273868-1735394400-1735394400@bozone.com
SUMMARY:Holiday Sleigh Rides
DESCRIPTION:It’s a winter wonderland at Bodhi Farms! Join us for a memorable sleigh ride around the farm & see the holiday lights. Select an afternoon farm ride or a three-course dinner with live music ride. Advanced reservations required (dates: December 20-23 & 27-29\, 2024). See full details and reserve at www.bodhi-farms.com/bozeman-sleigh-rides.
URL:https://bozone.com/event/holiday-sleigh-rides-2024-12-28/
LOCATION:Bodhi Farms\, 13624 S Cottonwood Rd\, Bozeman\, MT\, 59718\, United States
CATEGORIES:Miscellanea,Music
GEO:45.5716221;-111.1322112
X-APPLE-STRUCTURED-LOCATION;VALUE=URI;X-ADDRESS=Bodhi Farms 13624 S Cottonwood Rd Bozeman MT 59718 United States;X-APPLE-RADIUS=500;X-TITLE=13624 S Cottonwood Rd:geo:-111.1322112,45.5716221
END:VEVENT
BEGIN:VEVENT
DTSTART;TZID=America/Denver:20241228T140000
DTEND;TZID=America/Denver:20241228T160000
DTSTAMP:20260425T081820
CREATED:20241126T024105Z
LAST-MODIFIED:20241126T024105Z
UID:277451-1735394400-1735401600@bozone.com
SUMMARY:Jazz in the Library
DESCRIPTION:The weekly Improvised Music at the Library hosted by guitarist Craig Hall on Saturdays from 2:00 – 4:00 PM\, upstairs at the Bozeman Public Library. Craig will be joined by a different area player each week. This Saturday\, Craig will play with guitarist Owen Ross! Don’t miss this wonderful guitar duo!
URL:https://bozone.com/event/jazz-in-the-library-2024-12-28/
LOCATION:Bozeman Public Library\, 626 East Main Street\, Bozeman\, MT\, 59715\, United States
CATEGORIES:Music
GEO:45.6785823;-111.0270991
X-APPLE-STRUCTURED-LOCATION;VALUE=URI;X-ADDRESS=Bozeman Public Library 626 East Main Street Bozeman MT 59715 United States;X-APPLE-RADIUS=500;X-TITLE=626 East Main Street:geo:-111.0270991,45.6785823
END:VEVENT
BEGIN:VEVENT
DTSTART;TZID=America/Denver:20241228T140000
DTEND;TZID=America/Denver:20241228T140000
DTSTAMP:20260425T081820
CREATED:20241227T012836Z
LAST-MODIFIED:20241227T012836Z
UID:278813-1735394400-1735394400@bozone.com
SUMMARY:Bozeman Bash Scavenger Hunt
DESCRIPTION:Your creative\, nontraditional scavenger hunt begins at a scenic spot that’s a local favorite. You’ll get your digital quest from your live and interactive remote host. Then you’ll take off on your own to experience a wide variety of carefully curated locations in town. You’ll walk or drive to the various checkpoints as you interpret creative tasks\, accept wacky challenges\, and get outside your comfort zone! \nONE TICKET PER PERSON. Both family and dog friendly\, the game alternates between the indoors and outdoors\, with plenty of bonus challenges too! You’ll text photos and videos to your remote host\, who cheers you on and assists\, as you play – to document your progress. You can even interact with the locals to interpret the creative challenges. You won’t be able to avoid having fun\, uncovering hidden gems and local secrets\, making memories\, laughing\, and learning along the way! \nYou’ll be part of the rich culture of this dynamic city! Every turn is full of surprises\, so questions in advance are welcomed. Check out all 500 of our city hunts! Great for corporate groups\, tourists\, curious locals\, bachelors(ettes)\, birthdays\, families\, friend trips\, and other special groups! Ask us about our custom-designed experiences and virtual team builders too! \nGET TICKETS
URL:https://bozone.com/event/bozeman-bash-scavenger-hunt-2-2024-12-28/
LOCATION:Treeline Coffee Roasters – Wallace\, 624 N Wallace\, Bozeman\, MT\, 59715\, United States
CATEGORIES:Miscellanea
GEO:45.6864782;-111.0280701
X-APPLE-STRUCTURED-LOCATION;VALUE=URI;X-ADDRESS=Treeline Coffee Roasters – Wallace 624 N Wallace Bozeman MT 59715 United States;X-APPLE-RADIUS=500;X-TITLE=624 N Wallace:geo:-111.0280701,45.6864782
END:VEVENT
BEGIN:VEVENT
DTSTART;TZID=America/Denver:20241228T200000
DTEND;TZID=America/Denver:20241228T200000
DTSTAMP:20260425T081820
CREATED:20241125T011940Z
LAST-MODIFIED:20241125T011940Z
UID:277399-1735416000-1735416000@bozone.com
SUMMARY:3rd annual SPARKLE SPECTACULAR 2024
DESCRIPTION:Presenting the 3rd annual\nSPARKLE SPECTACULAR\nA fundraising event for RDE with DJ Missy Miscellaneous\nFriday\, December 27th 8:30pm \nSaturday\, December 28th 8:30pm \nThe Rialto: 10 West Main Street Bozeman Montana 59715 \nNOW TWO NIGHTS!\n\n\n\n\n\nDecember 27\n\n\n\n\nDecember 28\n\n\n\n\n \n \n\n\n\n\n\n\n\n\n\n\nJoin us for the best party of 2024! An evening of sassy\, sensuous surprises and fabulous frivolity. Prepare to have your sparkly socks knocked off by incredible dancing\, unexpected appearances\, comedic interludes\, sexy soloists\, and more. A great time\, guaranteed! \nCocktail party\, Burlesque performance\, and Dance Party featuring: \nRaison D’être Dance Project\nVera Visceral\nHosted by \nAnnie o’conner of\nLast Best Comedy\nDRESS YOUR SPARKLY BEST! \n8:00pm – Doors open for cocktail party and seating \n8:30pm – Performance \nDance party with DJ Missy Miscellaneous \nAges 21+ \nVIP tables for 6 guests available for purchase – come with complimentary refreshments \n*If VIP tables are sold out and you want to purchase a table\, contact admin@raisondetredance.org* \n\n\n\n\n\n12/27 tickets\n\n\n\n\n12/28 tickets
URL:https://bozone.com/event/sparkle-spectacular-2024-2024-12-28/
LOCATION:The Rialto\, 10 West Main street\, Bozeman\, MT\, 59715\, United States
CATEGORIES:Arts & Theatre,Miscellanea,Music
GEO:45.6791025;-111.0375983
X-APPLE-STRUCTURED-LOCATION;VALUE=URI;X-ADDRESS=The Rialto 10 West Main street Bozeman MT 59715 United States;X-APPLE-RADIUS=500;X-TITLE=10 West Main street:geo:-111.0375983,45.6791025
END:VEVENT
BEGIN:VEVENT
DTSTART;TZID=America/Denver:20241228T210000
DTEND;TZID=America/Denver:20241228T210000
DTSTAMP:20260425T081820
CREATED:20241122T214329Z
LAST-MODIFIED:20241122T214329Z
UID:276357-1735419600-1735419600@bozone.com
SUMMARY:Roadrunner... Jerry Garcia Band Tribute
DESCRIPTION:December 27/28 Roadrunner.. Jerry Garcia Band Tribute
URL:https://bozone.com/event/roadrunner-jerry-garcia-band-tribute-2024-12-28/
LOCATION:Chico Hot Springs Saloon\, 163 Chico Rd\, Pray\, MT 59065\, Pray\, MT\, 59065\, United States
CATEGORIES:Music
GEO:45.3386251;-110.6922233
X-APPLE-STRUCTURED-LOCATION;VALUE=URI;X-ADDRESS=Chico Hot Springs Saloon 163 Chico Rd Pray MT 59065 Pray MT 59065 United States;X-APPLE-RADIUS=500;X-TITLE=163 Chico Rd\, Pray\, MT 59065:geo:-110.6922233,45.3386251
END:VEVENT
BEGIN:VEVENT
DTSTART;TZID=America/Denver:20241228T210000
DTEND;TZID=America/Denver:20241228T210000
DTSTAMP:20260425T081820
CREATED:20241220T002739Z
LAST-MODIFIED:20241220T002739Z
UID:278302-1735419600-1735419600@bozone.com
SUMMARY:Dead Yellers
DESCRIPTION:
URL:https://bozone.com/event/dead-yellers-2-2024-12-28/
LOCATION:Eagles Bar\, 316 E Main Street\, Bozeman\, MT\, 59715\, United States
CATEGORIES:Music
GEO:45.6790336;-111.0324891
X-APPLE-STRUCTURED-LOCATION;VALUE=URI;X-ADDRESS=Eagles Bar 316 E Main Street Bozeman MT 59715 United States;X-APPLE-RADIUS=500;X-TITLE=316 E Main Street:geo:-111.0324891,45.6790336
END:VEVENT
END:VCALENDAR