BEGIN:VCALENDAR
VERSION:2.0
PRODID:-//The BoZone - ECPv5.12.0//NONSGML v1.0//EN
CALSCALE:GREGORIAN
METHOD:PUBLISH
X-WR-CALNAME:The BoZone
X-ORIGINAL-URL:https://bozone.com
X-WR-CALDESC:Events for The BoZone
BEGIN:VTIMEZONE
TZID:America/Denver
BEGIN:DAYLIGHT
TZOFFSETFROM:-0700
TZOFFSETTO:-0600
TZNAME:MDT
DTSTART:20240310T090000
END:DAYLIGHT
BEGIN:STANDARD
TZOFFSETFROM:-0600
TZOFFSETTO:-0700
TZNAME:MST
DTSTART:20241103T080000
END:STANDARD
END:VTIMEZONE
BEGIN:VEVENT
DTSTART;TZID=America/Denver:20241216T180000
DTEND;TZID=America/Denver:20241216T180000
DTSTAMP:20260420T012701
CREATED:20241125T022653Z
LAST-MODIFIED:20241125T022653Z
UID:277025-1734372000-1734372000@bozone.com
SUMMARY:Ski Movie Mondays
DESCRIPTION:Ski Movie Mondays\n\n\n\n\n\n6:00 – 8:00 pm\nWeekly on Monday\n\n\nEvery Monday throughout the winter.\nGrab a beer\, a pizza and get stoked to shred! Starts at 6ish
URL:https://bozone.com/event/ski-movie-mondays-2-2024-12-16/
LOCATION:Neptune’s Brewery – Livingston\, 119 N L St.\, Livingston\, MT\, United States
CATEGORIES:Movies
GEO:45.6679594;-110.5495795
X-APPLE-STRUCTURED-LOCATION;VALUE=URI;X-ADDRESS=Neptune’s Brewery – Livingston 119 N L St. Livingston MT United States;X-APPLE-RADIUS=500;X-TITLE=119 N L St.:geo:-110.5495795,45.6679594
END:VEVENT
BEGIN:VEVENT
DTSTART;TZID=America/Denver:20241216T231500
DTEND;TZID=America/Denver:20241216T231500
DTSTAMP:20260420T012702
CREATED:20241025T193241Z
LAST-MODIFIED:20241025T193241Z
UID:276645-1734390900-1734390900@bozone.com
SUMMARY:Public Skate
DESCRIPTION:Public Skate\n\n\n\n\nCheck-in at Ticket Booth is required prior to skating. \nAdult: $10\nYouth $7\nAges 5 and under: Free \nAdult 11x Punch Card: $100\nAdult Season Pass: $180\nYouth 11x Punch Card: $70\nYouth Season Pass: $125 \nSkate rental: $5 per pair.\nTicket Booth staff will assist with skate rentals.\n(No Sticks & Pucks)
URL:https://bozone.com/event/public-skate-2024-12-16/
LOCATION:Ressler Rink – GCF\, Gallatin Fairgrounds\, Bozeman\, MT\, 59715\, United States
CATEGORIES:Sporting Events
GEO:45.689199;-111.037633
X-APPLE-STRUCTURED-LOCATION;VALUE=URI;X-ADDRESS=Ressler Rink – GCF Gallatin Fairgrounds Bozeman MT 59715 United States;X-APPLE-RADIUS=500;X-TITLE=Gallatin Fairgrounds:geo:-111.037633,45.689199
END:VEVENT
END:VCALENDAR