BEGIN:VCALENDAR
VERSION:2.0
PRODID:-//The BoZone - ECPv5.12.0//NONSGML v1.0//EN
CALSCALE:GREGORIAN
METHOD:PUBLISH
X-WR-CALNAME:The BoZone
X-ORIGINAL-URL:https://bozone.com
X-WR-CALDESC:Events for The BoZone
BEGIN:VTIMEZONE
TZID:America/Denver
BEGIN:DAYLIGHT
TZOFFSETFROM:-0700
TZOFFSETTO:-0600
TZNAME:MDT
DTSTART:20240310T090000
END:DAYLIGHT
BEGIN:STANDARD
TZOFFSETFROM:-0600
TZOFFSETTO:-0700
TZNAME:MST
DTSTART:20241103T080000
END:STANDARD
END:VTIMEZONE
BEGIN:VEVENT
DTSTART;TZID=America/Denver:20240929T100000
DTEND;TZID=America/Denver:20240929T170000
DTSTAMP:20260424T052723
CREATED:20240727T212810Z
LAST-MODIFIED:20240727T212810Z
UID:267054-1727604000-1727629200@bozone.com
SUMMARY:Montana Crystal Collectors Rendezvous
DESCRIPTION:Bozeman\, MT: Montana Crystal Collectors Rendezvous\, September 27 – 29\, at the Best Western Gran Tree Inn.
URL:https://bozone.com/event/montana-crystal-collectors-rendezvous-2024-09-29/
LOCATION:Best Western Grantree\, 1325 N 7th Ave\, Bozeman\, MT\, 59715\, United States
CATEGORIES:Miscellanea
GEO:45.6942733;-111.0486734
X-APPLE-STRUCTURED-LOCATION;VALUE=URI;X-ADDRESS=Best Western Grantree 1325 N 7th Ave Bozeman MT 59715 United States;X-APPLE-RADIUS=500;X-TITLE=1325 N 7th Ave:geo:-111.0486734,45.6942733
END:VEVENT
BEGIN:VEVENT
DTSTART;TZID=America/Denver:20240929T110000
DTEND;TZID=America/Denver:20240929T110000
DTSTAMP:20260424T052723
CREATED:20240927T061310Z
LAST-MODIFIED:20240927T061310Z
UID:270879-1727607600-1727607600@bozone.com
SUMMARY:Bozeman Bash Scavenger Hunt
DESCRIPTION:Friday\, September 27\n\n\n\nBozeman Bash Scavenger Hunt\n\n\n\n\nYour creative\, nontraditional scavenger hunt begins at a scenic spot that’s a local favorite. You’ll get your digital quest from your live and interactive remote host. Then you’ll take off on your own to experience a wide variety of carefully curated locations in town. You’ll walk or drive to the various checkpoints as you interpret creative tasks\, accept wacky challenges\, and get outside your comfort zone! \nONE TICKET PER PERSON. Both family and dog friendly\, the game alternates between the indoors and outdoors\, with plenty of bonus challenges too! You’ll text photos and videos to your remote host\, who cheers you on and assists\, as you play – to document your progress. You can even interact with the locals to interpret the creative challenges. You won’t be able to avoid having fun\, uncovering hidden gems and local secrets\, making memories\, laughing\, and learning along the way! \nYou’ll be part of the rich culture of this dynamic city! Every turn is full of surprises\, so questions in advance are welcomed. Check out all 500 of our city hunts! Great for corporate groups\, tourists\, curious locals\, bachelors(ettes)\, birthdays\, families\, friend trips\, and other special groups! Ask us about our custom-designed experiences and virtual team builders too! \n\nhttps://www.eventbrite.com/e/bozeman-bash-scavenger-hunt-tickets-685819172607?aff=ebdssbdestsearch
URL:https://bozone.com/event/bozeman-bash-scavenger-hunt-2024-09-29/
LOCATION:Treeline Coffee Roasters – Wallace\, 624 N Wallace\, Bozeman\, MT\, 59715\, United States
CATEGORIES:Miscellanea
GEO:45.6864782;-111.0280701
X-APPLE-STRUCTURED-LOCATION;VALUE=URI;X-ADDRESS=Treeline Coffee Roasters – Wallace 624 N Wallace Bozeman MT 59715 United States;X-APPLE-RADIUS=500;X-TITLE=624 N Wallace:geo:-111.0280701,45.6864782
END:VEVENT
BEGIN:VEVENT
DTSTART;TZID=America/Denver:20240929T140000
DTEND;TZID=America/Denver:20240929T140000
DTSTAMP:20260424T052723
CREATED:20240927T061310Z
LAST-MODIFIED:20240927T061310Z
UID:270880-1727618400-1727618400@bozone.com
SUMMARY:Bozeman Bash Scavenger Hunt
DESCRIPTION:Friday\, September 27\n\n\n\nBozeman Bash Scavenger Hunt\n\n\n\n\nYour creative\, nontraditional scavenger hunt begins at a scenic spot that’s a local favorite. You’ll get your digital quest from your live and interactive remote host. Then you’ll take off on your own to experience a wide variety of carefully curated locations in town. You’ll walk or drive to the various checkpoints as you interpret creative tasks\, accept wacky challenges\, and get outside your comfort zone! \nONE TICKET PER PERSON. Both family and dog friendly\, the game alternates between the indoors and outdoors\, with plenty of bonus challenges too! You’ll text photos and videos to your remote host\, who cheers you on and assists\, as you play – to document your progress. You can even interact with the locals to interpret the creative challenges. You won’t be able to avoid having fun\, uncovering hidden gems and local secrets\, making memories\, laughing\, and learning along the way! \nYou’ll be part of the rich culture of this dynamic city! Every turn is full of surprises\, so questions in advance are welcomed. Check out all 500 of our city hunts! Great for corporate groups\, tourists\, curious locals\, bachelors(ettes)\, birthdays\, families\, friend trips\, and other special groups! Ask us about our custom-designed experiences and virtual team builders too! \n\nhttps://www.eventbrite.com/e/bozeman-bash-scavenger-hunt-tickets-685819172607?aff=ebdssbdestsearch
URL:https://bozone.com/event/bozeman-bash-scavenger-hunt-2024-09-29-2/
LOCATION:Treeline Coffee Roasters – Wallace\, 624 N Wallace\, Bozeman\, MT\, 59715\, United States
CATEGORIES:Miscellanea
GEO:45.6864782;-111.0280701
X-APPLE-STRUCTURED-LOCATION;VALUE=URI;X-ADDRESS=Treeline Coffee Roasters – Wallace 624 N Wallace Bozeman MT 59715 United States;X-APPLE-RADIUS=500;X-TITLE=624 N Wallace:geo:-111.0280701,45.6864782
END:VEVENT
END:VCALENDAR