BEGIN:VCALENDAR
VERSION:2.0
PRODID:-//The BoZone - ECPv5.12.0//NONSGML v1.0//EN
CALSCALE:GREGORIAN
METHOD:PUBLISH
X-WR-CALNAME:The BoZone
X-ORIGINAL-URL:https://bozone.com
X-WR-CALDESC:Events for The BoZone
BEGIN:VTIMEZONE
TZID:America/Denver
BEGIN:DAYLIGHT
TZOFFSETFROM:-0700
TZOFFSETTO:-0600
TZNAME:MDT
DTSTART:20240310T090000
END:DAYLIGHT
BEGIN:STANDARD
TZOFFSETFROM:-0600
TZOFFSETTO:-0700
TZNAME:MST
DTSTART:20241103T080000
END:STANDARD
END:VTIMEZONE
BEGIN:VEVENT
DTSTART;TZID=America/Denver:20240928T100000
DTEND;TZID=America/Denver:20240928T170000
DTSTAMP:20260424T040400
CREATED:20240727T212810Z
LAST-MODIFIED:20240727T212810Z
UID:267053-1727517600-1727542800@bozone.com
SUMMARY:Montana Crystal Collectors Rendezvous
DESCRIPTION:Bozeman\, MT: Montana Crystal Collectors Rendezvous\, September 27 – 29\, at the Best Western Gran Tree Inn.
URL:https://bozone.com/event/montana-crystal-collectors-rendezvous-2024-09-28/
LOCATION:Best Western Grantree\, 1325 N 7th Ave\, Bozeman\, MT\, 59715\, United States
CATEGORIES:Miscellanea
GEO:45.6942733;-111.0486734
X-APPLE-STRUCTURED-LOCATION;VALUE=URI;X-ADDRESS=Best Western Grantree 1325 N 7th Ave Bozeman MT 59715 United States;X-APPLE-RADIUS=500;X-TITLE=1325 N 7th Ave:geo:-111.0486734,45.6942733
END:VEVENT
BEGIN:VEVENT
DTSTART;TZID=America/Denver:20240928T110000
DTEND;TZID=America/Denver:20240928T110000
DTSTAMP:20260424T040400
CREATED:20240927T061310Z
LAST-MODIFIED:20240927T061310Z
UID:270877-1727521200-1727521200@bozone.com
SUMMARY:Bozeman Bash Scavenger Hunt
DESCRIPTION:Friday\, September 27\n\n\n\nBozeman Bash Scavenger Hunt\n\n\n\n\nYour creative\, nontraditional scavenger hunt begins at a scenic spot that’s a local favorite. You’ll get your digital quest from your live and interactive remote host. Then you’ll take off on your own to experience a wide variety of carefully curated locations in town. You’ll walk or drive to the various checkpoints as you interpret creative tasks\, accept wacky challenges\, and get outside your comfort zone! \nONE TICKET PER PERSON. Both family and dog friendly\, the game alternates between the indoors and outdoors\, with plenty of bonus challenges too! You’ll text photos and videos to your remote host\, who cheers you on and assists\, as you play – to document your progress. You can even interact with the locals to interpret the creative challenges. You won’t be able to avoid having fun\, uncovering hidden gems and local secrets\, making memories\, laughing\, and learning along the way! \nYou’ll be part of the rich culture of this dynamic city! Every turn is full of surprises\, so questions in advance are welcomed. Check out all 500 of our city hunts! Great for corporate groups\, tourists\, curious locals\, bachelors(ettes)\, birthdays\, families\, friend trips\, and other special groups! Ask us about our custom-designed experiences and virtual team builders too! \n\nhttps://www.eventbrite.com/e/bozeman-bash-scavenger-hunt-tickets-685819172607?aff=ebdssbdestsearch
URL:https://bozone.com/event/bozeman-bash-scavenger-hunt-2024-09-28/
LOCATION:Treeline Coffee Roasters – Wallace\, 624 N Wallace\, Bozeman\, MT\, 59715\, United States
CATEGORIES:Miscellanea
GEO:45.6864782;-111.0280701
X-APPLE-STRUCTURED-LOCATION;VALUE=URI;X-ADDRESS=Treeline Coffee Roasters – Wallace 624 N Wallace Bozeman MT 59715 United States;X-APPLE-RADIUS=500;X-TITLE=624 N Wallace:geo:-111.0280701,45.6864782
END:VEVENT
BEGIN:VEVENT
DTSTART;TZID=America/Denver:20240928T130000
DTEND;TZID=America/Denver:20240928T140000
DTSTAMP:20260424T040401
CREATED:20240729T141527Z
LAST-MODIFIED:20240729T141527Z
UID:267474-1727528400-1727532000@bozone.com
SUMMARY:Wheatfields\, Railroads\, and Brewers: Walking Tour
DESCRIPTION:Wheatfields\, Railroads\, and Brewers: Exploring Bozeman’s Historic North Side\nby Extreme History Project\n\n\nSaturday\, August 24\, 2024\n\n1–2pm\nTinworks\n$20 (all proceeds to Extreme History Project)\n\nTICKETS \n\n\n\n\n\nEmbark on a historic journey with The Extreme History Project and Tinworks Art. \nThis historic exploration takes you through Bozeman’s northside landscape\, highlighting the vital roles that agriculture\, the railroad\, and brewers took in shaping the town’s growth. Wander through the heart of Bozeman’s agricultural legacy\, where towering grain elevators stand as monuments to the industrious spirit of the 19th century. Discover the storied history of the Lehrkind brewing family at the location of the historic brewery\, a testament to the vibrant local brewing tradition. As you stroll through the working-class neighborhoods\, you’ll gain a deeper appreciation for the community’s enduring heritage and the hard-working individuals who built Bozeman into the thriving town it is today. Each tour in this series will feature a local expert who will take a deeper dive into their area of expertise. \nEach tour will start and end at Tinworks Art. We recommend parking near the train depot on Ida Ave and walking to meet your group at the entrance. \nPlease wear comfortable shoes to walk in and dress for changing weather conditions. A water bottle is recommended as well.
URL:https://bozone.com/event/wheatfields-railroads-and-brewers-walking-tour-2024-09-28/
LOCATION:Tinworks Art\, 719 N. Ida Ave\, Bozeman\, MT\, 59715\, United States
CATEGORIES:Lectures,Miscellanea
GEO:45.6873502;-111.0277418
X-APPLE-STRUCTURED-LOCATION;VALUE=URI;X-ADDRESS=Tinworks Art 719 N. Ida Ave Bozeman MT 59715 United States;X-APPLE-RADIUS=500;X-TITLE=719 N. Ida Ave:geo:-111.0277418,45.6873502
END:VEVENT
BEGIN:VEVENT
DTSTART;TZID=America/Denver:20240928T140000
DTEND;TZID=America/Denver:20240928T140000
DTSTAMP:20260424T040401
CREATED:20240927T061310Z
LAST-MODIFIED:20240927T061310Z
UID:270878-1727532000-1727532000@bozone.com
SUMMARY:Bozeman Bash Scavenger Hunt
DESCRIPTION:Friday\, September 27\n\n\n\nBozeman Bash Scavenger Hunt\n\n\n\n\nYour creative\, nontraditional scavenger hunt begins at a scenic spot that’s a local favorite. You’ll get your digital quest from your live and interactive remote host. Then you’ll take off on your own to experience a wide variety of carefully curated locations in town. You’ll walk or drive to the various checkpoints as you interpret creative tasks\, accept wacky challenges\, and get outside your comfort zone! \nONE TICKET PER PERSON. Both family and dog friendly\, the game alternates between the indoors and outdoors\, with plenty of bonus challenges too! You’ll text photos and videos to your remote host\, who cheers you on and assists\, as you play – to document your progress. You can even interact with the locals to interpret the creative challenges. You won’t be able to avoid having fun\, uncovering hidden gems and local secrets\, making memories\, laughing\, and learning along the way! \nYou’ll be part of the rich culture of this dynamic city! Every turn is full of surprises\, so questions in advance are welcomed. Check out all 500 of our city hunts! Great for corporate groups\, tourists\, curious locals\, bachelors(ettes)\, birthdays\, families\, friend trips\, and other special groups! Ask us about our custom-designed experiences and virtual team builders too! \n\nhttps://www.eventbrite.com/e/bozeman-bash-scavenger-hunt-tickets-685819172607?aff=ebdssbdestsearch
URL:https://bozone.com/event/bozeman-bash-scavenger-hunt-2024-09-28-2/
LOCATION:Treeline Coffee Roasters – Wallace\, 624 N Wallace\, Bozeman\, MT\, 59715\, United States
CATEGORIES:Miscellanea
GEO:45.6864782;-111.0280701
X-APPLE-STRUCTURED-LOCATION;VALUE=URI;X-ADDRESS=Treeline Coffee Roasters – Wallace 624 N Wallace Bozeman MT 59715 United States;X-APPLE-RADIUS=500;X-TITLE=624 N Wallace:geo:-111.0280701,45.6864782
END:VEVENT
BEGIN:VEVENT
DTSTART;TZID=America/Denver:20240928T160000
DTEND;TZID=America/Denver:20240928T160000
DTSTAMP:20260424T040401
CREATED:20240825T015344Z
LAST-MODIFIED:20240825T015344Z
UID:268887-1727539200-1727539200@bozone.com
SUMMARY:Cirque LuzDalia
DESCRIPTION:https://cirqueluzdalia.com/\nAction-packed\nFamily\nFun\nWelcome to the extraordinary world of Cirque LuzDalia\, an unparalleled cirque experience that will leave you in awe. Led by an ensemble of thrilling acrobats\, fearless daredevils\, graceful aerialists\, and hilarious comedians\, our show promises a spectacle like no other. Prepare for an exhilarating 90-minute family-friendly performance coming soon to your city. \n\n\nBuy Tickets \n\n\nDiscover\nLuzdalia\nMagic\nImmerse yourself in the enchanting world of Cirque LuzDalia\, a spectacular show for the entire family! Enjoy thrilling aerialists\, daring acrobats\, and hilarious comedians\, all designed for children of all ages. Create unforgettable memories with your loved ones. Arrive early for the kids fun zone with face painting and circus toys\, and catch the exclusive kids all-access pre-show! Get your tickets now for a family adventure you won’t forget! \n\n\nBuy Tickets
URL:https://bozone.com/event/cirque-luzdalia-2024-09-28/
LOCATION:GCF – Gallatin County Fairgrounds – GCF\, 901 N Black\, Bozeman\, United States
CATEGORIES:Miscellanea
GEO:45.6885954;-111.0358461
X-APPLE-STRUCTURED-LOCATION;VALUE=URI;X-ADDRESS=GCF – Gallatin County Fairgrounds – GCF 901 N Black Bozeman United States;X-APPLE-RADIUS=500;X-TITLE=901 N Black:geo:-111.0358461,45.6885954
END:VEVENT
BEGIN:VEVENT
DTSTART;TZID=America/Denver:20240928T190000
DTEND;TZID=America/Denver:20240928T190000
DTSTAMP:20260424T040401
CREATED:20240825T015344Z
LAST-MODIFIED:20240825T015344Z
UID:268888-1727550000-1727550000@bozone.com
SUMMARY:Cirque LuzDalia
DESCRIPTION:https://cirqueluzdalia.com/\nAction-packed\nFamily\nFun\nWelcome to the extraordinary world of Cirque LuzDalia\, an unparalleled cirque experience that will leave you in awe. Led by an ensemble of thrilling acrobats\, fearless daredevils\, graceful aerialists\, and hilarious comedians\, our show promises a spectacle like no other. Prepare for an exhilarating 90-minute family-friendly performance coming soon to your city. \n\n\nBuy Tickets \n\n\nDiscover\nLuzdalia\nMagic\nImmerse yourself in the enchanting world of Cirque LuzDalia\, a spectacular show for the entire family! Enjoy thrilling aerialists\, daring acrobats\, and hilarious comedians\, all designed for children of all ages. Create unforgettable memories with your loved ones. Arrive early for the kids fun zone with face painting and circus toys\, and catch the exclusive kids all-access pre-show! Get your tickets now for a family adventure you won’t forget! \n\n\nBuy Tickets
URL:https://bozone.com/event/cirque-luzdalia-2024-09-28-2/
LOCATION:GCF – Gallatin County Fairgrounds – GCF\, 901 N Black\, Bozeman\, United States
CATEGORIES:Miscellanea
GEO:45.6885954;-111.0358461
X-APPLE-STRUCTURED-LOCATION;VALUE=URI;X-ADDRESS=GCF – Gallatin County Fairgrounds – GCF 901 N Black Bozeman United States;X-APPLE-RADIUS=500;X-TITLE=901 N Black:geo:-111.0358461,45.6885954
END:VEVENT
BEGIN:VEVENT
DTSTART;TZID=America/Denver:20240928T210000
DTEND;TZID=America/Denver:20240928T210000
DTSTAMP:20260424T040401
CREATED:20240210T211328Z
LAST-MODIFIED:20240210T211328Z
UID:253383-1727557200-1727557200@bozone.com
SUMMARY:Justin Case Band
DESCRIPTION:
URL:https://bozone.com/event/justin-case-band-2-2024-09-28/
LOCATION:Chico Hot Springs Saloon\, 163 Chico Rd\, Pray\, MT 59065\, Pray\, MT\, 59065\, United States
CATEGORIES:Music
GEO:45.3386251;-110.6922233
X-APPLE-STRUCTURED-LOCATION;VALUE=URI;X-ADDRESS=Chico Hot Springs Saloon 163 Chico Rd Pray MT 59065 Pray MT 59065 United States;X-APPLE-RADIUS=500;X-TITLE=163 Chico Rd\, Pray\, MT 59065:geo:-110.6922233,45.3386251
END:VEVENT
END:VCALENDAR