BEGIN:VCALENDAR
VERSION:2.0
PRODID:-//The BoZone - ECPv5.12.0//NONSGML v1.0//EN
CALSCALE:GREGORIAN
METHOD:PUBLISH
X-WR-CALNAME:The BoZone
X-ORIGINAL-URL:https://bozone.com
X-WR-CALDESC:Events for The BoZone
BEGIN:VTIMEZONE
TZID:America/Denver
BEGIN:DAYLIGHT
TZOFFSETFROM:-0700
TZOFFSETTO:-0600
TZNAME:MDT
DTSTART:20240310T090000
END:DAYLIGHT
BEGIN:STANDARD
TZOFFSETFROM:-0600
TZOFFSETTO:-0700
TZNAME:MST
DTSTART:20241103T080000
END:STANDARD
END:VTIMEZONE
BEGIN:VEVENT
DTSTART;TZID=America/Denver:20240926T110000
DTEND;TZID=America/Denver:20240926T123000
DTSTAMP:20260422T020319
CREATED:20240825T012826Z
LAST-MODIFIED:20240825T012826Z
UID:268851-1727348400-1727353800@bozone.com
SUMMARY:Public Skate
DESCRIPTION:Check-in at Ticket Booth is required prior to skating. \nAdult: $10\nYouth $7\nAges 5 and under: Free \nAdult 11x Punch Card: $100\nAdult Season Pass: $180\nYouth 11x Punch Card: $70\nYouth Season Pass: $125 \nSkate rental: $5 per pair.\nTicket Booth staff will assist with skate rentals.\n(No Sticks & Pucks) \nhttps://gallatinice.org/google-calendars
URL:https://bozone.com/event/public-skate-10-2024-09-26/
LOCATION:Ressler Rink – GCF\, Gallatin Fairgrounds\, Bozeman\, MT\, 59715\, United States
CATEGORIES:Sporting Events
GEO:45.689199;-111.037633
X-APPLE-STRUCTURED-LOCATION;VALUE=URI;X-ADDRESS=Ressler Rink – GCF Gallatin Fairgrounds Bozeman MT 59715 United States;X-APPLE-RADIUS=500;X-TITLE=Gallatin Fairgrounds:geo:-111.037633,45.689199
END:VEVENT
BEGIN:VEVENT
DTSTART;TZID=America/Denver:20240926T170000
DTEND;TZID=America/Denver:20240926T200000
DTSTAMP:20260422T020319
CREATED:20240730T144713Z
LAST-MODIFIED:20240730T144713Z
UID:267720-1727370000-1727380800@bozone.com
SUMMARY:Farm Party + Live Music
DESCRIPTION:Farm Party + Live Music\n\n\n5:00 PM – 8:00 PM\n\n\n\n\n\n\n\nBodhi Farms\, 13624 S Cottonwood Rd\, Bozeman\n\n\nJoin us for a weekly farm party June 20th through September 26th with a special bbq menu (veg options too!)\, live music and produce for sale from our gardens. No reservations or RSVP needed. View our Farm Party Food & Drink Menus under Field Kitchen Restaurant\, Seasonal Menus on our site. https://www.bodhi-farms.com/field-kitchen
URL:https://bozone.com/event/farm-party-live-music-2024-09-26/
LOCATION:Bodhi Farms\, 13624 S Cottonwood Rd\, Bozeman\, MT\, 59718\, United States
CATEGORIES:Miscellanea,Music
GEO:45.5716221;-111.1322112
X-APPLE-STRUCTURED-LOCATION;VALUE=URI;X-ADDRESS=Bodhi Farms 13624 S Cottonwood Rd Bozeman MT 59718 United States;X-APPLE-RADIUS=500;X-TITLE=13624 S Cottonwood Rd:geo:-111.1322112,45.5716221
END:VEVENT
BEGIN:VEVENT
DTSTART;TZID=America/Denver:20240926T183000
DTEND;TZID=America/Denver:20240926T200000
DTSTAMP:20260422T020319
CREATED:20240602T014222Z
LAST-MODIFIED:20240602T014222Z
UID:263742-1727375400-1727380800@bozone.com
SUMMARY:West African World Dance
DESCRIPTION:West African World Dance Thursdays\, August 8 to September 26\, 2024; 6:30 – 8 PMThis 8-week session is open to all levels of dancers\, age 14 to adult. We will be moving to live drumming as we explore dance to rhythms from Guinea and Mali\, West Africa. We will learn about the drums\, the origins of the dances\, the call and polyrhythms that guide and fuel the dance\, and how to move to the call of the drums.\nResident cost: $160 for the sessions; $25/drop in\nInstructor: Ginny Watts\nHosted by: Bozeman Parks and Recreation / Starlite Studios
URL:https://bozone.com/event/west-african-world-dance-2024-09-26/
LOCATION:Story Mill Community Center\, 600 Bridger Drive\, Bozeman\, 59715
CATEGORIES:Classes,Miscellanea,Music
GEO:45.700859;-111.028561
X-APPLE-STRUCTURED-LOCATION;VALUE=URI;X-ADDRESS=Story Mill Community Center 600 Bridger Drive Bozeman 59715;X-APPLE-RADIUS=500;X-TITLE=600 Bridger Drive:geo:-111.028561,45.700859
END:VEVENT
END:VCALENDAR