BEGIN:VCALENDAR
VERSION:2.0
PRODID:-//The BoZone - ECPv5.12.0//NONSGML v1.0//EN
CALSCALE:GREGORIAN
METHOD:PUBLISH
X-WR-CALNAME:The BoZone
X-ORIGINAL-URL:https://bozone.com
X-WR-CALDESC:Events for The BoZone
BEGIN:VTIMEZONE
TZID:America/Denver
BEGIN:DAYLIGHT
TZOFFSETFROM:-0700
TZOFFSETTO:-0600
TZNAME:MDT
DTSTART:20240310T090000
END:DAYLIGHT
BEGIN:STANDARD
TZOFFSETFROM:-0600
TZOFFSETTO:-0700
TZNAME:MST
DTSTART:20241103T080000
END:STANDARD
END:VTIMEZONE
BEGIN:VEVENT
DTSTART;TZID=America/Denver:20240924T124500
DTEND;TZID=America/Denver:20240924T141500
DTSTAMP:20260421T225551
CREATED:20240825T011643Z
LAST-MODIFIED:20240825T011643Z
UID:268818-1727181900-1727187300@bozone.com
SUMMARY:Public Skate
DESCRIPTION:Check-in at Ticket Booth is required prior to skating. \nAdult: $10\nYouth $7\nAges 5 and under: Free \nAdult 11x Punch Card: $100\nAdult Season Pass: $180\nYouth 11x Punch Card: $70\nYouth Season Pass: $125 \nSkate rental: $5 per pair.\nTicket Booth staff will assist with skate rentals.\n(No Sticks & Pucks)
URL:https://bozone.com/event/public-skate-4-2024-09-24/
LOCATION:Ressler Rink – GCF\, Gallatin Fairgrounds\, Bozeman\, MT\, 59715\, United States
CATEGORIES:Sporting Events
GEO:45.689199;-111.037633
X-APPLE-STRUCTURED-LOCATION;VALUE=URI;X-ADDRESS=Ressler Rink – GCF Gallatin Fairgrounds Bozeman MT 59715 United States;X-APPLE-RADIUS=500;X-TITLE=Gallatin Fairgrounds:geo:-111.037633,45.689199
END:VEVENT
BEGIN:VEVENT
DTSTART;TZID=America/Denver:20240924T183000
DTEND;TZID=America/Denver:20240924T183000
DTSTAMP:20260421T225551
CREATED:20240602T014531Z
LAST-MODIFIED:20240602T014531Z
UID:263773-1727202600-1727202600@bozone.com
SUMMARY:Line Dancing
DESCRIPTION:Line Dancing Tuesdays 6:30-7:30PM June 3 to Sept 23\nEach week Western Roots talented instructors will deliver two fun line dances.\nPractice the steps\, learn to style the dance and then hit the dance floor with full confidence!\nWestern Roots\, Bozeman Parks and Rec\, Starlite Studios
URL:https://bozone.com/event/line-dancing-2024-09-24/
LOCATION:Story Mill Community Center\, 600 Bridger Drive\, Bozeman\, 59715
CATEGORIES:Classes,Miscellanea,Music
GEO:45.700859;-111.028561
X-APPLE-STRUCTURED-LOCATION;VALUE=URI;X-ADDRESS=Story Mill Community Center 600 Bridger Drive Bozeman 59715;X-APPLE-RADIUS=500;X-TITLE=600 Bridger Drive:geo:-111.028561,45.700859
END:VEVENT
BEGIN:VEVENT
DTSTART;TZID=America/Denver:20240924T200000
DTEND;TZID=America/Denver:20240924T200000
DTSTAMP:20260421T225551
CREATED:20240825T162448Z
LAST-MODIFIED:20240825T162448Z
UID:269049-1727208000-1727208000@bozone.com
SUMMARY:Bluegrass Jam Night
DESCRIPTION:
URL:https://bozone.com/event/bluegrass-jam-night-2024-09-24/
LOCATION:Neptune’s Brewery – Livingston\, 119 N L St.\, Livingston\, MT\, United States
CATEGORIES:Music
GEO:45.6679594;-110.5495795
X-APPLE-STRUCTURED-LOCATION;VALUE=URI;X-ADDRESS=Neptune’s Brewery – Livingston 119 N L St. Livingston MT United States;X-APPLE-RADIUS=500;X-TITLE=119 N L St.:geo:-110.5495795,45.6679594
END:VEVENT
END:VCALENDAR