BEGIN:VCALENDAR
VERSION:2.0
PRODID:-//The BoZone - ECPv5.12.0//NONSGML v1.0//EN
CALSCALE:GREGORIAN
METHOD:PUBLISH
X-WR-CALNAME:The BoZone
X-ORIGINAL-URL:https://bozone.com
X-WR-CALDESC:Events for The BoZone
BEGIN:VTIMEZONE
TZID:America/Denver
BEGIN:DAYLIGHT
TZOFFSETFROM:-0700
TZOFFSETTO:-0600
TZNAME:MDT
DTSTART:20240310T090000
END:DAYLIGHT
BEGIN:STANDARD
TZOFFSETFROM:-0600
TZOFFSETTO:-0700
TZNAME:MST
DTSTART:20241103T080000
END:STANDARD
END:VTIMEZONE
BEGIN:VEVENT
DTSTART;TZID=America/Denver:20240901T070000
DTEND;TZID=America/Denver:20240901T220000
DTSTAMP:20260422T130803
CREATED:20240728T020648Z
LAST-MODIFIED:20240728T020648Z
UID:269891-1725174000-1725228000@bozone.com
SUMMARY:Bumblewood Thicket  Fairy Village
DESCRIPTION:BUMBLEWOOD THICKET FAIRY VILLAGE\n\n\nThe 5th Annual Fairy Village is coming soon! Get ready to discover Bumblewood Thicket’s new fairy homes and businesses created by talented local artists (aka Fairy Architects). \n\n\n\n\n\nAUGUST 30-SEPTEMBER 22\, 2024GLEN LAKE ROTARY PARK \n7 A.M. TO 10 P.M.\, 7 DAYS A WEEK \nFREE AND SELF-GUIDED \n\n\n\n \nSHARE ON FACEBOOK \n\n\n\n\nDETAILS:\n\n  \nBreak out your trail shoes and (pixie) dust off your fairy wings…it’s time for the Gallatin Valley’s most magical annual tradition—the Bumblewood Thicket Fairy Village! Bumblewood is family fun at its finest. Visitors of all ages will delight in a walk in the woods and exploration of the beautiful and meticulously crafted fairy houses and shops on display. Each year\, 20 fairy architects (Gallatin Valley artists and makers) create all-new structures to bring delight and joy to the residents of our valley. \nBumblewood Thicket is free\, self-guided\, and open to all during park hours.
URL:https://bozone.com/event/the-5th-annual-bumblewood-thicket-fairy-village-2024-09-01/
LOCATION:Glen Lake Rotary Park\, 830 Manley Road\, Bozeman\, MT\, 59715\, United States
CATEGORIES:Miscellanea
GEO:45.7069976;-111.0411683
X-APPLE-STRUCTURED-LOCATION;VALUE=URI;X-ADDRESS=Glen Lake Rotary Park 830 Manley Road Bozeman MT 59715 United States;X-APPLE-RADIUS=500;X-TITLE=830 Manley Road:geo:-111.0411683,45.7069976
END:VEVENT
BEGIN:VEVENT
DTSTART;TZID=America/Denver:20240901T080000
DTEND;TZID=America/Denver:20240901T200000
DTSTAMP:20260422T130803
CREATED:20240825T001636Z
LAST-MODIFIED:20240825T001636Z
UID:268780-1725177600-1725220800@bozone.com
SUMMARY:2024 Steel Horse Stampede
DESCRIPTION:2024 Steel Horse Stampede 2-day event \n\nAug 31 – Sep 1\, 2024\nPark County Fairgrounds Arena\, 46 View Vista Dr\, Livingston\, MT 59047\, USA (map)\nSAT – AUG 31  MOTORCYCLE RODEO    2PM\nAdmission is $10 per person\nNo Coolers/No Pets Allowed\n\nRodeo Events: \nCouple / Mens / Womens Slow Ride / Keg Roll / Beer Chug\nBarrel Race / Obstacle Course / Potato Race / Weenie Bite \nRodeo Sign Up:  11am to 1pm\nParticipant Fee – $10 Entry Fee & $10 per Event\nProceeds benefit local non-profit organizations through year. \n6pm Food Available – Provided by\nAmerican Legion Auxiliary Park Post #23 \n7pm to 11pm  Music DAVEY JONES LOCKER\n\n\n———————————————————–\n\nSUNDAY – SEPT 1  POKER RUN \n8am to 11am Breakfast at American Legion Park Post #23 \nProvided by Sons of American Legion Riders Park Post #23 \n10am to 12noon  Poker Run Sign Up at American Legion Park Post #23\nEntry $15 per hand\nA portion of entry fee goes to local children’s non-profit organizations. \nPOKER RUN STOPS\nBank Bar ——————- Wilsall\nRingling Bar ————— Ringling\nThe Mint Bar————— Martinsdale\nOasis ———————- Harlowton\nAmer. Legion Post#19 — Big Timber\nAmer. Legion Post#23 — Livingston\n6pm Deadline to turn in your chips! \nAwards to follow\n    Door Prizes (must be present to win) \n6pm to 8pm  Dinner provided by American Legion Park Post #23
URL:https://bozone.com/event/2024-steel-horse-stampede-2024-09-01/
LOCATION:Park County Fairgrounds – Livingston\, 46 View Vista\, Livingston\, United States
CATEGORIES:Miscellanea
GEO:37.3807304;-120.7233796
X-APPLE-STRUCTURED-LOCATION;VALUE=URI;X-ADDRESS=Park County Fairgrounds – Livingston 46 View Vista Livingston United States;X-APPLE-RADIUS=500;X-TITLE=46 View Vista:geo:-120.7233796,37.3807304
END:VEVENT
BEGIN:VEVENT
DTSTART;TZID=America/Denver:20240901T100000
DTEND;TZID=America/Denver:20240901T190000
DTSTAMP:20260422T130803
CREATED:20240825T014315Z
LAST-MODIFIED:20240825T014315Z
UID:268883-1725184800-1725217200@bozone.com
SUMMARY:Gallatin County RV & Boat Show
DESCRIPTION:Join Bretz RV & Marine at the Gallatin County Fairgrounds in Bozeman for Gallatin County RV & Boat Show!\nFrom August 23 – September 2\, take advantage of huge savings on Travel Trailers\, Fifth Wheels\, Toy Haulers\, Pontoons\, Sport Boats\, and more!\n\nCost: FREE\nAge: All Ages\n  \nThis event is not hosted by the Gallatin
URL:https://bozone.com/event/gallatin-county-rv-boat-show-2024-09-01/
LOCATION:GCF – Gallatin County Fairgrounds – GCF\, 901 N Black\, Bozeman\, United States
CATEGORIES:Miscellanea
GEO:45.6885954;-111.0358461
X-APPLE-STRUCTURED-LOCATION;VALUE=URI;X-ADDRESS=GCF – Gallatin County Fairgrounds – GCF 901 N Black Bozeman United States;X-APPLE-RADIUS=500;X-TITLE=901 N Black:geo:-111.0358461,45.6885954
END:VEVENT
BEGIN:VEVENT
DTSTART;TZID=America/Denver:20240901T130000
DTEND;TZID=America/Denver:20240901T150000
DTSTAMP:20260422T130803
CREATED:20240427T221244Z
LAST-MODIFIED:20240427T221244Z
UID:260695-1725195600-1725202800@bozone.com
SUMMARY:The Bo Show
DESCRIPTION:The Bo Show\n\nCome and listen to the soulful sound of Bo! \nJun 16\, 2024\, 11:00 AM – 1:00 PM
URL:https://bozone.com/event/the-bo-show-2024-09-01/
LOCATION:Bale of Hay Saloon – Virginia City\, 344 W Wallace St\, Virginia City\, MT\, 59755\, United States
CATEGORIES:Music
GEO:39.3095135;-119.6499793
X-APPLE-STRUCTURED-LOCATION;VALUE=URI;X-ADDRESS=Bale of Hay Saloon – Virginia City 344 W Wallace St Virginia City MT 59755 United States;X-APPLE-RADIUS=500;X-TITLE=344 W Wallace St:geo:-119.6499793,39.3095135
END:VEVENT
BEGIN:VEVENT
DTSTART;TZID=America/Denver:20240901T150000
DTEND;TZID=America/Denver:20240901T170000
DTSTAMP:20260422T130803
CREATED:20240428T025538Z
LAST-MODIFIED:20240428T025538Z
UID:267023-1725202800-1725210000@bozone.com
SUMMARY:ONCE (THE MUSICAL)
DESCRIPTION:ONCE (THE MUSICAL)\n\n\n\n\n\nBy Enda Walsh \nDirected by Stephanie Burda \nAugust 23-25 and August 29-September 1 \nTickets available for season ticket holders on July 5. Tickets for the general public available on July 12. To reserve your seats\, click the button below. If you purchase tickets using your cellphone\, you will need to use the best seat available option\, which is not necessarily the best seat! It is better to use your laptop or pad which will give you the option to choose your own seat. You can also reserve tickets by calling the Blue Slipper at 406-222-7720. \nSELECT SEATS NOW \nSell tickets online with Ticketleap
URL:https://bozone.com/event/once-the-musical-2024-09-01/
LOCATION:Blue Slipper Theatre – Livingston\, 113 East Callender Street\, Livingston\, MT\, 59047\, United States
CATEGORIES:Arts & Theatre
GEO:45.6615548;-110.559691
X-APPLE-STRUCTURED-LOCATION;VALUE=URI;X-ADDRESS=Blue Slipper Theatre – Livingston 113 East Callender Street Livingston MT 59047 United States;X-APPLE-RADIUS=500;X-TITLE=113 East Callender Street:geo:-110.559691,45.6615548
END:VEVENT
END:VCALENDAR