BEGIN:VCALENDAR
VERSION:2.0
PRODID:-//The BoZone - ECPv5.12.0//NONSGML v1.0//EN
CALSCALE:GREGORIAN
METHOD:PUBLISH
X-WR-CALNAME:The BoZone
X-ORIGINAL-URL:https://bozone.com
X-WR-CALDESC:Events for The BoZone
BEGIN:VTIMEZONE
TZID:America/Denver
BEGIN:DAYLIGHT
TZOFFSETFROM:-0700
TZOFFSETTO:-0600
TZNAME:MDT
DTSTART:20240310T090000
END:DAYLIGHT
BEGIN:STANDARD
TZOFFSETFROM:-0600
TZOFFSETTO:-0700
TZNAME:MST
DTSTART:20241103T080000
END:STANDARD
END:VTIMEZONE
BEGIN:VEVENT
DTSTART;TZID=America/Denver:20240518T190000
DTEND;TZID=America/Denver:20240518T190000
DTSTAMP:20260420T021137
CREATED:20240421T212827Z
LAST-MODIFIED:20240421T212827Z
UID:259692-1716058800-1716058800@bozone.com
SUMMARY:Past Concerts on the Big Screen
DESCRIPTION:
URL:https://bozone.com/event/past-concerts-on-the-big-screen-2024-05-18/
LOCATION:The Big Sky Waypoint\, 50 Ousel Falls Road\, Big Sky\, MT\, 59716\, United States
CATEGORIES:Movies,Music
GEO:45.2600817;-111.3084077
X-APPLE-STRUCTURED-LOCATION;VALUE=URI;X-ADDRESS=The Big Sky Waypoint 50 Ousel Falls Road Big Sky MT 59716 United States;X-APPLE-RADIUS=500;X-TITLE=50 Ousel Falls Road:geo:-111.3084077,45.2600817
END:VEVENT
BEGIN:VEVENT
DTSTART;TZID=America/Denver:20240518T193000
DTEND;TZID=America/Denver:20240518T193000
DTSTAMP:20260420T021137
CREATED:20240410T174310Z
LAST-MODIFIED:20240410T174310Z
UID:259279-1716060600-1716060600@bozone.com
SUMMARY:Carmina Burana
DESCRIPTION:The Bozeman Symphony will join forces with the Bozeman Symphonic Choir and Montana State Youth Chorale to present its final classical concert of the 2023/24 season the second weekend of May\, the spectacular choral masterpiece “O\, Fortuna!” Orff’s Carmina Burana\, Carl Orff’s infamous ode to love\, drink\, and living life to the fullest.\nMusic Director Norman Huynh conducts the program\, which features the Symphony alongside renowned vocal soloists Ashley Fabian\, soprano; Andrew Owens\, tenor; and Christòpheren Nomura\, baritone. \nThe Symphonic Choir under the direction of Maren Marchesini will be featured in this massive choral work which includes the world-famous opening movement “O Fortuna\,” with text drawn from the medieval poem Carmina Burana. \nInstantly recognizable thanks to its use in countless movies and commercials\, a live Carmina is one of classical music’s most spellbinding and immersive experiences. From the explosive opening to the intimate and haunting “In Trutina\,” every note will resonate with intensity and emotion. \nPerformances are Friday\, May 17\, at 7:30 p.m.; Saturday\, May 18\, at 7:30 p.m.; and Sunday\, May 19\, at 2:30 p.m.\, at the Willson Auditorium\, 404 West Main Street in downtown Bozeman. These concerts would not be possible without the support of sponsors Cal and Tricia DeSouza\, Michael & Sharon Beehler\, Mike & Cyndi Huempfner\, and David & Kippy Sands. \nIndividual tickets are available at https://www.bozemansymphony.org/carminaburana.html or by calling the office at 406-585-9774. Adult tickets start at $29 and discounted student tickets (K-12 and college) are available.
URL:https://bozone.com/event/carmina-burana-2024-05-18/
LOCATION:Willson Auditorium\, 404 W Main\, Bozeman\, MT\, 59715\, United States
CATEGORIES:Music
GEO:45.678736;-111.042606
X-APPLE-STRUCTURED-LOCATION;VALUE=URI;X-ADDRESS=Willson Auditorium 404 W Main Bozeman MT 59715 United States;X-APPLE-RADIUS=500;X-TITLE=404 W Main:geo:-111.042606,45.678736
END:VEVENT
BEGIN:VEVENT
DTSTART;TZID=America/Denver:20240518T200000
DTEND;TZID=America/Denver:20240518T230000
DTSTAMP:20260420T021138
CREATED:20231225T003516Z
LAST-MODIFIED:20240417T183215Z
UID:250447-1716062400-1716073200@bozone.com
SUMMARY:Teen Theatre: Something Rotten!
DESCRIPTION:TEEN THEATRE: SOMETHING ROTTEN!\n\nFriday\, May 3\, 2024 – Sunday\, May 19\, 2024\n8:00pm – 11:00pm Fri\, Sat\n3:00pm  6:00pm Sun\n\n$23 – Adult\n$17 – Senior/Student/Veteran\n$11 – Youth \n\n\n\n\n\n\n\n\n\nShane Lalani Center for the Arts in Livingston presents a Teen Theatre production of Something Rotten from May 3 – 19. \nSet in the 1590s\, Something Rotten is a hilarious history-twisting musical. Brothers Nick and Nigel Bottom are desperate to write a hit play — though they find themselves stuck in the shadow of “The Bard.” Out of desperation\, they set out to write the world’s first musical. But amidst the scandalous excitement of opening night\, the brothers realize that reaching the top means being true to thine own self (and all that jazz.) \nSomething Rotten runs weekends from May 3 – 19. Performances take place in the Dulcie Theatre at the Shane Lalani Center for the Arts in Livingston. Showtimes are Fridays and Saturdays at 8 pm and Sundays at 3 pm. Tickets are $23 for adults\, $17 for seniors/students/veterans\, and $11 for youth 17 & under. Make reservations at theshanecenter.org or 406-222-1420. \nSomething Rotten is generously sponsored by Don & Marilyn Murdock\, Livingston HealthCare\, First Interstate Bank\, and Yellowstone Valley Lodge & Grill.
URL:https://bozone.com/event/teen-theatre-something-rotten-2024-05-18/
LOCATION:Shane Lalani Center for the Arts – Livingston\, 415 E. Lewis St.\, Livingston\, MT\, 59047\, United States
CATEGORIES:Arts & Theatre
GEO:45.6628503;-110.5552274
X-APPLE-STRUCTURED-LOCATION;VALUE=URI;X-ADDRESS=Shane Lalani Center for the Arts – Livingston 415 E. Lewis St. Livingston MT 59047 United States;X-APPLE-RADIUS=500;X-TITLE=415 E. Lewis St.:geo:-110.5552274,45.6628503
END:VEVENT
BEGIN:VEVENT
DTSTART;TZID=America/Denver:20240518T200000
DTEND;TZID=America/Denver:20240518T213000
DTSTAMP:20260420T021138
CREATED:20240326T172940Z
LAST-MODIFIED:20240326T172940Z
UID:260857-1716062400-1716067800@bozone.com
SUMMARY:I AND YOU
DESCRIPTION:I AND YOU\n\n\n\nBy Lauren Gunderson \nDirected by Sarah Sherman \nMay 10-12 and 17-19\, 2024 \nOne afternoon\, Anthony arrives unexpectedly at classmate Caroline’s door bearing a beat-up copy of Walt Whitman’s Leaves of Grass\, an urgent assignment from their English teacher. Homebound due to chronic illness\, Caroline hasn’t been to school in months\, but she is as quick and sardonic as Anthony is athletic\, sensitive\, and popular. As these two let down their guards and share their secrets\, this seemingly mundane poetry project unlocks a much deeper mystery that has brought them together. \nI and You is an ode to youth\, life\, love\, and the strange beauty of human connectedness. \n“…sharp and funny. Gunderson taps into a buoyant spirit … the touching ‘barbaric yawp’ (Whitman’s phrase) of these two deeply engaging kids.” Nelson Pressle\, The Washington Post \n“By the close\, Gunderson has guided us toward a sublime transfiguration that encompasses ‘Leaves of Grass\,’ John Coltrane\, Jerry Lee Lewis\, space and time\, bodies and spirits\, death and rebirth.” The New Yorker \nWatch this space for tickets!
URL:https://bozone.com/event/i-and-you-2024-05-18/
LOCATION:Blue Slipper Theatre – Livingston\, 113 East Callender Street\, Livingston\, MT\, 59047\, United States
CATEGORIES:Arts & Theatre
GEO:45.6615548;-110.559691
X-APPLE-STRUCTURED-LOCATION;VALUE=URI;X-ADDRESS=Blue Slipper Theatre – Livingston 113 East Callender Street Livingston MT 59047 United States;X-APPLE-RADIUS=500;X-TITLE=113 East Callender Street:geo:-110.559691,45.6615548
END:VEVENT
BEGIN:VEVENT
DTSTART;TZID=America/Denver:20240518T200000
DTEND;TZID=America/Denver:20240518T200000
DTSTAMP:20260420T021138
CREATED:20240428T030249Z
LAST-MODIFIED:20240428T030249Z
UID:260874-1716062400-1716062400@bozone.com
SUMMARY:Western Roots Country Dancing
DESCRIPTION:Country dancing with Western Roots Country Dancing\n8:00 PM – 12:30 AM \nLearn to line dance with Western Roots Dancing at 8pm then dance and party the night away!
URL:https://bozone.com/event/western-roots-country-dancing-2-2024-05-18/
LOCATION:Bourbon\, 515 W. Aspen Unit 102\, Bozeman\, MT\, 59715\, United States
CATEGORIES:Classes,Miscellanea,Music
GEO:45.687753;-111.0446275
X-APPLE-STRUCTURED-LOCATION;VALUE=URI;X-ADDRESS=Bourbon 515 W. Aspen Unit 102 Bozeman MT 59715 United States;X-APPLE-RADIUS=500;X-TITLE=515 W. Aspen Unit 102:geo:-111.0446275,45.687753
END:VEVENT
BEGIN:VEVENT
DTSTART;TZID=America/Denver:20240518T210000
DTEND;TZID=America/Denver:20240518T210000
DTSTAMP:20260420T021138
CREATED:20240427T170137Z
LAST-MODIFIED:20240427T170137Z
UID:260553-1716066000-1716066000@bozone.com
SUMMARY:The Disruptors
DESCRIPTION:
URL:https://bozone.com/event/the-disruptors-2-2024-05-18/
LOCATION:Eagles Bar\, 316 E Main Street\, Bozeman\, MT\, 59715\, United States
CATEGORIES:Music
GEO:45.6790336;-111.0324891
X-APPLE-STRUCTURED-LOCATION;VALUE=URI;X-ADDRESS=Eagles Bar 316 E Main Street Bozeman MT 59715 United States;X-APPLE-RADIUS=500;X-TITLE=316 E Main Street:geo:-111.0324891,45.6790336
END:VEVENT
END:VCALENDAR