BEGIN:VCALENDAR
VERSION:2.0
PRODID:-//The BoZone - ECPv5.12.0//NONSGML v1.0//EN
CALSCALE:GREGORIAN
METHOD:PUBLISH
X-WR-CALNAME:The BoZone
X-ORIGINAL-URL:https://bozone.com
X-WR-CALDESC:Events for The BoZone
BEGIN:VTIMEZONE
TZID:America/Denver
BEGIN:DAYLIGHT
TZOFFSETFROM:-0700
TZOFFSETTO:-0600
TZNAME:MDT
DTSTART:20260308T090000
END:DAYLIGHT
BEGIN:STANDARD
TZOFFSETFROM:-0600
TZOFFSETTO:-0700
TZNAME:MST
DTSTART:20261101T080000
END:STANDARD
END:VTIMEZONE
BEGIN:VEVENT
DTSTART;TZID=America/Denver:20260213T103000
DTEND;TZID=America/Denver:20260213T103000
DTSTAMP:20260421T042812
CREATED:20260210T201409Z
LAST-MODIFIED:20260210T201409Z
UID:310691-1770978600-1770978600@bozone.com
SUMMARY:Youth Valentine's Heart Painting Class
DESCRIPTION:Join us this Friday for two acrylic painting classes for students!\nWe are so excited to welcome a new teacher from Gallatin county to teach our community youth. She is a fine arts specialist and trained acrylic teacher.\nThis class will be a fun-filled and creative approach to the basics of acrylic\, where each student will be walked through painting their own unique Valentine’s candy heart. \nAll materials are provided\, $20 per student spot
URL:https://bozone.com/event/youth-valentines-heart-painting-class/
LOCATION:Studio49\, 129 South Main Street\, Livingston\, MT\, 59047\, United States
CATEGORIES:Classes,Miscellanea
END:VEVENT
END:VCALENDAR