BEGIN:VCALENDAR
VERSION:2.0
PRODID:-//The BoZone - ECPv5.12.0//NONSGML v1.0//EN
CALSCALE:GREGORIAN
METHOD:PUBLISH
X-WR-CALNAME:The BoZone
X-ORIGINAL-URL:https://bozone.com
X-WR-CALDESC:Events for The BoZone
BEGIN:VTIMEZONE
TZID:America/Denver
BEGIN:DAYLIGHT
TZOFFSETFROM:-0700
TZOFFSETTO:-0600
TZNAME:MDT
DTSTART:20260308T090000
END:DAYLIGHT
BEGIN:STANDARD
TZOFFSETFROM:-0600
TZOFFSETTO:-0700
TZNAME:MST
DTSTART:20261101T080000
END:STANDARD
END:VTIMEZONE
BEGIN:VEVENT
DTSTART;TZID=America/Denver:20260729T180000
DTEND;TZID=America/Denver:20260729T180000
DTSTAMP:20260420T055116
CREATED:20260223T015524Z
LAST-MODIFIED:20260223T015524Z
UID:311619-1785348000-1785348000@bozone.com
SUMMARY:Young the Giant w/ Cold War Kids
DESCRIPTION:KettleHouse Amphitheater on Wednesday\, July 29\, 2026 with Cold War Kids.
URL:https://bozone.com/event/young-the-giant-w-cold-war-kids/
LOCATION:KettleHouse Amphitheater – Bonner\, MT\, 605 Cold Smoke Lane\, Bonner\, MT\, 59823\, United States
CATEGORIES:Music
GEO:46.8752493;-113.8629842
X-APPLE-STRUCTURED-LOCATION;VALUE=URI;X-ADDRESS=KettleHouse Amphitheater – Bonner MT 605 Cold Smoke Lane Bonner MT 59823 United States;X-APPLE-RADIUS=500;X-TITLE=605 Cold Smoke Lane:geo:-113.8629842,46.8752493
END:VEVENT
END:VCALENDAR