BEGIN:VCALENDAR
VERSION:2.0
PRODID:-//The BoZone - ECPv5.12.0//NONSGML v1.0//EN
CALSCALE:GREGORIAN
METHOD:PUBLISH
X-WR-CALNAME:The BoZone
X-ORIGINAL-URL:https://bozone.com
X-WR-CALDESC:Events for The BoZone
BEGIN:VTIMEZONE
TZID:America/Denver
BEGIN:DAYLIGHT
TZOFFSETFROM:-0700
TZOFFSETTO:-0600
TZNAME:MDT
DTSTART:20260308T090000
END:DAYLIGHT
BEGIN:STANDARD
TZOFFSETFROM:-0600
TZOFFSETTO:-0700
TZNAME:MST
DTSTART:20261101T080000
END:STANDARD
END:VTIMEZONE
BEGIN:VEVENT
DTSTART;TZID=America/Denver:20260302T193000
DTEND;TZID=America/Denver:20260302T193000
DTSTAMP:20260422T064057
CREATED:20260226T172559Z
LAST-MODIFIED:20260226T172559Z
UID:312460-1772479800-1772479800@bozone.com
SUMMARY:Workshop Jazz Concert: directed by Ryan Matzinger
DESCRIPTION:Workshop Jazz Concert: directed by Ryan Matzinger\n 7:30pm\n\nTICKETS: $15 General\, $5 MSU Student\, PreK-12 FREE
URL:https://bozone.com/event/workshop-jazz-concert-directed-by-ryan-matzinger-3/
LOCATION:MSU Reynolds Recital Hall\, Bozeman\, United States
CATEGORIES:Music
GEO:45.6769979;-111.0429339
END:VEVENT
END:VCALENDAR