BEGIN:VCALENDAR
VERSION:2.0
PRODID:-//The BoZone - ECPv5.12.0//NONSGML v1.0//EN
CALSCALE:GREGORIAN
METHOD:PUBLISH
X-WR-CALNAME:The BoZone
X-ORIGINAL-URL:https://bozone.com
X-WR-CALDESC:Events for The BoZone
BEGIN:VTIMEZONE
TZID:America/Denver
BEGIN:DAYLIGHT
TZOFFSETFROM:-0700
TZOFFSETTO:-0600
TZNAME:MDT
DTSTART:20260308T090000
END:DAYLIGHT
BEGIN:STANDARD
TZOFFSETFROM:-0600
TZOFFSETTO:-0700
TZNAME:MST
DTSTART:20261101T080000
END:STANDARD
END:VTIMEZONE
BEGIN:VEVENT
DTSTART;TZID=America/Denver:20260110T140000
DTEND;TZID=America/Denver:20260110T170000
DTSTAMP:20260420T211928
CREATED:20251128T214923Z
LAST-MODIFIED:20251128T214923Z
UID:303087-1768053600-1768064400@bozone.com
SUMMARY:Women’s  Basketball vs Idaho Vandals
DESCRIPTION:Idaho Vandals Jan 10 – 2pm
URL:https://bozone.com/event/womens-basketball-vs-idaho-vandals/
LOCATION:Brick Breeden Fieldhouse – MSU\, 1 Bobcat Cir\, Bozeman\, MT\, 59715\, United States
CATEGORIES:Sporting Events
GEO:45.6633486;-111.0506591
X-APPLE-STRUCTURED-LOCATION;VALUE=URI;X-ADDRESS=Brick Breeden Fieldhouse – MSU 1 Bobcat Cir Bozeman MT 59715 United States;X-APPLE-RADIUS=500;X-TITLE=1 Bobcat Cir:geo:-111.0506591,45.6633486
END:VEVENT
END:VCALENDAR