BEGIN:VCALENDAR
VERSION:2.0
PRODID:-//The BoZone - ECPv5.12.0//NONSGML v1.0//EN
CALSCALE:GREGORIAN
METHOD:PUBLISH
X-WR-CALNAME:The BoZone
X-ORIGINAL-URL:https://bozone.com
X-WR-CALDESC:Events for The BoZone
BEGIN:VTIMEZONE
TZID:America/Denver
BEGIN:DAYLIGHT
TZOFFSETFROM:-0700
TZOFFSETTO:-0600
TZNAME:MDT
DTSTART:20260308T090000
END:DAYLIGHT
BEGIN:STANDARD
TZOFFSETFROM:-0600
TZOFFSETTO:-0700
TZNAME:MST
DTSTART:20261101T080000
END:STANDARD
END:VTIMEZONE
BEGIN:VEVENT
DTSTART;TZID=America/Denver:20260425T183000
DTEND;TZID=America/Denver:20260425T183000
DTSTAMP:20260424T094511
CREATED:20260422T214646Z
LAST-MODIFIED:20260422T214646Z
UID:316265-1777141800-1777141800@bozone.com
SUMMARY:Vocal Medicine Kirtan
DESCRIPTION:Vocal Medicine Kirtan on Saturday\, April 25\, 6:30-8:00pm with Kathleen Karlsen\, Jake Fleming\, Julie Southwell\, and Andrew Karlsen. Join us at 4055 Valley Commons Drive\, Bozeman\, MT. All are welcome. No prior experience required. Lyrics provided. Join us for sacred music and chanting! $15/adults\, kids 16 & under free.
URL:https://bozone.com/event/vocal-medicine-kirtan-9/
LOCATION:Strength and Grace Wellness\, 4055 Valley Commons Dr\, Ste B2\, Bozeman\, MT\, 59718\, United States
CATEGORIES:Miscellanea,Music
GEO:45.6726926;-111.0923791
X-APPLE-STRUCTURED-LOCATION;VALUE=URI;X-ADDRESS=Strength and Grace Wellness 4055 Valley Commons Dr Ste B2 Bozeman MT 59718 United States;X-APPLE-RADIUS=500;X-TITLE=4055 Valley Commons Dr\, Ste B2:geo:-111.0923791,45.6726926
END:VEVENT
END:VCALENDAR