BEGIN:VCALENDAR
VERSION:2.0
PRODID:-//The BoZone - ECPv5.12.0//NONSGML v1.0//EN
CALSCALE:GREGORIAN
METHOD:PUBLISH
X-WR-CALNAME:The BoZone
X-ORIGINAL-URL:https://bozone.com
X-WR-CALDESC:Events for The BoZone
BEGIN:VTIMEZONE
TZID:America/Denver
BEGIN:DAYLIGHT
TZOFFSETFROM:-0700
TZOFFSETTO:-0600
TZNAME:MDT
DTSTART:20260308T090000
END:DAYLIGHT
BEGIN:STANDARD
TZOFFSETFROM:-0600
TZOFFSETTO:-0700
TZNAME:MST
DTSTART:20261101T080000
END:STANDARD
END:VTIMEZONE
BEGIN:VEVENT
DTSTART;TZID=America/Denver:20260117T183000
DTEND;TZID=America/Denver:20260117T183000
DTSTAMP:20260425T105136
CREATED:20251227T022156Z
LAST-MODIFIED:20251227T022156Z
UID:303698-1768674600-1768674600@bozone.com
SUMMARY:Vocal Medicine Kirtan
DESCRIPTION:Please join us Saturday\, January 17 at 6:30pm for the first kirtan of 2026 at Strength & Grace Yoga\, 4055 Valley Commons Drive\, STE B2\, Bozeman. Kirtan is the practice of mantras\, both through listening and optional participation. Experience the bliss of sacred sound!\nAll are welcome. No prior experience required. Perfect for beginners and experienced mantra lovers. Led by Kathleen Karlsen\, Jake Fleming\, Julie Southwell\, and Andrew Karlsen. Lyrics provided. $15/person\, 16 & under are free. Info: https://kathleenkarlsen.com or 406-599-3235.
URL:https://bozone.com/event/vocal-medicine-kirtan-8/
LOCATION:Strength and Grace Wellness\, 4055 Valley Commons Dr\, Ste B2\, Bozeman\, MT\, 59718\, United States
CATEGORIES:Miscellanea,Music
GEO:45.6726926;-111.0923791
X-APPLE-STRUCTURED-LOCATION;VALUE=URI;X-ADDRESS=Strength and Grace Wellness 4055 Valley Commons Dr Ste B2 Bozeman MT 59718 United States;X-APPLE-RADIUS=500;X-TITLE=4055 Valley Commons Dr\, Ste B2:geo:-111.0923791,45.6726926
END:VEVENT
END:VCALENDAR