BEGIN:VCALENDAR
VERSION:2.0
PRODID:-//The BoZone - ECPv5.12.0//NONSGML v1.0//EN
CALSCALE:GREGORIAN
METHOD:PUBLISH
X-WR-CALNAME:The BoZone
X-ORIGINAL-URL:https://bozone.com
X-WR-CALDESC:Events for The BoZone
BEGIN:VTIMEZONE
TZID:America/Denver
BEGIN:DAYLIGHT
TZOFFSETFROM:-0700
TZOFFSETTO:-0600
TZNAME:MDT
DTSTART:20250309T090000
END:DAYLIGHT
BEGIN:STANDARD
TZOFFSETFROM:-0600
TZOFFSETTO:-0700
TZNAME:MST
DTSTART:20251102T080000
END:STANDARD
END:VTIMEZONE
BEGIN:VEVENT
DTSTART;TZID=America/Denver:20251009T170000
DTEND;TZID=America/Denver:20251009T170000
DTSTAMP:20260421T211744
CREATED:20250929T220127Z
LAST-MODIFIED:20250929T220127Z
UID:299493-1760029200-1760029200@bozone.com
SUMMARY:Virtual Author Talk - Leigh Bardugo
DESCRIPTION:Virtual Author Talk – Leigh Bardugo\nThursday\, October 09: 5:00pm – 6:00pm\n Virtual Program\nAge group:   Adults\nevent type:  Arts & Culture\n10 Years of Daring Heists and Lovable Outcasts in YA Fantasy with Leigh Bardugo
URL:https://bozone.com/event/virtual-author-talk-leigh-bardugo/
LOCATION:Virtual Event\, Bozeman\, MT\, 59715\, United States
CATEGORIES:Miscellanea
GEO:46.8796822;-110.3625658
END:VEVENT
END:VCALENDAR