BEGIN:VCALENDAR
VERSION:2.0
PRODID:-//The BoZone - ECPv5.12.0//NONSGML v1.0//EN
CALSCALE:GREGORIAN
METHOD:PUBLISH
X-WR-CALNAME:The BoZone
X-ORIGINAL-URL:https://bozone.com
X-WR-CALDESC:Events for The BoZone
BEGIN:VTIMEZONE
TZID:America/Denver
BEGIN:DAYLIGHT
TZOFFSETFROM:-0700
TZOFFSETTO:-0600
TZNAME:MDT
DTSTART:20250309T090000
END:DAYLIGHT
BEGIN:STANDARD
TZOFFSETFROM:-0600
TZOFFSETTO:-0700
TZNAME:MST
DTSTART:20251102T080000
END:STANDARD
END:VTIMEZONE
BEGIN:VEVENT
DTSTART;TZID=America/Denver:20251128T100000
DTEND;TZID=America/Denver:20251128T180000
DTSTAMP:20260423T125612
CREATED:20251128T013029Z
LAST-MODIFIED:20251128T013029Z
UID:302894-1764324000-1764352800@bozone.com
SUMMARY:Upcoming Indigenous Marketplace
DESCRIPTION:28Nov\nUpcoming \nIndigenous Marketplace\n\n Ballroom\nFriday\, 10:00 am – 6:00 pm\n\nYou are cordially invited to attend the 4th Annual Indigenous Marketplace. We are bringing Indigenous artists to Bozeman so come out and show your support…
URL:https://bozone.com/event/upcoming-indigenous-marketplace/
LOCATION:Emerson Center for Arts and Culture\, MT\, United States
CATEGORIES:Miscellanea
GEO:46.8796822;-110.3625658
END:VEVENT
END:VCALENDAR