BEGIN:VCALENDAR
VERSION:2.0
PRODID:-//The BoZone - ECPv5.12.0//NONSGML v1.0//EN
CALSCALE:GREGORIAN
METHOD:PUBLISH
X-WR-CALNAME:The BoZone
X-ORIGINAL-URL:https://bozone.com
X-WR-CALDESC:Events for The BoZone
BEGIN:VTIMEZONE
TZID:America/Denver
BEGIN:DAYLIGHT
TZOFFSETFROM:-0700
TZOFFSETTO:-0600
TZNAME:MDT
DTSTART:20260308T090000
END:DAYLIGHT
BEGIN:STANDARD
TZOFFSETFROM:-0600
TZOFFSETTO:-0700
TZNAME:MST
DTSTART:20261101T080000
END:STANDARD
END:VTIMEZONE
BEGIN:VEVENT
DTSTART;TZID=America/Denver:20260101T000100
DTEND;TZID=America/Denver:20260101T000100
DTSTAMP:20260424T074045
CREATED:20251227T004307Z
LAST-MODIFIED:20251227T004307Z
UID:303647-1767225660-1767225660@bozone.com
SUMMARY:Ultimate Book Nerd
DESCRIPTION:Read 50 books in 2026 to claim the title of Ultimate Book Nerd. This title comes with bragging rights and swag to let the world know you are a card-carrying book nerd!\nFrom January 1 – December 31\, read 50 books from the 50 categories listed on the library website. \nAttend quarterly “Meetings of the Nerds” the 2nd Thursdays of March\, June\, September\, and December 2026 and share book recommendations and discuss your favorites.
URL:https://bozone.com/event/ultimate-book-nerd/
LOCATION:Bozeman Public Library\, 626 East Main Street\, Bozeman\, MT\, 59715\, United States
CATEGORIES:Miscellanea
GEO:45.6785823;-111.0270991
X-APPLE-STRUCTURED-LOCATION;VALUE=URI;X-ADDRESS=Bozeman Public Library 626 East Main Street Bozeman MT 59715 United States;X-APPLE-RADIUS=500;X-TITLE=626 East Main Street:geo:-111.0270991,45.6785823
END:VEVENT
END:VCALENDAR