BEGIN:VCALENDAR
VERSION:2.0
PRODID:-//The BoZone - ECPv5.12.0//NONSGML v1.0//EN
CALSCALE:GREGORIAN
METHOD:PUBLISH
X-WR-CALNAME:The BoZone
X-ORIGINAL-URL:https://bozone.com
X-WR-CALDESC:Events for The BoZone
BEGIN:VTIMEZONE
TZID:America/Denver
BEGIN:DAYLIGHT
TZOFFSETFROM:-0700
TZOFFSETTO:-0600
TZNAME:MDT
DTSTART:20260308T090000
END:DAYLIGHT
BEGIN:STANDARD
TZOFFSETFROM:-0600
TZOFFSETTO:-0700
TZNAME:MST
DTSTART:20261101T080000
END:STANDARD
END:VTIMEZONE
BEGIN:VEVENT
DTSTART;TZID=America/Denver:20260508T200000
DTEND;TZID=America/Denver:20260508T200000
DTSTAMP:20260425T125120
CREATED:20260424T121141Z
LAST-MODIFIED:20260424T121141Z
UID:316525-1778270400-1778270400@bozone.com
SUMMARY:Trent Brooks Band
DESCRIPTION:MAY 8\, 2026 \nTrent Brooks Band 8pm – Close\n\nThe Trent Brooks Band brings the raw spirit of authentic country music and the rebellious edge of outlaw country to every stage. With a blend of original songs that tell stories of the American spirit\, they capture the essence of classic country while keeping it fresh and real. Whether it’s a foot-stomping honky-tonk anthem or a gritty\, soul-searching ballad\, the Trent Brooks Band delivers an unforgettable sound rooted in tradition\, with a bold new twist.
URL:https://bozone.com/event/trent-brooks-band-19/
LOCATION:Chico Hot Springs Saloon\, 163 Chico Rd\, Pray\, MT 59065\, Pray\, MT\, 59065\, United States
CATEGORIES:Music
GEO:45.3386251;-110.6922233
X-APPLE-STRUCTURED-LOCATION;VALUE=URI;X-ADDRESS=Chico Hot Springs Saloon 163 Chico Rd Pray MT 59065 Pray MT 59065 United States;X-APPLE-RADIUS=500;X-TITLE=163 Chico Rd\, Pray\, MT 59065:geo:-110.6922233,45.3386251
END:VEVENT
END:VCALENDAR