BEGIN:VCALENDAR
VERSION:2.0
PRODID:-//The BoZone - ECPv5.12.0//NONSGML v1.0//EN
CALSCALE:GREGORIAN
METHOD:PUBLISH
X-WR-CALNAME:The BoZone
X-ORIGINAL-URL:https://bozone.com
X-WR-CALDESC:Events for The BoZone
BEGIN:VTIMEZONE
TZID:America/Denver
BEGIN:DAYLIGHT
TZOFFSETFROM:-0700
TZOFFSETTO:-0600
TZNAME:MDT
DTSTART:20250309T090000
END:DAYLIGHT
BEGIN:STANDARD
TZOFFSETFROM:-0600
TZOFFSETTO:-0700
TZNAME:MST
DTSTART:20251102T080000
END:STANDARD
END:VTIMEZONE
BEGIN:VEVENT
DTSTART;TZID=America/Denver:20250804T180000
DTEND;TZID=America/Denver:20250804T180000
DTSTAMP:20260421T122010
CREATED:20250623T214652Z
LAST-MODIFIED:20250623T214652Z
UID:291573-1754330400-1754330400@bozone.com
SUMMARY:'Total Trust' - Documentary Film Night
DESCRIPTION:Explore the world with documentary films. Not all movies are suitable for all ages or sensibilities.\nTotal Trust (2023\, 97 minutes). An eye-opening and deeply disturbing documentary about surveillance technology\, abuse of power and censorship. Through the haunting stories of people in China who have been monitored\, intimidated and even tortured\, the film sparks a global debate about the dangers that Big Data and AI pose to individual freedoms. A bracing portrait of a society for whom privacy is all but extinct and a warning for democratic states employing unprecedented security tactics\, Total Trust sounds an alarm about the increasing use of surveillance tools around the world. If this is the present\, what does our future look like?
URL:https://bozone.com/event/total-trust-documentary-film-night/
LOCATION:Bozeman Public Library\, 626 East Main Street\, Bozeman\, MT\, 59715\, United States
CATEGORIES:Movies
GEO:45.6785823;-111.0270991
X-APPLE-STRUCTURED-LOCATION;VALUE=URI;X-ADDRESS=Bozeman Public Library 626 East Main Street Bozeman MT 59715 United States;X-APPLE-RADIUS=500;X-TITLE=626 East Main Street:geo:-111.0270991,45.6785823
END:VEVENT
END:VCALENDAR