BEGIN:VCALENDAR
VERSION:2.0
PRODID:-//The BoZone - ECPv5.12.0//NONSGML v1.0//EN
CALSCALE:GREGORIAN
METHOD:PUBLISH
X-WR-CALNAME:The BoZone
X-ORIGINAL-URL:https://bozone.com
X-WR-CALDESC:Events for The BoZone
BEGIN:VTIMEZONE
TZID:America/Denver
BEGIN:DAYLIGHT
TZOFFSETFROM:-0700
TZOFFSETTO:-0600
TZNAME:MDT
DTSTART:20260308T090000
END:DAYLIGHT
BEGIN:STANDARD
TZOFFSETFROM:-0600
TZOFFSETTO:-0700
TZNAME:MST
DTSTART:20261101T080000
END:STANDARD
END:VTIMEZONE
BEGIN:VEVENT
DTSTART;TZID=America/Denver:20260607T190000
DTEND;TZID=America/Denver:20260607T190000
DTSTAMP:20260420T071502
CREATED:20260329T013350Z
LAST-MODIFIED:20260329T013350Z
UID:314537-1780858800-1780858800@bozone.com
SUMMARY:Tom Catmull
DESCRIPTION:Tom Catmull\n\nSunday\, June 7\, 2026\n7:00 PM  9:00 PM\nPine Creek Lodge (map)\n\n\n\n\n\n\n\n\n\n“Imagine Lyle Lovett having a drink with John Hiatt in a club that is just salty enough to charm ya.” Tom Catmull presents an intentionally specific mix of originals and covers\, Lucinda\, Townes\, Waits\, etc. that both work and play well together. \nFREE SHOW on the outdoor Beer Garden Stage \nCar Camping is FREE for all Beer Garden Stage shows
URL:https://bozone.com/event/tom-catmull/
LOCATION:Pine Creek Lodge – LV\, 2496 East River Road\, Livingston\, United States
GEO:45.5076317;-110.5635992
X-APPLE-STRUCTURED-LOCATION;VALUE=URI;X-ADDRESS=Pine Creek Lodge – LV 2496 East River Road Livingston United States;X-APPLE-RADIUS=500;X-TITLE=2496 East River Road:geo:-110.5635992,45.5076317
END:VEVENT
END:VCALENDAR