BEGIN:VCALENDAR
VERSION:2.0
PRODID:-//The BoZone - ECPv5.12.0//NONSGML v1.0//EN
CALSCALE:GREGORIAN
METHOD:PUBLISH
X-WR-CALNAME:The BoZone
X-ORIGINAL-URL:https://bozone.com
X-WR-CALDESC:Events for The BoZone
BEGIN:VTIMEZONE
TZID:America/Denver
BEGIN:DAYLIGHT
TZOFFSETFROM:-0700
TZOFFSETTO:-0600
TZNAME:MDT
DTSTART:20260308T090000
END:DAYLIGHT
BEGIN:STANDARD
TZOFFSETFROM:-0600
TZOFFSETTO:-0700
TZNAME:MST
DTSTART:20261101T080000
END:STANDARD
END:VTIMEZONE
BEGIN:VEVENT
DTSTART;TZID=America/Denver:20260307T190000
DTEND;TZID=America/Denver:20260307T190000
DTSTAMP:20260420T230403
CREATED:20260207T235516Z
LAST-MODIFIED:20260207T235516Z
UID:308108-1772910000-1772910000@bozone.com
SUMMARY:The Man Who Saves the World? Premiere
DESCRIPTION:The Man Who Saves the World?\, directed by masterful filmmaker Gabe Polsky\, is coming to Bozeman for ONE NIGHT ONLY\, and we are thrilled to share this extraordinary film. Through humor and wonder\, the film explores themes of destiny\, synchronicity\, and the inner transformation required to create healing—both within ourselves and for the planet.\nBacked by trailblazers in Conservation and Entertainment—Jane Goodall\, Peter Farrelly\, Danny McBride\, David Gordon Green\, and Jody Hill—this is a film that transcends categories\, entertaining as powerfully as it transforms. It was just selected by The Hollywood Reporter as one of the Top 6 documentaries of the year. \nNow we invite you to experience a documentary redefining what’s possible—critics call it “wildly entertaining\,” “profoundly important\,” and “unlike anything you’ve seen before.” It currently holds a 100% rating on Rotten Tomatoes. \nFollowing sold-out screenings in Sedona\, Los Angeles\, NYC\, Portland\, Seattle\, Charleston\, and beyond\, we’re bringing this cinematic phenomenon to The Ellen Theatre in Bozeman\, Montana\, on Saturday\, March 7 at 7:00 PM\, presented by the Bozeman Film Society and Area 23a Films. \nJane Goodall says\, “Patrick McCollum is the most extraordinary person I’ve met.” \nThis wild\, hilarious\, and deeply moving journey follows Patrick McCollum—an unlikely peace advocate thrust into an Indigenous prophecy that could determine the fate of the Amazon and our planet. Part comedy\, part spiritual quest\, this film will have you laughing\, questioning\, and seeing the world through new eyes. \nExecutive Produced by Oscar-winner Peter Farrelly\, Rough House Pictures (Danny McBride)\, and Area 23a.
URL:https://bozone.com/event/the-man-who-saves-the-world-premiere/
LOCATION:The Ellen Theatre\, 17 W Main\, Bozeman\, MT\, 59715\, United States
CATEGORIES:Movies
GEO:45.6794524;-111.037852
X-APPLE-STRUCTURED-LOCATION;VALUE=URI;X-ADDRESS=The Ellen Theatre 17 W Main Bozeman MT 59715 United States;X-APPLE-RADIUS=500;X-TITLE=17 W Main:geo:-111.037852,45.6794524
END:VEVENT
END:VCALENDAR