BEGIN:VCALENDAR
VERSION:2.0
PRODID:-//The BoZone - ECPv5.12.0//NONSGML v1.0//EN
CALSCALE:GREGORIAN
METHOD:PUBLISH
X-WR-CALNAME:The BoZone
X-ORIGINAL-URL:https://bozone.com
X-WR-CALDESC:Events for The BoZone
BEGIN:VTIMEZONE
TZID:America/Denver
BEGIN:DAYLIGHT
TZOFFSETFROM:-0700
TZOFFSETTO:-0600
TZNAME:MDT
DTSTART:20250309T090000
END:DAYLIGHT
BEGIN:STANDARD
TZOFFSETFROM:-0600
TZOFFSETTO:-0700
TZNAME:MST
DTSTART:20251102T080000
END:STANDARD
END:VTIMEZONE
BEGIN:VEVENT
DTSTART;TZID=America/Denver:20251026T183000
DTEND;TZID=America/Denver:20251026T183000
DTSTAMP:20260420T140354
CREATED:20250928T133936Z
LAST-MODIFIED:20250928T133936Z
UID:298491-1761503400-1761503400@bozone.com
SUMMARY:The Addams Family
DESCRIPTION:The Addams Family\nBig Sky’s Best Young Actors Bring Spooky Fun To The Stage\n\n\n\n\n\n \n\n\n\n\n\n\n\n\n\n\nThe Addams Family\n\nOct 26 @ 3:00 pm and  6:30 pm MDT\n\n\n\n\n\n\n\n\n\n\nDon’t miss the Halloween event of the season—The Addams Family at WMPAC. Big Sky’s best young actors bring Morticia\, Gomez\, Wednesday\, and the whole kooky crew to life in this comical feast of love and family. \n\nTwo shows\n\n 3:00PM & 6:30PM \nFeaturing Big Sky’s best young actors\, this high school/middle school production brings all your favorites to the stage: Morticia and Gomez\, Uncle Fester\, Lurch\, and Wednesday Addams—played by Avery Graham (matinee) and Olivia Kameiniarz (evening). You’ll also meet Alice Beineke\, the hapless soon-to-be mother-in-law\, played by Kate O’Connor (matinee) and Maren Sigourney (evening). \nAdapted from the original New Yorker cartoon and beloved 1960s TV show\, this comical feast celebrates the wackiness in every family. \nCostumes are encouraged—kids can trick-or-treat at intermission and snap photos with the cast! \n\n\n\n\n\n\n\n\n\n\n\n\n\n\n\n\n\n\n\n\n\nGET TICKETS\n\nPresented By:\n\nBig Opportunities\n\n\n\nDetails\n75 Minutes
URL:https://bozone.com/event/the-addams-family-2/
LOCATION:Warren Miller Performing Arts Center – Big Sky\, 45465 Gallatin Road\, Gallatin Gateway\, MT\, 59730\, United States
CATEGORIES:Arts & Theatre,Miscellanea
GEO:45.2290489;-111.2522824
X-APPLE-STRUCTURED-LOCATION;VALUE=URI;X-ADDRESS=Warren Miller Performing Arts Center – Big Sky 45465 Gallatin Road Gallatin Gateway MT 59730 United States;X-APPLE-RADIUS=500;X-TITLE=45465 Gallatin Road:geo:-111.2522824,45.2290489
END:VEVENT
END:VCALENDAR