BEGIN:VCALENDAR
VERSION:2.0
PRODID:-//The BoZone - ECPv5.12.0//NONSGML v1.0//EN
CALSCALE:GREGORIAN
METHOD:PUBLISH
X-WR-CALNAME:The BoZone
X-ORIGINAL-URL:https://bozone.com
X-WR-CALDESC:Events for The BoZone
BEGIN:VTIMEZONE
TZID:America/Denver
BEGIN:DAYLIGHT
TZOFFSETFROM:-0700
TZOFFSETTO:-0600
TZNAME:MDT
DTSTART:20250309T090000
END:DAYLIGHT
BEGIN:STANDARD
TZOFFSETFROM:-0600
TZOFFSETTO:-0700
TZNAME:MST
DTSTART:20251102T080000
END:STANDARD
END:VTIMEZONE
BEGIN:VEVENT
DTSTART;TZID=America/Denver:20251024T150000
DTEND;TZID=America/Denver:20251024T170000
DTSTAMP:20260421T042540
CREATED:20250730T004734Z
LAST-MODIFIED:20250730T004734Z
UID:294780-1761318000-1761325200@bozone.com
SUMMARY:The 39th Annual Hunters Feed
DESCRIPTION:Friday October 24TH\, 2025\n3PM – 5PM\nHunters Feed is held every year on the Friday before rifle season opens. Chefs of all abilities offer up their best and most creative wild game dishes. Please use the entry form below to register your wild game dish.\nSCHEDULE OF EVENTS\n3:00 – 5:00pm\nHUNTERS FEED\nWillie’s Distillery – Live Music w/ Matt Wallin\n5:30 – 7:30pm\nWillie’s Distillery – 10th Annual Critter Call Competition and\n7:00 – 11:00pm\nSilver Dollar – Live Music\n8:00Pm\nLongBranch – Live Music\n\nSALES AND SPECIALS\nFern and Willow – 30% off entire store (all day)\nLONGBRANCH – Elk Burger Special (All Day)\nMadison Valley Public Library – Book Sale (All Day)\nPurewest – adult drawing for 1 of 4 $25 dollar gift cards to local establishments & a kids drawing for 1 of 3 pumpkins with carving kits (3-5pm)\nSphinx Mountain Saddlery – Trunk show featuring original art work by dan abernathy (all Day)
URL:https://bozone.com/event/the-39th-annual-hunters-feed/
LOCATION:Downtown Ennis\, Ennis\, MT\, United States
CATEGORIES:Miscellanea,Music
GEO:45.3491133;-111.7318796
END:VEVENT
END:VCALENDAR