BEGIN:VCALENDAR
VERSION:2.0
PRODID:-//The BoZone - ECPv5.12.0//NONSGML v1.0//EN
CALSCALE:GREGORIAN
METHOD:PUBLISH
X-WR-CALNAME:The BoZone
X-ORIGINAL-URL:https://bozone.com
X-WR-CALDESC:Events for The BoZone
BEGIN:VTIMEZONE
TZID:America/Denver
BEGIN:DAYLIGHT
TZOFFSETFROM:-0700
TZOFFSETTO:-0600
TZNAME:MDT
DTSTART:20250309T090000
END:DAYLIGHT
BEGIN:STANDARD
TZOFFSETFROM:-0600
TZOFFSETTO:-0700
TZNAME:MST
DTSTART:20251102T080000
END:STANDARD
END:VTIMEZONE
BEGIN:VEVENT
DTSTART;TZID=America/Denver:20251107T190000
DTEND;TZID=America/Denver:20251107T190000
DTSTAMP:20260421T235602
CREATED:20251027T225832Z
LAST-MODIFIED:20251027T225832Z
UID:300953-1762542000-1762542000@bozone.com
SUMMARY:TGR Presents "PRESSURE DROP" - Encore Screening
DESCRIPTION:Nov\n7\n\n\n\n\nTGR PRESENTS “PRESSURE DROP” – ENCORE SCREENING\n\n\n\n\n\n\n\nJoin us for an encore screening of TETON GRAVITY RESEARCH’S FILM\, ‘PRESSURE DROP’ \nPressure Drop is the latest chapter in a 30-year journey—forged from a dream\, fueled with cash from commercial fishing in Alaska\, and driven by an obsession with life on the edge. This film follows the world’s best skiers and snowboarders\, alongside the next generation\, through Alaskan spines\, stacked pillow lines\, massive cliffs\, giant couloirs\, deep powder\, and insane jumps. From Norway to British Columbia\, California to Alaska\, and home in Jackson Hole\, Wyoming\, each line becomes a brushstroke in the art of descent. \nThis event supports local youth ski clubs affiliated with Big Sky Ski Education Foundation. See you there! \nEarly Show \nDoors: 6:00 pm \nShowing @ 7PM \nBUY TICKETS \n\n\n\n\n\n\n\nView Event →
URL:https://bozone.com/event/tgr-presents-pressure-drop-encore-screening/
LOCATION:The Big Sky Waypoint\, 50 Ousel Falls Road\, Big Sky\, MT\, 59716\, United States
CATEGORIES:Movies
GEO:45.2600817;-111.3084077
X-APPLE-STRUCTURED-LOCATION;VALUE=URI;X-ADDRESS=The Big Sky Waypoint 50 Ousel Falls Road Big Sky MT 59716 United States;X-APPLE-RADIUS=500;X-TITLE=50 Ousel Falls Road:geo:-111.3084077,45.2600817
END:VEVENT
END:VCALENDAR