BEGIN:VCALENDAR
VERSION:2.0
PRODID:-//The BoZone - ECPv5.12.0//NONSGML v1.0//EN
CALSCALE:GREGORIAN
METHOD:PUBLISH
X-WR-CALNAME:The BoZone
X-ORIGINAL-URL:https://bozone.com
X-WR-CALDESC:Events for The BoZone
BEGIN:VTIMEZONE
TZID:America/Denver
BEGIN:DAYLIGHT
TZOFFSETFROM:-0700
TZOFFSETTO:-0600
TZNAME:MDT
DTSTART:20250309T090000
END:DAYLIGHT
BEGIN:STANDARD
TZOFFSETFROM:-0600
TZOFFSETTO:-0700
TZNAME:MST
DTSTART:20251102T080000
END:STANDARD
END:VTIMEZONE
BEGIN:VEVENT
DTSTART;TZID=America/Denver:20251018T140000
DTEND;TZID=America/Denver:20251018T170000
DTSTAMP:20260421T012137
CREATED:20250929T222611Z
LAST-MODIFIED:20250929T222611Z
UID:299511-1760796000-1760806800@bozone.com
SUMMARY:Teen Sewing Workshop - Hand Sewing Skills
DESCRIPTION:Teen Sewing Workshop – Hand Sewing Skills\nSaturday\, October 18: 2:00pm – 4:00pm\n BPL – Community Room\nAge group:   Teens\nevent type:  Teen\nLearn the basics of hand sewing\nRegister
URL:https://bozone.com/event/teen-sewing-workshop-hand-sewing-skills/
LOCATION:Bozeman Public Library\, 626 East Main Street\, Bozeman\, MT\, 59715\, United States
CATEGORIES:Miscellanea
GEO:45.6785823;-111.0270991
X-APPLE-STRUCTURED-LOCATION;VALUE=URI;X-ADDRESS=Bozeman Public Library 626 East Main Street Bozeman MT 59715 United States;X-APPLE-RADIUS=500;X-TITLE=626 East Main Street:geo:-111.0270991,45.6785823
END:VEVENT
END:VCALENDAR