BEGIN:VCALENDAR
VERSION:2.0
PRODID:-//The BoZone - ECPv5.12.0//NONSGML v1.0//EN
CALSCALE:GREGORIAN
METHOD:PUBLISH
X-WR-CALNAME:The BoZone
X-ORIGINAL-URL:https://bozone.com
X-WR-CALDESC:Events for The BoZone
BEGIN:VTIMEZONE
TZID:America/Denver
BEGIN:DAYLIGHT
TZOFFSETFROM:-0700
TZOFFSETTO:-0600
TZNAME:MDT
DTSTART:20260308T090000
END:DAYLIGHT
BEGIN:STANDARD
TZOFFSETFROM:-0600
TZOFFSETTO:-0700
TZNAME:MST
DTSTART:20261101T080000
END:STANDARD
END:VTIMEZONE
BEGIN:VEVENT
DTSTART;TZID=America/Denver:20260423T160000
DTEND;TZID=America/Denver:20260423T160000
DTSTAMP:20260420T224129
CREATED:20260416T014932Z
LAST-MODIFIED:20260416T014932Z
UID:316019-1776960000-1776960000@bozone.com
SUMMARY:Take A Hike (Learn About Climate Impacts)
DESCRIPTION:4:00-5:30pm at Burke Park Parking Lot\nJoin Dr. Mark Feige and the Campus Climate Coalition for a nature walk at Burke Park (Peets Hill) to celebrate sustainability! Learn about the tangible impacts of climate change happening in our backyard while enjoying the fresh air and local Montana scenery.
URL:https://bozone.com/event/take-a-hike-learn-about-climate-impacts/
LOCATION:Peets Hill\, Bozeman\, United States
CATEGORIES:Miscellanea,Sporting Events
GEO:45.6769979;-111.0429339
END:VEVENT
END:VCALENDAR