BEGIN:VCALENDAR
VERSION:2.0
PRODID:-//The BoZone - ECPv5.12.0//NONSGML v1.0//EN
CALSCALE:GREGORIAN
METHOD:PUBLISH
X-WR-CALNAME:The BoZone
X-ORIGINAL-URL:https://bozone.com
X-WR-CALDESC:Events for The BoZone
BEGIN:VTIMEZONE
TZID:America/Denver
BEGIN:DAYLIGHT
TZOFFSETFROM:-0700
TZOFFSETTO:-0600
TZNAME:MDT
DTSTART:20250309T090000
END:DAYLIGHT
BEGIN:STANDARD
TZOFFSETFROM:-0600
TZOFFSETTO:-0700
TZNAME:MST
DTSTART:20251102T080000
END:STANDARD
END:VTIMEZONE
BEGIN:VEVENT
DTSTART;TZID=America/Denver:20251112T190000
DTEND;TZID=America/Denver:20251112T190000
DTSTAMP:20260420T005718
CREATED:20251025T022143Z
LAST-MODIFIED:20251025T022143Z
UID:300207-1762974000-1762974000@bozone.com
SUMMARY:SymBozium
DESCRIPTION:The Future of Intelligence: Are We Ready for AGI?\nImagine a world where machines don’t just assist us—they rival or even surpass human intelligence.\nArtificial General Intelligence (AGI) isn’t just a futuristic fantasy; some experts believe it could become reality in the next 2-5 years. This seismic shift would redefine industries\, economies\, and even the fabric of human existence itself. Will AGI be humanity’s greatest ally\, or its ultimate disruption? Join us for a provocative discussion as leading thinkers unpack the thrilling possibilities—and the existential risks—of machines that can think\, learn\, and innovate just like us… or better. \nSpeakers:\nTim Lockie\, Founder\, The Human Stack\nSarah Myers West\, Co-director\, AI Now\nJohn Sheppard\, Distinguished Professor of Computer Science\, Montana State University\nCharlie Warzel\, Staff Writer\, The Atlantic \nSince 2018 SymBozium has tackled tough topics featuring subject matter experts representing varied points of view. Since then\, SymBozium has addressed challenging themes ranging from Water in the West to Artificial Intelligence. In 2019\, SymBozium was presented with the national Baker & Taylor award by United for Libraries in recognition of this innovative community program. Presented by Bozeman Library Friends and Foundation. Proudly sponsored by Element Bozeman.
URL:https://bozone.com/event/symbozium/
LOCATION:Museum of the Rockies\, 600 W Kagy Blvd\, Bozeman\, MT\, 59718\, United States
CATEGORIES:Lectures
GEO:46.8796822;-110.3625658
X-APPLE-STRUCTURED-LOCATION;VALUE=URI;X-ADDRESS=Museum of the Rockies 600 W Kagy Blvd Bozeman MT 59718 United States;X-APPLE-RADIUS=500;X-TITLE=600 W Kagy Blvd:geo:-110.3625658,46.8796822
END:VEVENT
END:VCALENDAR