BEGIN:VCALENDAR
VERSION:2.0
PRODID:-//The BoZone - ECPv5.12.0//NONSGML v1.0//EN
CALSCALE:GREGORIAN
METHOD:PUBLISH
X-WR-CALNAME:The BoZone
X-ORIGINAL-URL:https://bozone.com
X-WR-CALDESC:Events for The BoZone
BEGIN:VTIMEZONE
TZID:America/Denver
BEGIN:DAYLIGHT
TZOFFSETFROM:-0700
TZOFFSETTO:-0600
TZNAME:MDT
DTSTART:20260308T090000
END:DAYLIGHT
BEGIN:STANDARD
TZOFFSETFROM:-0600
TZOFFSETTO:-0700
TZNAME:MST
DTSTART:20261101T080000
END:STANDARD
END:VTIMEZONE
BEGIN:VEVENT
DTSTART;TZID=America/Denver:20260117T180000
DTEND;TZID=America/Denver:20260117T180000
DTSTAMP:20260423T082457
CREATED:20251229T205826Z
LAST-MODIFIED:20251229T205826Z
UID:304936-1768672800-1768672800@bozone.com
SUMMARY:Stand-Up Pop-Up Comedy Night
DESCRIPTION:STAND-UP POP-UP  COMEDY NIGHT!!!!\n\n\n\n\nOur first Stand-Up Pop-Up was such a success\, we are planning on doing it once a month! \n​The next one is January 17th\, so be sure to get here early to grab a seat and get ready to laugh your butt off! \n​NO COVER CHARGE!!!
URL:https://bozone.com/event/stand-up-pop-up-comedy-night/
LOCATION:Katabatic Brewing Company – Livingston\, 117 W Park St.\, Livingston\, 59047\, United States
CATEGORIES:Arts & Theatre,Miscellanea
GEO:45.6618765;-110.5615964
X-APPLE-STRUCTURED-LOCATION;VALUE=URI;X-ADDRESS=Katabatic Brewing Company – Livingston 117 W Park St. Livingston 59047 United States;X-APPLE-RADIUS=500;X-TITLE=117 W Park St.:geo:-110.5615964,45.6618765
END:VEVENT
END:VCALENDAR