BEGIN:VCALENDAR
VERSION:2.0
PRODID:-//The BoZone - ECPv5.12.0//NONSGML v1.0//EN
CALSCALE:GREGORIAN
METHOD:PUBLISH
X-WR-CALNAME:The BoZone
X-ORIGINAL-URL:https://bozone.com
X-WR-CALDESC:Events for The BoZone
BEGIN:VTIMEZONE
TZID:America/Denver
BEGIN:DAYLIGHT
TZOFFSETFROM:-0700
TZOFFSETTO:-0600
TZNAME:MDT
DTSTART:20250309T090000
END:DAYLIGHT
BEGIN:STANDARD
TZOFFSETFROM:-0600
TZOFFSETTO:-0700
TZNAME:MST
DTSTART:20251102T080000
END:STANDARD
END:VTIMEZONE
BEGIN:VEVENT
DTSTART;TZID=America/Denver:20251019T140000
DTEND;TZID=America/Denver:20251019T140000
DTSTAMP:20260421T134129
CREATED:20250927T033740Z
LAST-MODIFIED:20250927T033740Z
UID:298051-1760882400-1760882400@bozone.com
SUMMARY:Stained Glass 101: Mirror Webs
DESCRIPTION:It’s time to get Spooky! Create a stained glass Mirror spider web in this beginner friendly class. This class covers the copper foil method\, made famous by Lewis Tiffany. Supplies and personal instruction included. Please wear close toed shoes.
URL:https://bozone.com/event/stained-glass-101-mirror-webs/
LOCATION:Studio Wheelhouse\, 10 Evergreen Drive\, Suite B\, Bozeman\, MT\, 59715\, United States
CATEGORIES:Classes
GEO:45.6956768;-111.0351487
X-APPLE-STRUCTURED-LOCATION;VALUE=URI;X-ADDRESS=Studio Wheelhouse 10 Evergreen Drive Suite B Bozeman MT 59715 United States;X-APPLE-RADIUS=500;X-TITLE=10 Evergreen Drive\, Suite B:geo:-111.0351487,45.6956768
END:VEVENT
END:VCALENDAR