BEGIN:VCALENDAR
VERSION:2.0
PRODID:-//The BoZone - ECPv5.12.0//NONSGML v1.0//EN
CALSCALE:GREGORIAN
METHOD:PUBLISH
X-WR-CALNAME:The BoZone
X-ORIGINAL-URL:https://bozone.com
X-WR-CALDESC:Events for The BoZone
BEGIN:VTIMEZONE
TZID:America/Denver
BEGIN:DAYLIGHT
TZOFFSETFROM:-0700
TZOFFSETTO:-0600
TZNAME:MDT
DTSTART:20250309T090000
END:DAYLIGHT
BEGIN:STANDARD
TZOFFSETFROM:-0600
TZOFFSETTO:-0700
TZNAME:MST
DTSTART:20251102T080000
END:STANDARD
END:VTIMEZONE
BEGIN:VEVENT
DTSTART;TZID=America/Denver:20250808T170000
DTEND;TZID=America/Denver:20250808T170000
DTSTAMP:20260421T150507
CREATED:20250708T013536Z
LAST-MODIFIED:20250708T013536Z
UID:293732-1754672400-1754672400@bozone.com
SUMMARY:Spaghetti Western Party Craft Event
DESCRIPTION:Lets eat pasta and make some art! Come in your finest western wear and print custom lino block bandanas. A best western outfit contest with prizes for 1st\, 2nd and third will be held. Drinks and vibes will also be provided. Ticket includes one bandana and entrance into the costume contest.
URL:https://bozone.com/event/spaghetti-western-party-craft-event/
LOCATION:Studio Wheelhouse\, 10 Evergreen Drive\, Suite B\, Bozeman\, MT\, 59715\, United States
CATEGORIES:Arts & Theatre
GEO:45.6956768;-111.0351487
X-APPLE-STRUCTURED-LOCATION;VALUE=URI;X-ADDRESS=Studio Wheelhouse 10 Evergreen Drive Suite B Bozeman MT 59715 United States;X-APPLE-RADIUS=500;X-TITLE=10 Evergreen Drive\, Suite B:geo:-111.0351487,45.6956768
END:VEVENT
END:VCALENDAR