BEGIN:VCALENDAR
VERSION:2.0
PRODID:-//The BoZone - ECPv5.12.0//NONSGML v1.0//EN
CALSCALE:GREGORIAN
METHOD:PUBLISH
X-WR-CALNAME:The BoZone
X-ORIGINAL-URL:https://bozone.com
X-WR-CALDESC:Events for The BoZone
BEGIN:VTIMEZONE
TZID:America/Denver
BEGIN:DAYLIGHT
TZOFFSETFROM:-0700
TZOFFSETTO:-0600
TZNAME:MDT
DTSTART:20250309T090000
END:DAYLIGHT
BEGIN:STANDARD
TZOFFSETFROM:-0600
TZOFFSETTO:-0700
TZNAME:MST
DTSTART:20251102T080000
END:STANDARD
END:VTIMEZONE
BEGIN:VEVENT
DTSTART;TZID=America/Denver:20250601T160000
DTEND;TZID=America/Denver:20250601T200000
DTSTAMP:20260420T142322
CREATED:20250503T175744Z
LAST-MODIFIED:20250503T175744Z
UID:289493-1748793600-1748808000@bozone.com
SUMMARY:Sound Opening for HumanChanic
DESCRIPTION:In celebration of opening our new healing space\, HumanChanic is hosting an Open House with 20 min sound healing and massage sessions with a tea and espresso lounge. All ages welcome\, 4-8 pm.\nEnter Raffle to win massage session or quartz sound bowl.\nHumanchanic is an emerging healing modality that uses massage \, tools\, yoga\, and mechanical principles to treat chronic pain\, injury and trauma.
URL:https://bozone.com/event/sound-opening-for-humanchanic/
LOCATION:HumanChanic\, 2320 west Main Street suite 6\, Bozeman\, MT\, 59718\, United States
CATEGORIES:Miscellanea
GEO:45.6769808;-111.0682057
X-APPLE-STRUCTURED-LOCATION;VALUE=URI;X-ADDRESS=HumanChanic 2320 west Main Street suite 6 Bozeman MT 59718 United States;X-APPLE-RADIUS=500;X-TITLE=2320 west Main Street suite 6:geo:-111.0682057,45.6769808
END:VEVENT
END:VCALENDAR