BEGIN:VCALENDAR
VERSION:2.0
PRODID:-//The BoZone - ECPv5.12.0//NONSGML v1.0//EN
CALSCALE:GREGORIAN
METHOD:PUBLISH
X-WR-CALNAME:The BoZone
X-ORIGINAL-URL:https://bozone.com
X-WR-CALDESC:Events for The BoZone
BEGIN:VTIMEZONE
TZID:America/Denver
BEGIN:DAYLIGHT
TZOFFSETFROM:-0700
TZOFFSETTO:-0600
TZNAME:MDT
DTSTART:20260308T090000
END:DAYLIGHT
BEGIN:STANDARD
TZOFFSETFROM:-0600
TZOFFSETTO:-0700
TZNAME:MST
DTSTART:20261101T080000
END:STANDARD
END:VTIMEZONE
BEGIN:VEVENT
DTSTART;TZID=America/Denver:20260111T190000
DTEND;TZID=America/Denver:20260111T190000
DTSTAMP:20260423T134925
CREATED:20251227T014731Z
LAST-MODIFIED:20251227T014731Z
UID:303674-1768158000-1768158000@bozone.com
SUMMARY:Sober Sunday : Emma and the Ledge
DESCRIPTION:Doors open at 6:30\, show starts at 7pm\n$10 cover \nThe Gallatin Labor Temple \nAll ages \nSober Sunday is a place where people that are sober\, curious about sobriety or struggling with sobriety can come together to enjoy live music. \nEmma and the Ledge is a guitar-slinging\, blues-singing\, blues/funk fusion band inspired by Stevie Ray Vaughan\, Jimi Hendrix\, Beth Hart\, and various blues and rock greats from the ‘7Os tO ’90s. The band brings an eclectic set of originals and covers with a re-imagined twist.
URL:https://bozone.com/event/sober-sunday-emma-and-the-ledge/
LOCATION:Gallatin Labor Temple\, 422 E. Mendenhall\, Bozeman\, MT\, 59715\, United States
CATEGORIES:Music
GEO:45.6802113;-111.0312258
X-APPLE-STRUCTURED-LOCATION;VALUE=URI;X-ADDRESS=Gallatin Labor Temple 422 E. Mendenhall Bozeman MT 59715 United States;X-APPLE-RADIUS=500;X-TITLE=422 E. Mendenhall:geo:-111.0312258,45.6802113
END:VEVENT
END:VCALENDAR