BEGIN:VCALENDAR
VERSION:2.0
PRODID:-//The BoZone - ECPv5.12.0//NONSGML v1.0//EN
CALSCALE:GREGORIAN
METHOD:PUBLISH
X-WR-CALNAME:The BoZone
X-ORIGINAL-URL:https://bozone.com
X-WR-CALDESC:Events for The BoZone
BEGIN:VTIMEZONE
TZID:America/Denver
BEGIN:DAYLIGHT
TZOFFSETFROM:-0700
TZOFFSETTO:-0600
TZNAME:MDT
DTSTART:20260308T090000
END:DAYLIGHT
BEGIN:STANDARD
TZOFFSETFROM:-0600
TZOFFSETTO:-0700
TZNAME:MST
DTSTART:20261101T080000
END:STANDARD
END:VTIMEZONE
BEGIN:VEVENT
DTSTART;TZID=America/Denver:20260109T193000
DTEND;TZID=America/Denver:20260109T193000
DTSTAMP:20260421T131822
CREATED:20251227T012547Z
LAST-MODIFIED:20251227T012547Z
UID:303663-1767987000-1767987000@bozone.com
SUMMARY:Soaked & Toasted -  Bluegrass
DESCRIPTION:Soaked & Toasted\, a local bluegrass band\, will be performing at the Elks Lodge in Livingston on Friday January 9 from 7:30 to 9:30 pm. Visit www.soakedandtoastedbluegrass.com for more information.
URL:https://bozone.com/event/soaked-toasted-bluegrass/
LOCATION:Elks Lodge – Livingston\, 130 S 2nd Street\, Livingston\, MT\, United States
CATEGORIES:Music
GEO:45.6604067;-110.5612702
X-APPLE-STRUCTURED-LOCATION;VALUE=URI;X-ADDRESS=Elks Lodge – Livingston 130 S 2nd Street Livingston MT United States;X-APPLE-RADIUS=500;X-TITLE=130 S 2nd Street:geo:-110.5612702,45.6604067
END:VEVENT
END:VCALENDAR