BEGIN:VCALENDAR
VERSION:2.0
PRODID:-//The BoZone - ECPv5.12.0//NONSGML v1.0//EN
CALSCALE:GREGORIAN
METHOD:PUBLISH
X-WR-CALNAME:The BoZone
X-ORIGINAL-URL:https://bozone.com
X-WR-CALDESC:Events for The BoZone
BEGIN:VTIMEZONE
TZID:America/Denver
BEGIN:DAYLIGHT
TZOFFSETFROM:-0700
TZOFFSETTO:-0600
TZNAME:MDT
DTSTART:20250309T090000
END:DAYLIGHT
BEGIN:STANDARD
TZOFFSETFROM:-0600
TZOFFSETTO:-0700
TZNAME:MST
DTSTART:20251102T080000
END:STANDARD
END:VTIMEZONE
BEGIN:VEVENT
DTSTART;TZID=America/Denver:20251016T200000
DTEND;TZID=America/Denver:20251016T200000
DTSTAMP:20260422T031158
CREATED:20250927T142427Z
LAST-MODIFIED:20250927T142427Z
UID:298274-1760644800-1760644800@bozone.com
SUMMARY:Soaked and Toasted bluegrass jam
DESCRIPTION:Come join local bluegrass band Soaked & Toasted for a bluegrass jam and open mic at Antlers Bar in Clyde Park\, Thursday October 16\, 8:00 – 11:00 pm. Occurs third Thursday of every month.
URL:https://bozone.com/event/soaked-and-toasted-bluegrass-jam/
LOCATION:Antlers Bar – Clyde Park\, 408 1st Ave N\, Clyde Park\, MT\, 59018\, United States
CATEGORIES:Music
GEO:45.8862029;-110.6037777
X-APPLE-STRUCTURED-LOCATION;VALUE=URI;X-ADDRESS=Antlers Bar – Clyde Park 408 1st Ave N Clyde Park MT 59018 United States;X-APPLE-RADIUS=500;X-TITLE=408 1st Ave N:geo:-110.6037777,45.8862029
END:VEVENT
END:VCALENDAR