BEGIN:VCALENDAR
VERSION:2.0
PRODID:-//The BoZone - ECPv5.12.0//NONSGML v1.0//EN
CALSCALE:GREGORIAN
METHOD:PUBLISH
X-WR-CALNAME:The BoZone
X-ORIGINAL-URL:https://bozone.com
X-WR-CALDESC:Events for The BoZone
BEGIN:VTIMEZONE
TZID:America/Denver
BEGIN:DAYLIGHT
TZOFFSETFROM:-0700
TZOFFSETTO:-0600
TZNAME:MDT
DTSTART:20250309T090000
END:DAYLIGHT
BEGIN:STANDARD
TZOFFSETFROM:-0600
TZOFFSETTO:-0700
TZNAME:MST
DTSTART:20251102T080000
END:STANDARD
END:VTIMEZONE
BEGIN:VEVENT
DTSTART;TZID=America/Denver:20251121T180000
DTEND;TZID=America/Denver:20251121T180000
DTSTAMP:20260423T015349
CREATED:20251114T214840Z
LAST-MODIFIED:20251114T214840Z
UID:302073-1763748000-1763748000@bozone.com
SUMMARY:Small Gems
DESCRIPTION:The Livingston Center for Art and Culture will celebrate the holiday season by hosting its annual holiday exhibit\, Small Gems. Featuring small-format works by local and regional artists\, each work is unique\, affordable and ready to gift.\nThe exhibition will be on display from November 11th to December 31st. Meet participating artists at a Reception on Friday\, November 21st\, from 6-8pm – during the Winter Art Walk. And\, stop in during the Livingston Christmas Stroll on Friday\, December 5th. The Center is located at 119 South Main Street in historic downtown Livingston. For more information\, contact the Center at (406) 222-5222 or visit http://www.livingstoncenter.org/
URL:https://bozone.com/event/small-gems/
LOCATION:Livingston Center for Art and Culture\, 119 S Main Street\, Livingston\, United States
CATEGORIES:Arts & Theatre
GEO:45.6606745;-110.5589017
X-APPLE-STRUCTURED-LOCATION;VALUE=URI;X-ADDRESS=Livingston Center for Art and Culture 119 S Main Street Livingston United States;X-APPLE-RADIUS=500;X-TITLE=119 S Main Street:geo:-110.5589017,45.6606745
END:VEVENT
END:VCALENDAR