BEGIN:VCALENDAR
VERSION:2.0
PRODID:-//The BoZone - ECPv5.12.0//NONSGML v1.0//EN
CALSCALE:GREGORIAN
METHOD:PUBLISH
X-WR-CALNAME:The BoZone
X-ORIGINAL-URL:https://bozone.com
X-WR-CALDESC:Events for The BoZone
BEGIN:VTIMEZONE
TZID:America/Denver
BEGIN:DAYLIGHT
TZOFFSETFROM:-0700
TZOFFSETTO:-0600
TZNAME:MDT
DTSTART:20250309T090000
END:DAYLIGHT
BEGIN:STANDARD
TZOFFSETFROM:-0600
TZOFFSETTO:-0700
TZNAME:MST
DTSTART:20251102T080000
END:STANDARD
END:VTIMEZONE
BEGIN:VEVENT
DTSTART;TZID=America/Denver:20251024T200000
DTEND;TZID=America/Denver:20251024T200000
DTSTAMP:20260420T173144
CREATED:20250928T121924Z
LAST-MODIFIED:20250928T122153Z
UID:298455-1761336000-1761336000@bozone.com
SUMMARY:SKULL AND ROSES BALL
DESCRIPTION:Oct\n24\n\n\n\n\nSKULL AND ROSES BALL\n\n\n\n\n\n\n\nKick off Big Sky’s Haunted Peaks Festival weekend with the 4th Annual Skull & Roses Ball. 710 Ashbury is back to help us “raise the dead” with two full sets of Grateful Dead covers! Costumes a highly encouraged and prizes will be awarded in the following categories: Skull & Roses King\, Skull & Roses Queen\, People’s Choice\, and best Dead (Grateful Dead referenced) costumes. \nCome early and have dinner upstairs at the Waypoint. Then get ready to dance the night away to live music. \nOCTOBER 24 \nDOORS: 8PM\nSHOW STARTS: 9PM\n21+ ONLY \nTICKETS\n$30 – Advance (available online until NOON\, Friday\, October 24)\n$40 – Door (Limited tickets available) \nBUY NOW \n710 Ashbury is a 4-piece band from Helena\, Montana committed to preserving the legacy of the Grateful Dead. The members of 710 are all long standing musicians in the Helena music scene and are all committed to improvisational music. We all know there is nothing like a Grateful Dead concert but we can capture the enthusiasm and spirit…and we’ll keep working on it until we get it just exactly perfect.
URL:https://bozone.com/event/skull-and-roses-ball/
LOCATION:The Big Sky Waypoint\, 50 Ousel Falls Road\, Big Sky\, MT\, 59716\, United States
CATEGORIES:Miscellanea,Music
GEO:45.2600817;-111.3084077
X-APPLE-STRUCTURED-LOCATION;VALUE=URI;X-ADDRESS=The Big Sky Waypoint 50 Ousel Falls Road Big Sky MT 59716 United States;X-APPLE-RADIUS=500;X-TITLE=50 Ousel Falls Road:geo:-111.3084077,45.2600817
END:VEVENT
END:VCALENDAR