BEGIN:VCALENDAR
VERSION:2.0
PRODID:-//The BoZone - ECPv5.12.0//NONSGML v1.0//EN
CALSCALE:GREGORIAN
METHOD:PUBLISH
X-WR-CALNAME:The BoZone
X-ORIGINAL-URL:https://bozone.com
X-WR-CALDESC:Events for The BoZone
BEGIN:VTIMEZONE
TZID:America/Denver
BEGIN:DAYLIGHT
TZOFFSETFROM:-0700
TZOFFSETTO:-0600
TZNAME:MDT
DTSTART:20260308T090000
END:DAYLIGHT
BEGIN:STANDARD
TZOFFSETFROM:-0600
TZOFFSETTO:-0700
TZNAME:MST
DTSTART:20261101T080000
END:STANDARD
END:VTIMEZONE
BEGIN:VEVENT
DTSTART;TZID=America/Denver:20260421T190000
DTEND;TZID=America/Denver:20260421T190000
DTSTAMP:20260420T155151
CREATED:20260412T025355Z
LAST-MODIFIED:20260412T025355Z
UID:315719-1776798000-1776798000@bozone.com
SUMMARY:Shaman's Circle
DESCRIPTION:Practice skills\, deepen connections to Source and divine helpers\, an grow community!Tuesday\, April 21\, 7-9pm. This group is only open to adults who have received basic training in shamanic journeying. Please check with the facilitator\, Shaun\, at 406-580-0562 to determine whether you’ve received the required basic training. $30 suggested contribution. RSVP required.
URL:https://bozone.com/event/shamans-circle-8/
LOCATION:TBD\, MT\, United States
CATEGORIES:Miscellanea
GEO:46.8796822;-110.3625658
END:VEVENT
END:VCALENDAR